{"text_format":"1","workbook":"xlsx","n_sheets":32,"sheets":["Ranking Sheet","Rank Wkst","Final Placement","Announcers Form","Point Summary","Team1","Team2","Team3","Team4","Team5","Team6","Team7","Team8","Team9","Team10","Team11","Team12","Team13","Team14","Team15","Team16","Team17","Team18","Team19","Team20","Team21","Team22","Team23","Team24","Superior Judge Recap","Score Summary","Judges Names"],"not_rendered":{"charts":0,"images":0,"macros":1,"external_links":0,"defined_names":57,"comments":1,"pivot_tables":0},"unopened":[],"bounds":{"document_bytes":16777216,"sheet_cells":100000,"rows_first":2000,"rows_last":500,"rows_between":2000,"halvings":0,"cell_chars":16384,"cell_head_chars":4096},"cells_cut":0,"cells_raw":0,"read":"whole","date_system":"1900"}

{"sheet":"Ranking Sheet","index":0,"n_rows":37,"n_cols":17,"rows_kept":37,"cut":false,"hidden":false,"merged":[[34,1,34,3],[34,14,34,15],[31,1,31,3],[31,14,31,15],[32,1,32,3],[32,14,32,15],[33,1,33,3],[33,14,33,15],[36,0,36,2],[36,9,36,11],[3,0,3,16],[4,0,4,16],[28,14,28,15],[29,14,29,15],[30,14,30,15],[23,14,23,15],[24,14,24,15],[25,14,25,15],[26,14,26,15],[27,14,27,15],[18,14,18,15],[19,14,19,15],[20,14,20,15],[21,14,21,15],[22,14,22,15],[15,14,15,15],[13,1,13,3],[1,13,1,14],[16,14,16,15],[17,14,17,15],[1,15,1,16],[8,14,10,15],[11,14,11,15],[12,14,12,15],[30,1,30,3],[25,1,25,3],[1,0,1,1],[23,1,23,3],[1,6,1,11],[14,1,14,3],[15,1,15,3],[6,6,6,7],[6,10,6,11],[7,10,8,11],[13,14,13,15],[8,16,10,16],[6,13,7,15],[20,1,20,3],[21,1,21,3],[6,12,10,12],[9,6,9,7],[9,8,9,9],[6,0,8,3],[14,14,14,15],[1,2,1,3],[26,1,26,3],[27,1,27,3],[28,1,28,3],[19,1,19,3],[16,1,16,3],[17,1,17,3],[18,1,18,3],[12,1,12,3],[11,1,11,3],[1,4,1,5],[8,13,10,13],[6,16,7,16],[7,6,8,7],[7,8,8,9],[9,4,9,5],[7,4,8,5],[9,10,9,11],[6,8,6,9],[10,0,10,3],[9,0,9,3],[6,4,6,5],[29,1,29,3],[22,1,22,3],[24,1,24,3]]}
[]
["MEET DATE",null,null,null,"MEET SITE",null,null,null,null,null,null,null,"CLASS",null,null,"High Kick Category"]
[]
["Minnesota State High School League Dance Team Competition"]
["Judges Ranking Sheet - \"C\" RANK SYSTEM (4 or less judges)"]
[]
["Judges →",null,null,null,"Judge 1",null,"Judge 2",null,"Judge 3",null,"Judge 4",null,"Add Together All of The Ranks","TIE BREAKER",null,null,"Final\nPlacement"]
[]
[null,null,null,null,null,null,null,null,null,null,null,null,null,"Add Points of all the Judges","New Total Rank"]
["Judges Initials →"]
["School",null,null,null,"Points","Rank","Points","Rank","Points","Rank","Points","Rank"]
[1,null,null,null,{"$f":"'Rank Wkst'!C8","v":""},{"$f":"'Rank Wkst'!G8","v":""},{"$f":"'Rank Wkst'!H8","v":""},{"$f":"'Rank Wkst'!L8","v":""},{"$f":"'Rank Wkst'!M8","v":""},{"$f":"'Rank Wkst'!Q8","v":""},{"$f":"'Rank Wkst'!R8","v":""},{"$f":"'Rank Wkst'!V8","v":""},{"$f":"'Rank Wkst'!Y8","v":""},{"$f":"IF('Rank Wkst'!AC8>1, 'Rank Wkst'!AF8, \"\")","v":""},{"$f":"IF(AND('Rank Wkst'!AC8>1, E12<>\"DQ\"), 'Rank Wkst'!AK8, \"\")","v":""},null,{"$f":"IF('Rank Wkst'!W8<>0,'Rank Wkst'!AN8, \"\")","v":""}]
[2,null,null,null,{"$f":"'Rank Wkst'!C9","v":""},{"$f":"'Rank Wkst'!G9","v":""},{"$f":"'Rank Wkst'!H9","v":""},{"$f":"'Rank Wkst'!L9","v":""},{"$f":"'Rank Wkst'!M9","v":""},{"$f":"'Rank Wkst'!Q9","v":""},{"$f":"'Rank Wkst'!R9","v":""},{"$f":"'Rank Wkst'!V9","v":""},{"$f":"'Rank Wkst'!Y9","v":""},{"$f":"IF('Rank Wkst'!AC9>1, 'Rank Wkst'!AF9, \"\")","v":""},{"$f":"IF(AND('Rank Wkst'!AC9>1, E13<>\"DQ\"), 'Rank Wkst'!AK9, \"\")","v":""},null,{"$f":"IF('Rank Wkst'!W9<>0,'Rank Wkst'!AN9, \"\")","v":""}]
[3,null,null,null,{"$f":"'Rank Wkst'!C10","v":""},{"$f":"'Rank Wkst'!G10","v":""},{"$f":"'Rank Wkst'!H10","v":""},{"$f":"'Rank Wkst'!L10","v":""},{"$f":"'Rank Wkst'!M10","v":""},{"$f":"'Rank Wkst'!Q10","v":""},{"$f":"'Rank Wkst'!R10","v":""},{"$f":"'Rank Wkst'!V10","v":""},{"$f":"'Rank Wkst'!Y10","v":""},{"$f":"IF('Rank Wkst'!AC10>1, 'Rank Wkst'!AF10, \"\")","v":""},{"$f":"IF(AND('Rank Wkst'!AC10>1, E14<>\"DQ\"), 'Rank Wkst'!AK10, \"\")","v":""},null,{"$f":"IF('Rank Wkst'!W10<>0,'Rank Wkst'!AN10, \"\")","v":""}]
[4,null,null,null,{"$f":"'Rank Wkst'!C11","v":""},{"$f":"'Rank Wkst'!G11","v":""},{"$f":"'Rank Wkst'!H11","v":""},{"$f":"'Rank Wkst'!L11","v":""},{"$f":"'Rank Wkst'!M11","v":""},{"$f":"'Rank Wkst'!Q11","v":""},{"$f":"'Rank Wkst'!R11","v":""},{"$f":"'Rank Wkst'!V11","v":""},{"$f":"'Rank Wkst'!Y11","v":""},{"$f":"IF('Rank Wkst'!AC11>1, 'Rank Wkst'!AF11, \"\")","v":""},{"$f":"IF(AND('Rank Wkst'!AC11>1, E15<>\"DQ\"), 'Rank Wkst'!AK11, \"\")","v":""},null,{"$f":"IF('Rank Wkst'!W11<>0,'Rank Wkst'!AN11, \"\")","v":""}]
[5,null,null,null,{"$f":"'Rank Wkst'!C12","v":""},{"$f":"'Rank Wkst'!G12","v":""},{"$f":"'Rank Wkst'!H12","v":""},{"$f":"'Rank Wkst'!L12","v":""},{"$f":"'Rank Wkst'!M12","v":""},{"$f":"'Rank Wkst'!Q12","v":""},{"$f":"'Rank Wkst'!R12","v":""},{"$f":"'Rank Wkst'!V12","v":""},{"$f":"'Rank Wkst'!Y12","v":""},{"$f":"IF('Rank Wkst'!AC12>1, 'Rank Wkst'!AF12, \"\")","v":""},{"$f":"IF(AND('Rank Wkst'!AC12>1, E16<>\"DQ\"), 'Rank Wkst'!AK12, \"\")","v":""},null,{"$f":"IF('Rank Wkst'!W12<>0,'Rank Wkst'!AN12, \"\")","v":""}]
[6,null,null,null,{"$f":"'Rank Wkst'!C13","v":""},{"$f":"'Rank Wkst'!G13","v":""},{"$f":"'Rank Wkst'!H13","v":""},{"$f":"'Rank Wkst'!L13","v":""},{"$f":"'Rank Wkst'!M13","v":""},{"$f":"'Rank Wkst'!Q13","v":""},{"$f":"'Rank Wkst'!R13","v":""},{"$f":"'Rank Wkst'!V13","v":""},{"$f":"'Rank Wkst'!Y13","v":""},{"$f":"IF('Rank Wkst'!AC13>1, 'Rank Wkst'!AF13, \"\")","v":""},{"$f":"IF(AND('Rank Wkst'!AC13>1, E17<>\"DQ\"), 'Rank Wkst'!AK13, \"\")","v":""},null,{"$f":"IF('Rank Wkst'!W13<>0,'Rank Wkst'!AN13, \"\")","v":""}]
[7,null,null,null,{"$f":"'Rank Wkst'!C14","v":""},{"$f":"'Rank Wkst'!G14","v":""},{"$f":"'Rank Wkst'!H14","v":""},{"$f":"'Rank Wkst'!L14","v":""},{"$f":"'Rank Wkst'!M14","v":""},{"$f":"'Rank Wkst'!Q14","v":""},{"$f":"'Rank Wkst'!R14","v":""},{"$f":"'Rank Wkst'!V14","v":""},{"$f":"'Rank Wkst'!Y14","v":""},{"$f":"IF('Rank Wkst'!AC14>1, 'Rank Wkst'!AF14, \"\")","v":""},{"$f":"IF(AND('Rank Wkst'!AC14>1, E18<>\"DQ\"), 'Rank Wkst'!AK14, \"\")","v":""},null,{"$f":"IF('Rank Wkst'!W14<>0,'Rank Wkst'!AN14, \"\")","v":""}]
[8,null,null,null,{"$f":"'Rank Wkst'!C15","v":""},{"$f":"'Rank Wkst'!G15","v":""},{"$f":"'Rank Wkst'!H15","v":""},{"$f":"'Rank Wkst'!L15","v":""},{"$f":"'Rank Wkst'!M15","v":""},{"$f":"'Rank Wkst'!Q15","v":""},{"$f":"'Rank Wkst'!R15","v":""},{"$f":"'Rank Wkst'!V15","v":""},{"$f":"'Rank Wkst'!Y15","v":""},{"$f":"IF('Rank Wkst'!AC15>1, 'Rank Wkst'!AF15, \"\")","v":""},{"$f":"IF(AND('Rank Wkst'!AC15>1, E19<>\"DQ\"), 'Rank Wkst'!AK15, \"\")","v":""},null,{"$f":"IF('Rank Wkst'!W15<>0,'Rank Wkst'!AN15, \"\")","v":""}]
[9,null,null,null,{"$f":"'Rank Wkst'!C16","v":""},{"$f":"'Rank Wkst'!G16","v":""},{"$f":"'Rank Wkst'!H16","v":""},{"$f":"'Rank Wkst'!L16","v":""},{"$f":"'Rank Wkst'!M16","v":""},{"$f":"'Rank Wkst'!Q16","v":""},{"$f":"'Rank Wkst'!R16","v":""},{"$f":"'Rank Wkst'!V16","v":""},{"$f":"'Rank Wkst'!Y16","v":""},{"$f":"IF('Rank Wkst'!AC16>1, 'Rank Wkst'!AF16, \"\")","v":""},{"$f":"IF(AND('Rank Wkst'!AC16>1, E20<>\"DQ\"), 'Rank Wkst'!AK16, \"\")","v":""},null,{"$f":"IF('Rank Wkst'!W16<>0,'Rank Wkst'!AN16, \"\")","v":""}]
[10,null,null,null,{"$f":"'Rank Wkst'!C17","v":""},{"$f":"'Rank Wkst'!G17","v":""},{"$f":"'Rank Wkst'!H17","v":""},{"$f":"'Rank Wkst'!L17","v":""},{"$f":"'Rank Wkst'!M17","v":""},{"$f":"'Rank Wkst'!Q17","v":""},{"$f":"'Rank Wkst'!R17","v":""},{"$f":"'Rank Wkst'!V17","v":""},{"$f":"'Rank Wkst'!Y17","v":""},{"$f":"IF('Rank Wkst'!AC17>1, 'Rank Wkst'!AF17, \"\")","v":""},{"$f":"IF(AND('Rank Wkst'!AC17>1, E21<>\"DQ\"), 'Rank Wkst'!AK17, \"\")","v":""},null,{"$f":"IF('Rank Wkst'!W17<>0,'Rank Wkst'!AN17, \"\")","v":""}]
[11,null,null,null,{"$f":"'Rank Wkst'!C18","v":""},{"$f":"'Rank Wkst'!G18","v":""},{"$f":"'Rank Wkst'!H18","v":""},{"$f":"'Rank Wkst'!L18","v":""},{"$f":"'Rank Wkst'!M18","v":""},{"$f":"'Rank Wkst'!Q18","v":""},{"$f":"'Rank Wkst'!R18","v":""},{"$f":"'Rank Wkst'!V18","v":""},{"$f":"'Rank Wkst'!Y18","v":""},{"$f":"IF('Rank Wkst'!AC18>1, 'Rank Wkst'!AF18, \"\")","v":""},{"$f":"IF(AND('Rank Wkst'!AC18>1, E22<>\"DQ\"), 'Rank Wkst'!AK18, \"\")","v":""},null,{"$f":"IF('Rank Wkst'!W18<>0,'Rank Wkst'!AN18, \"\")","v":""}]
[12,null,null,null,{"$f":"'Rank Wkst'!C19","v":""},{"$f":"'Rank Wkst'!G19","v":""},{"$f":"'Rank Wkst'!H19","v":""},{"$f":"'Rank Wkst'!L19","v":""},{"$f":"'Rank Wkst'!M19","v":""},{"$f":"'Rank Wkst'!Q19","v":""},{"$f":"'Rank Wkst'!R19","v":""},{"$f":"'Rank Wkst'!V19","v":""},{"$f":"'Rank Wkst'!Y19","v":""},{"$f":"IF('Rank Wkst'!AC19>1, 'Rank Wkst'!AF19, \"\")","v":""},{"$f":"IF(AND('Rank Wkst'!AC19>1, E23<>\"DQ\"), 'Rank Wkst'!AK19, \"\")","v":""},null,{"$f":"IF('Rank Wkst'!W19<>0,'Rank Wkst'!AN19, \"\")","v":""}]
[13,null,null,null,{"$f":"'Rank Wkst'!C20","v":""},{"$f":"'Rank Wkst'!G20","v":""},{"$f":"'Rank Wkst'!H20","v":""},{"$f":"'Rank Wkst'!L20","v":""},{"$f":"'Rank Wkst'!M20","v":""},{"$f":"'Rank Wkst'!Q20","v":""},{"$f":"'Rank Wkst'!R20","v":""},{"$f":"'Rank Wkst'!V20","v":""},{"$f":"'Rank Wkst'!Y20","v":""},{"$f":"IF('Rank Wkst'!AC20>1, 'Rank Wkst'!AF20, \"\")","v":""},{"$f":"IF(AND('Rank Wkst'!AC20>1, E24<>\"DQ\"), 'Rank Wkst'!AK20, \"\")","v":""},null,{"$f":"IF('Rank Wkst'!W20<>0,'Rank Wkst'!AN20, \"\")","v":""}]
[14,null,null,null,{"$f":"'Rank Wkst'!C21","v":""},{"$f":"'Rank Wkst'!G21","v":""},{"$f":"'Rank Wkst'!H21","v":""},{"$f":"'Rank Wkst'!L21","v":""},{"$f":"'Rank Wkst'!M21","v":""},{"$f":"'Rank Wkst'!Q21","v":""},{"$f":"'Rank Wkst'!R21","v":""},{"$f":"'Rank Wkst'!V21","v":""},{"$f":"'Rank Wkst'!Y21","v":""},{"$f":"IF('Rank Wkst'!AC21>1, 'Rank Wkst'!AF21, \"\")","v":""},{"$f":"IF(AND('Rank Wkst'!AC21>1, E25<>\"DQ\"), 'Rank Wkst'!AK21, \"\")","v":""},null,{"$f":"IF('Rank Wkst'!W21<>0,'Rank Wkst'!AN21, \"\")","v":""}]
[15,null,null,null,{"$f":"'Rank Wkst'!C22","v":""},{"$f":"'Rank Wkst'!G22","v":""},{"$f":"'Rank Wkst'!H22","v":""},{"$f":"'Rank Wkst'!L22","v":""},{"$f":"'Rank Wkst'!M22","v":""},{"$f":"'Rank Wkst'!Q22","v":""},{"$f":"'Rank Wkst'!R22","v":""},{"$f":"'Rank Wkst'!V22","v":""},{"$f":"'Rank Wkst'!Y22","v":""},{"$f":"IF('Rank Wkst'!AC22>1, 'Rank Wkst'!AF22, \"\")","v":""},{"$f":"IF(AND('Rank Wkst'!AC22>1, E26<>\"DQ\"), 'Rank Wkst'!AK22, \"\")","v":""},null,{"$f":"IF('Rank Wkst'!W22<>0,'Rank Wkst'!AN22, \"\")","v":""}]
[16,null,null,null,{"$f":"'Rank Wkst'!C23","v":""},{"$f":"'Rank Wkst'!G23","v":""},{"$f":"'Rank Wkst'!H23","v":""},{"$f":"'Rank Wkst'!L23","v":""},{"$f":"'Rank Wkst'!M23","v":""},{"$f":"'Rank Wkst'!Q23","v":""},{"$f":"'Rank Wkst'!R23","v":""},{"$f":"'Rank Wkst'!V23","v":""},{"$f":"'Rank Wkst'!Y23","v":""},{"$f":"IF('Rank Wkst'!AC23>1, 'Rank Wkst'!AF23, \"\")","v":""},{"$f":"IF(AND('Rank Wkst'!AC23>1, E27<>\"DQ\"), 'Rank Wkst'!AK23, \"\")","v":""},null,{"$f":"IF('Rank Wkst'!W23<>0,'Rank Wkst'!AN23, \"\")","v":""}]
[17,null,null,null,{"$f":"'Rank Wkst'!C24","v":""},{"$f":"'Rank Wkst'!G24","v":""},{"$f":"'Rank Wkst'!H24","v":""},{"$f":"'Rank Wkst'!L24","v":""},{"$f":"'Rank Wkst'!M24","v":""},{"$f":"'Rank Wkst'!Q24","v":""},{"$f":"'Rank Wkst'!R24","v":""},{"$f":"'Rank Wkst'!V24","v":""},{"$f":"'Rank Wkst'!Y24","v":""},{"$f":"IF('Rank Wkst'!AC24>1, 'Rank Wkst'!AF24, \"\")","v":""},{"$f":"IF(AND('Rank Wkst'!AC24>1, E28<>\"DQ\"), 'Rank Wkst'!AK24, \"\")","v":""},null,{"$f":"IF('Rank Wkst'!W24<>0,'Rank Wkst'!AN24, \"\")","v":""}]
[18,null,null,null,{"$f":"'Rank Wkst'!C25","v":""},{"$f":"'Rank Wkst'!G25","v":""},{"$f":"'Rank Wkst'!H25","v":""},{"$f":"'Rank Wkst'!L25","v":""},{"$f":"'Rank Wkst'!M25","v":""},{"$f":"'Rank Wkst'!Q25","v":""},{"$f":"'Rank Wkst'!R25","v":""},{"$f":"'Rank Wkst'!V25","v":""},{"$f":"'Rank Wkst'!Y25","v":""},{"$f":"IF('Rank Wkst'!AC25>1, 'Rank Wkst'!AF25, \"\")","v":""},{"$f":"IF(AND('Rank Wkst'!AC25>1, E29<>\"DQ\"), 'Rank Wkst'!AK25, \"\")","v":""},null,{"$f":"IF('Rank Wkst'!W25<>0,'Rank Wkst'!AN25, \"\")","v":""}]
[19,null,null,null,{"$f":"'Rank Wkst'!C26","v":""},{"$f":"'Rank Wkst'!G26","v":""},{"$f":"'Rank Wkst'!H26","v":""},{"$f":"'Rank Wkst'!L26","v":""},{"$f":"'Rank Wkst'!M26","v":""},{"$f":"'Rank Wkst'!Q26","v":""},{"$f":"'Rank Wkst'!R26","v":""},{"$f":"'Rank Wkst'!V26","v":""},{"$f":"'Rank Wkst'!Y26","v":""},{"$f":"IF('Rank Wkst'!AC26>1, 'Rank Wkst'!AF26, \"\")","v":""},{"$f":"IF(AND('Rank Wkst'!AC26>1, E30<>\"DQ\"), 'Rank Wkst'!AK26, \"\")","v":""},null,{"$f":"IF('Rank Wkst'!W26<>0,'Rank Wkst'!AN26, \"\")","v":""}]
[20,null,null,null,{"$f":"'Rank Wkst'!C27","v":""},{"$f":"'Rank Wkst'!G27","v":""},{"$f":"'Rank Wkst'!H27","v":""},{"$f":"'Rank Wkst'!L27","v":""},{"$f":"'Rank Wkst'!M27","v":""},{"$f":"'Rank Wkst'!Q27","v":""},{"$f":"'Rank Wkst'!R27","v":""},{"$f":"'Rank Wkst'!V27","v":""},{"$f":"'Rank Wkst'!Y27","v":""},{"$f":"IF('Rank Wkst'!AC27>1, 'Rank Wkst'!AF27, \"\")","v":""},{"$f":"IF(AND('Rank Wkst'!AC27>1, E31<>\"DQ\"), 'Rank Wkst'!AK27, \"\")","v":""},null,{"$f":"IF('Rank Wkst'!W27<>0,'Rank Wkst'!AN27, \"\")","v":""}]
[21,null,null,null,{"$f":"'Rank Wkst'!C28","v":""},{"$f":"'Rank Wkst'!G28","v":""},{"$f":"'Rank Wkst'!H28","v":""},{"$f":"'Rank Wkst'!L28","v":""},{"$f":"'Rank Wkst'!M28","v":""},{"$f":"'Rank Wkst'!Q28","v":""},{"$f":"'Rank Wkst'!R28","v":""},{"$f":"'Rank Wkst'!V28","v":""},{"$f":"'Rank Wkst'!Y28","v":""},{"$f":"IF('Rank Wkst'!AC28>1, 'Rank Wkst'!AF28, \"\")","v":""},{"$f":"IF(AND('Rank Wkst'!AC28>1, E32<>\"DQ\"), 'Rank Wkst'!AK28, \"\")","v":""},null,{"$f":"IF('Rank Wkst'!W28<>0,'Rank Wkst'!AN28, \"\")","v":""}]
[22,null,null,null,{"$f":"'Rank Wkst'!C29","v":""},{"$f":"'Rank Wkst'!G29","v":""},{"$f":"'Rank Wkst'!H29","v":""},{"$f":"'Rank Wkst'!L29","v":""},{"$f":"'Rank Wkst'!M29","v":""},{"$f":"'Rank Wkst'!Q29","v":""},{"$f":"'Rank Wkst'!R29","v":""},{"$f":"'Rank Wkst'!V29","v":""},{"$f":"'Rank Wkst'!Y29","v":""},{"$f":"IF('Rank Wkst'!AC29>1, 'Rank Wkst'!AF29, \"\")","v":""},{"$f":"IF(AND('Rank Wkst'!AC29>1, E33<>\"DQ\"), 'Rank Wkst'!AK29, \"\")","v":""},null,{"$f":"IF('Rank Wkst'!W29<>0,'Rank Wkst'!AN29, \"\")","v":""}]
[23,null,null,null,{"$f":"'Rank Wkst'!C30","v":""},{"$f":"'Rank Wkst'!G30","v":""},{"$f":"'Rank Wkst'!H30","v":""},{"$f":"'Rank Wkst'!L30","v":""},{"$f":"'Rank Wkst'!M30","v":""},{"$f":"'Rank Wkst'!Q30","v":""},{"$f":"'Rank Wkst'!R30","v":""},{"$f":"'Rank Wkst'!V30","v":""},{"$f":"'Rank Wkst'!Y30","v":""},{"$f":"IF('Rank Wkst'!AC30>1, 'Rank Wkst'!AF30, \"\")","v":""},{"$f":"IF(AND('Rank Wkst'!AC30>1, E34<>\"DQ\"), 'Rank Wkst'!AK30, \"\")","v":""},null,{"$f":"IF('Rank Wkst'!W30<>0,'Rank Wkst'!AN30, \"\")","v":""}]
[24,null,null,null,{"$f":"'Rank Wkst'!C31","v":""},{"$f":"'Rank Wkst'!G31","v":""},{"$f":"'Rank Wkst'!H31","v":""},{"$f":"'Rank Wkst'!L31","v":""},{"$f":"'Rank Wkst'!M31","v":""},{"$f":"'Rank Wkst'!Q31","v":""},{"$f":"'Rank Wkst'!R31","v":""},{"$f":"'Rank Wkst'!V31","v":""},{"$f":"'Rank Wkst'!Y31","v":""},{"$f":"IF('Rank Wkst'!AC31>1, 'Rank Wkst'!AF31, \"\")","v":""},{"$f":"IF(AND('Rank Wkst'!AC31>1, E35<>\"DQ\"), 'Rank Wkst'!AK31, \"\")","v":""},null,{"$f":"IF('Rank Wkst'!W31<>0,'Rank Wkst'!AN31, \"\")","v":""}]
[]
["Superior Judge Signature:",null,null,null,null,null,null,null,null,"Tabulation Signature:"]

{"sheet":"Rank Wkst","index":1,"n_rows":52,"n_cols":141,"rows_kept":52,"cut":false,"hidden":true,"merged":[[4,98,4,103],[5,95,6,95],[5,96,5,99],[5,100,5,103],[5,1,6,1],[5,12,5,16],[4,2,4,6],[5,2,5,6],[4,7,4,11],[5,75,5,92],[5,59,5,68],[5,30,5,36],[5,17,5,21],[5,26,5,29],[4,12,4,16],[5,22,6,22],[5,7,5,11],[4,17,4,21],[5,37,6,37],[4,61,4,68],[5,58,6,58]]}
[]
[]
[]
[null,null,null,null,null,null,null,null,null,null,null,null,null,null,null,null,null,null,null,null,null,null,null,null,null,null,null,null,null,null,null,null,null,null,null,null,null,null,null,null,null,null,null,null,null,null,null,null,null,null,null,null,null,null,null,null,null,null,"Point Summary Sheet",null,null,null,null,null,null,null,null,null,null,null,null,null,null,null,null,null,null,null,null,null,null,null,null,null,null,null,null,null,null,null,null,null,null,null,null,"Team Score Summary Sheet",null,null,null,null,null,null,null,null,null,null,null,null,null,null,null,null,null,null,null,"Superior Judge Sheet"]
[null,null,"Judge 1",null,null,null,null,"Judge 2",null,null,null,null,"Judge 3",null,null,null,null,"Judge 4",null,null,null,null,null,null,null,null,null,null,null,null,null,null,null,null,null,null,null,null,null,null,null,null,null,null,null,null,null,null,null,null,null,null,null,null,null,null,null,null,null,null,null,null,null,null,null,null,null,null,null,null,null,null,null,null,null,null,null,null,null,null,null,null,null,null,null,null,null,null,null,null,null,null,null,null,null,null,null,null,null,null,null,null,null,null,null,null,null,null,null,"Rank needed for Superior Judge Recap",null,null,null,null,null,"Ranks",null,null,null,null,null,null,null,null,null,null,"Scores"]
[null,"School",{"$f":"'Ranking Sheet'!E8","v":0},null,null,null,null,{"$f":"'Ranking Sheet'!G8","v":0},null,null,null,null,{"$f":"'Ranking Sheet'!I8","v":0},null,null,null,null,{"$f":"'Ranking Sheet'!K8","v":0},null,null,null,null,"Total Rank",null,null,null,"Sub-total Placement",null,null,null,"Tie-breaker C Rank",null,null,null,null,null,null,"Final\nFinal Place",null,null,null,null,null,null,null,null,null,null,null,null,null,null,null,null,null,null,null,null,"School","Points",null,null,null,null,null,null,null,null,null,null,null,null,null,null,null,"In Final Order",null,null,null,null,null,null,null,null,null,null,null,null,null,null,null,null,null,null,null,"School","Judges Scores",null,null,null,"Judges Scores (Low to High)",null,null,null,null,null,null,null,null,null,null,null,null,null,null,null,null,null,null,null,null,null,null,null,null,null,null,null,null,null,null,null,null,null,null,null,null,null,"Website"]
["Team",null,"Points","Initial Rank","Ties","Rank","Rank DQ show dash","Points","Initial Rank","Ties","Rank","Rank DQ show dash","Points","Initial Rank","Ties","Rank","Rank DQ show dash","Points","Initial Rank","Ties","Rank","Rank DQ show dash",null,"Total Rank If = to zero make null?","Total Rank  If > 100 (rank 25 x 4 judges), put dash","First Rank","Working Final Place","Final final","Ties","Final Rank","Total Points","if=0 make null","New Formula Points","Eliminate extra ranks","Ties","Ties with 0.5 ","1st tie break Remove extra non-values",null,"If greater than 25 rank than =null","if DQ put DQ instead of rank","Placements in order 1st - 24th","Final Placementwith a DQ","Schools in order 1st - 24th but error on any ties","Assigning the ties a specific number to get all schools listed - old order","removing error - old order","ranking with #NUM shown - ranking order","Ranking schools from top to bottom -- for Final placements & announcers form","Calling out Tie but need to get rid of \"99\"","Getting rid of a possible TIE on DQs","Putting TIE on Final Place & Announc","Final Ranking score in order","Final Ranking score for announcers form","Announcers form - if tie breaker is used","Annou form correct order","Annou form correct order no error","Annou form eliminating showing when no scores",null,"Team",null,"Technique of Kicks","Kick Height","Creativity","Visual Effectiveness","Diffuculty of Routine Choreography","Difficulty of Formations and Transitions","Difficulty of Kicks","Placement & Control","Degree of Accuracy","Routine Effectiveness","SubTotal","(Deductions)","Total","Out of Total Points",null,"Rank perform order with DQ","Rank in order with DQ","Adding TIE","Schools in order","Technique of Kicks","Kick Height","Creativity","Visual Effectiveness","Diffuculty of Routine Choreography","Difficulty of Formations and Transitions","Difficulty of Kicks","Placement & Control","Degree of Accuracy","Routine Effectiveness","SubTotal","(Deductions)","Total","Out of Total Points","Rank Points",null,"Team",null,"Judge 1 Score","Judge 2 Score","Judge 3 Score","Judge 4 Score","Score 1 (lowest)","Score 2","Score 3","Score 4 (Highest)","SubTotal","(Deductions)","Total","Out of Total Points",null,"Total Rank","Low Rank","High Rank","Low Points","High Points",null,"Judge 1 rank","Judge 2 rank","Judge 3 rank","Judge 4 rank","Min Rank (Best)","Max Rank (Worst)","Rank Spread","2nd best rank","Rank Spread with 2nd best rank","2nd worst rank","Rank Spread with 2nd worst rank","Judge 1 Score","Judge 2 Score","Judge 3 Score","Judge 4 Score","Low Points","High Points","Point Spread","2nd Lowest Points","Point Spread with 2nd lowest points","2nd Highest Points","Point Spread with 2nd highest points",null,"Putting the information together on one line"]
[1,{"$f":"IF('Ranking Sheet'!B12=0, \"\", 'Ranking Sheet'!B12)","v":""},{"$f":"IF(Team1!$D$21=0,\"\",Team1!$D$21)","v":""},{"$f":"IF(C8=\"DQ\", 98, IF(C8=\"\", \"\", RANK(C8,C$8:C$31,0)))","v":""},{"$f":"IF(C8=\"\", \"\", COUNTIF(D$8:D$31,D8))","v":""},{"$f":"IF(C8=\"\", \"\", (((D8+E8-1)*((D8+E8-1)+1)/2)-((D8-1)*((D8-1)+1)/2))/E8)","v":""},{"$f":"IF(F8=\"\", \"\", IF(F8>25, \"-\", F8))","v":""},{"$f":"IF(Team1!$E$21=0, \"\", Team1!$E$21)","v":""},{"$f":"IF(H8=\"DQ\",98,IF(H8=\"\",\"\",RANK(H8,H$8:H$31,0)))","v":""},{"$f":"IF(H8=\"\", \"\", COUNTIF(I$8:I$31,I8))","v":""},{"$f":"IF(H8=\"\", \"\", (((I8+J8-1)*((I8+J8-1)+1)/2)-((I8-1)*((I8-1)+1)/2))/J8)","v":""},{"$f":"IF(K8=\"\", \"\", IF(K8>25, \"-\", K8))","v":""},{"$f":"IF(Team1!$F$21=0, \"\", Team1!$F$21)","v":""},{"$f":"IF(M8=\"DQ\", 98, IF(M8=\"\", \"\", RANK(M8,M$8:M$317,0)))","v":""},{"$f":"IF(M8=\"\", \"\", COUNTIF(N$8:N$31,N8))","v":""},{"$f":"IF(M8=\"\", \"\", (((N8+O8-1)*((N8+O8-1)+1)/2)-((N8-1)*((N8-1)+1)/2))/O8)","v":""},{"$f":"IF(P8=\"\", \"\", IF(P8>25, \"-\", P8))","v":""},{"$f":"IF(Team1!$G$21=0, \"\", Team1!$G$21)","v":""},{"$f":"IF(R8=\"DQ\", 98, IF(R8=\"\", \"\", RANK(R8,R$8:R$31,0)))","v":""},{"$f":"IF(R8=\"\", \"\", COUNTIF(S$8:S$31,S8))","v":""},{"$f":"IF(R8=\"\", \"\", (((S8+T8-1)*((S8+T8-1)+1)/2)-((S8-1)*((S8-1)+1)/2))/T8)","v":""},{"$f":"IF(U8=\"\", \"\", IF(U8>25, \"-\", U8))","v":""},{"$f":"SUM(F8,K8,P8,U8)","v":0},{"$f":" IF(W8=0, \"\",W8)","v":""},{"$f":"IF(X8=\"\", \"\", IF(X8>100, \"-\", X8))","v":""},{"$f":"RANK(X8,X$8:X$31,1)","v":{"$error":"#VALUE!"}},{"$f":"IF(AND(ISNUMBER(W8),W8<>0),RANK(W8,W$8:W$31,1),99)","v":99},{"$f":"AA8-(SMALL(AA$8:AA$31,1))+1","v":1},{"$f":"COUNTIF(Z$8:Z$31,Z8)","v":24},{"$f":"(((Z8+AC8-1)*((Z8+AC8-1)+1)/2)-((Z8-1)*((Z8-1)+1)/2))/AC8","v":{"$error":"#VALUE!"}},{"$f":"SUM(C8,H8,M8,R8)","v":0},{"$f":"IF(AE8=0, \"\", AE8)","v":""},{"$f":"1+SUMPRODUCT(--($AB$8:$AB$31+1-$AE$8:$AE$31/1000000<$AB8+1-$AE8/1000000))","v":1},{"$f":"IF(L8=\"\", \"\", AG8)","v":""},{"$f":"COUNTIF(AG$8:AG$31,AG8)","v":24},{"$f":"(((AG8+AI8-1)*((AG8+AI8-1)+1)/2)-((AG8-1)*((AG8-1)+1)/2))/AI8","v":12.5},{"$f":"IF(X8=\"\", \"\", AJ8)","v":""},{"$f":"IF(ISNUMBER(AK8),AK8,IF(ISNUMBER(AD8),AD8,AB8))","v":1},{"$f":"IF(AL8>25, \"\", AL8)","v":1},{"$f":"IF(C8=\"DQ\", \"DQ\", AM8 )","v":1},{"$f":"IF(AM8=\"\", \"\", SMALL(AM$8:AM$31, 1))","v":1},{"$f":"IF(W8<>0, INDEX($AN$8:$AN$31,MATCH(AO8,$AM$8:$AM$31,FALSE),1), \"\")","v":""},{"$f":"IF(AM8=\"\", \"\", OFFSET(B$8,MATCH(SMALL(AM$8:AM$31,ROW()-ROW(AM$8)+1),AM$8:AM$31,0)-1,0))","v":""},{"$f":"COUNT($AM$8:$AM$31)-(RANK(AM8,$AM$8:$AM$31,0)+COUNTIF(AM$8:$AM8,AM8))+2","v":24},{"$f":"IF(ISERROR(AR8), \" \", AR8)","v":24},{"$f":"OFFSET(B$8,MATCH(SMALL(AS$8:AS$31,ROW()-ROW(AT$8)+1),AS$8:AS$31,0)-1,0)","v":""},{"$f":"IF(C8=\"\", \"\", IF(ISERROR(AT8), \" \", AT8))","v":""},{"$f":"IF(COUNTIF($AO$8:$AO$31,AO8)>1,\"TIE\",\"\")","v":"TIE"},{"$f":"IF(AP8=\"DQ\", \"\", AV8)","v":"TIE"},{"$f":"IF(W8<>0, IF(AO8=\"\",\"\",AW8), \"\")","v":""},{"$f":"OFFSET(Y$8,MATCH(SMALL(AS$8:AS$31,ROW()-ROW(AT$8)+1),AS$8:AS$31,0)-1,0)","v":""},{"$f":"IF(ISERROR(AY8), \" \", AY8)","v":""},{"$f":"IF(AND(AC8>1, AN8<>\"DQ\"), \"*\", \"\")","v":"*"},{"$f":"OFFSET(BA$8,MATCH(SMALL(AS$8:AS$31,ROW()-ROW(AT$8)+1),AS$8:AS$31,0)-1,0)","v":"*"},{"$f":"IF(ISERROR(BB8), \" \", BB8)","v":"*"},{"$f":"IF(C8=\"\", \"\", BC8)","v":""},null,1,{"$f":"IF('Ranking Sheet'!B12=0, \"\", 'Ranking Sheet'!B12)","v":""},{"$f":"IF(Team1!$H$9=0, \"\", Team1!$H$9)","v":""},{"$f":"IF(Team1!$H$10=0, \"\", Team1!$H$10)","v":""},{"$f":"IF(Team1!$H$11=0, \"\", Team1!$H$11)","v":""},{"$f":"IF(Team1!$H$12=0, \"\", Team1!$H$12)","v":""},{"$f":"IF(Team1!$H$13=0, \"\", Team1!$H$13)","v":""},{"$f":"IF(Team1!$H$14=0, \"\", Team1!$H$14)","v":""},{"$f":"IF(Team1!$H$15=0, \"\", Team1!$H$15)","v":""},{"$f":"IF(Team1!$H$16=0, \"\", Team1!$H$16)","v":""},{"$f":"IF(Team1!$H$17=0, \"\", Team1!$H$17)","v":""},{"$f":"IF(Team1!$H$18=0, \"\", Team1!$H$18)","v":""},{"$f":"IF(Team1!$H$19=0, \"\", Team1!$H$19)","v":""},{"$f":"IF(Team1!$H$20=0, \"\", Team1!$H$20)","v":""},{"$f":"IF(Team1!$H$21=0, \"\", Team1!$H$21)","v":""},{"$f":"IF(Team1!$J$21=0, \"\", Team1!$J$21)","v":""},null,{"$f":"AN8","v":1},{"$f":"AP8","v":""},{"$f":"AX8","v":""},{"$f":"AU8","v":""},{"$f":"IF(X8=\"\", \"\", OFFSET(BH$8,MATCH(SMALL('Rank Wkst'!AS$8:AS$31,ROW()-ROW(AS$8)+1),AS$8:AS$31,0)-1,0))","v":""},{"$f":"IF(X8=\"\", \"\", OFFSET(BI$8,MATCH(SMALL('Rank Wkst'!AS$8:AS$31,ROW()-ROW(AS$8)+1),AS$8:AS$31,0)-1,0))","v":""},{"$f":"IF(X8=\"\", \"\", OFFSET(BJ$8,MATCH(SMALL('Rank Wkst'!AS$8:AS$31,ROW()-ROW(AS$8)+1),AS$8:AS$31,0)-1,0))","v":""},{"$f":"IF(X8=\"\", \"\", OFFSET(BK$8,MATCH(SMALL('Rank Wkst'!AS$8:AS$31,ROW()-ROW(AS$8)+1),AS$8:AS$31,0)-1,0))","v":""},{"$f":"IF(X8=\"\", \"\", OFFSET(BL$8,MATCH(SMALL('Rank Wkst'!AS$8:AS$31,ROW()-ROW(AS$8)+1),AS$8:AS$31,0)-1,0))","v":""},{"$f":"IF(X8=\"\", \"\", OFFSET(BM$8,MATCH(SMALL('Rank Wkst'!AS$8:AS$31,ROW()-ROW(AS$8)+1),AS$8:AS$31,0)-1,0))","v":""},{"$f":"IF(X8=\"\", \"\", OFFSET(BN$8,MATCH(SMALL('Rank Wkst'!AS$8:AS$31,ROW()-ROW(AS$8)+1),AS$8:AS$31,0)-1,0))","v":""},{"$f":"IF(X8=\"\", \"\", OFFSET(BO$8,MATCH(SMALL('Rank Wkst'!AS$8:AS$31,ROW()-ROW(AS$8)+1),AS$8:AS$31,0)-1,0))","v":""},{"$f":"IF(X8=\"\", \"\", OFFSET(BP$8,MATCH(SMALL('Rank Wkst'!AS$8:AS$31,ROW()-ROW(AS$8)+1),AS$8:AS$31,0)-1,0))","v":""},{"$f":"IF(X8=\"\", \"\", OFFSET(BQ$8,MATCH(SMALL('Rank Wkst'!AS$8:AS$31,ROW()-ROW(AS$8)+1),AS$8:AS$31,0)-1,0))","v":""},{"$f":"IF(X8=\"\", \"\", OFFSET(BR$8,MATCH(SMALL('Rank Wkst'!AS$8:AS$31,ROW()-ROW(AS$8)+1),AS$8:AS$31,0)-1,0))","v":""},{"$f":"IF(X8=\"\", \"\", OFFSET(BS$8,MATCH(SMALL('Rank Wkst'!AS$8:AS$31,ROW()-ROW(AS$8)+1),AS$8:AS$31,0)-1,0))","v":""},{"$f":"IF(X8=\"\", \"\", OFFSET(BT$8,MATCH(SMALL('Rank Wkst'!AS$8:AS$31,ROW()-ROW(AS$8)+1),AS$8:AS$31,0)-1,0))","v":""},{"$f":"IF(X8=\"\", \"\", OFFSET(BU$8,MATCH(SMALL('Rank Wkst'!AS$8:AS$31,ROW()-ROW(AS$8)+1),AS$8:AS$31,0)-1,0))","v":""},{"$f":"AZ8","v":""},null,1,{"$f":"IF('Ranking Sheet'!B12=0, \"\", 'Ranking Sheet'!B12)","v":""},{"$f":"C8","v":""},{"$f":"H8","v":""},{"$f":"M8","v":""},{"$f":"R8","v":""},{"$f":"IF(CS8=\"DQ\",\"DQ\", IF(CS8=\"\", \"\", SMALL(CS8:CV8,1)))","v":""},{"$f":"IF(CS8=\"DQ\",\"DQ\",IF(CS8=\"\",\"\",SMALL(CS8:CV8,2)))","v":""},{"$f":"IF(CS8=\"DQ\",\"DQ\",IF(CS8=\"\",\"\",SMALL(CS8:CV8,3)))","v":""},{"$f":"IF(CS8=\"DQ\",\"DQ\", IF(CS8=\"\", \"\",SMALL(CS8:CV8,4)))","v":""},{"$f":"CK8","v":""},{"$f":"CL8","v":""},{"$f":"CM8","v":""},{"$f":"CN8","v":""},null,{"$f":"SUM(F8,K8,P8,U8)","v":0},{"$f":"MIN(F8,K8,P8,U8)","v":0},{"$f":"MAX(F8,K8,P8,U8)","v":0},{"$f":"MIN(C8,H8,M8,R8)","v":0},{"$f":"MAX(C8,H8,M8,R8)","v":0},null,{"$f":"IF(AN8=\"DQ\", \"DQ\", F8)","v":""},{"$f":"IF(AN8=\"DQ\", \"DQ\", K8)","v":""},{"$f":"IF(AN8=\"DQ\", \"DQ\", P8)","v":""},{"$f":"IF(AN8=\"DQ\", \"DQ\", U8)","v":""},{"$f":"IF(AN8=\"DQ\", \"DQ\", IF(DL8=\"\", \"\", MIN(F8,K8,P8,U8)))","v":""},{"$f":"IF(AN8=\"DQ\", \"DQ\", IF(DL8=\"\", \"\", MAX(F8,K8,P8,U8)))","v":""},{"$f":"IF(AN8=\"DQ\", \"DQ\", IF(DL8=\"\", \"\", DQ8-DP8))","v":""},{"$f":"IF(AN8=\"DQ\", \"DQ\", IF(DL8=\"\", \"\", SMALL(DL8:DO8,2)))","v":""},{"$f":"IF(AN8=\"DQ\", \"DQ\", IF(DL8=\"\", \"\", DQ8-DS8))","v":""},{"$f":"IF(AN8=\"DQ\",\"DQ\",IF(DL8=\"\",\"\",SMALL(DL8:DO8,3)))","v":""},{"$f":"IF(AN8=\"DQ\", \"DQ\", IF(DL8=\"\", \"\",DU8-DP8))","v":""},{"$f":" IF(AN8=\"DQ\", \"DQ\",C8)","v":""},{"$f":" IF(AN8=\"DQ\", \"DQ\",H8)","v":""},{"$f":" IF(AN8=\"DQ\", \"DQ\", M8)","v":""},{"$f":" IF(AN8=\"DQ\", \"DQ\",R8)","v":""},{"$f":"IF(AN8=\"DQ\", \"DQ\", IF(DL8=\"\", \"\", MIN(C8,H8,M8,R8)))","v":""},{"$f":"IF(AN8=\"DQ\", \"DQ\", IF(DL8=\"\", \"\", MAX(C8,H8,M8,R8)))","v":""},{"$f":"IF(AN8=\"DQ\", \"DQ\", IF(DL8=\"\", \"\", EB8-EA8))","v":""},{"$f":"IF(AN8=\"DQ\", \"DQ\", IF(DW8=\"\", \"\", SMALL(DW8:DZ8,2)))","v":""},{"$f":"IF(AN8=\"DQ\", \"DQ\", IF(DW8=\"\", \"\", EB8-ED8))","v":""},{"$f":"IF(AN8=\"DQ\", \"DQ\", IF(DW8=\"\", \"\", SMALL(DW8:DZ8,3)))","v":""},{"$f":"IF(AN8=\"DQ\", \"DQ\", IF(DW8=\"\", \"\",EF8-EA8))","v":""},null,{"$f":"CONCATENATE(BX8,\",\",BY8,\",\",BZ8,\",\",CA8,\",\",CB8,\",\",CC8,\",\",CD8,\",\",CE8,\",\",)","v":",,,,,,,,"},{"$f":"CONCATENATE(CF8,\",\",CG8,\",\",CH8,\",\",CI8,\",\",CJ8,\",\",CK8,\",\",CL8,\",\",CM8,\",\",\"/\",\",\",CN8,\",\",CO8)","v":",,,,,,,,/,,"},{"$f":"CONCATENATE(EI8,EJ8)","v":",,,,,,,,,,,,,,,,/,,"}]
[2,{"$f":"IF('Ranking Sheet'!B13=0, \"\", 'Ranking Sheet'!B13)","v":""},{"$f":"IF(Team2!$D$21=0,\"\",Team2!$D$21)","v":""},{"$f":"IF(C9=\"DQ\", 98, IF(C9=\"\", \"\", RANK(C9,C$8:C$31,0)))","v":""},{"$f":"IF(C9=\"\", \"\", COUNTIF(D$8:D$31,D9))","v":""},{"$f":"IF(C9=\"\", \"\", (((D9+E9-1)*((D9+E9-1)+1)/2)-((D9-1)*((D9-1)+1)/2))/E9)","v":""},{"$f":"IF(F9=\"\", \"\", IF(F9>25, \"-\", F9))","v":""},{"$f":"IF(Team2!$E$21=0, \"\", Team2!$E$21)","v":""},{"$f":"IF(H9=\"DQ\",98,IF(H9=\"\",\"\",RANK(H9,H$8:H$31,0)))","v":""},{"$f":"IF(H9=\"\", \"\", COUNTIF(I$8:I$31,I9))","v":""},{"$f":"IF(H9=\"\", \"\", (((I9+J9-1)*((I9+J9-1)+1)/2)-((I9-1)*((I9-1)+1)/2))/J9)","v":""},{"$f":"IF(K9=\"\", \"\", IF(K9>25, \"-\", K9))","v":""},{"$f":"IF(Team2!$F$21=0, \"\", Team2!$F$21)","v":""},{"$f":"IF(M9=\"DQ\", 98, IF(M9=\"\", \"\", RANK(M9,M$8:M$317,0)))","v":""},{"$f":"IF(M9=\"\", \"\", COUNTIF(N$8:N$31,N9))","v":""},{"$f":"IF(M9=\"\", \"\", (((N9+O9-1)*((N9+O9-1)+1)/2)-((N9-1)*((N9-1)+1)/2))/O9)","v":""},{"$f":"IF(P9=\"\", \"\", IF(P9>25, \"-\", P9))","v":""},{"$f":"IF(Team2!$G$21=0, \"\", Team2!$G$21)","v":""},{"$f":"IF(R9=\"DQ\", 98, IF(R9=\"\", \"\", RANK(R9,R$8:R$31,0)))","v":""},{"$f":"IF(R9=\"\", \"\", COUNTIF(S$8:S$31,S9))","v":""},{"$f":"IF(R9=\"\", \"\", (((S9+T9-1)*((S9+T9-1)+1)/2)-((S9-1)*((S9-1)+1)/2))/T9)","v":""},{"$f":"IF(U9=\"\", \"\", IF(U9>25, \"-\", U9))","v":""},{"$f":"SUM(F9,K9,P9,U9)","v":0},{"$f":" IF(W9=0, \"\",W9)","v":""},{"$f":"IF(X9=\"\", \"\", IF(X9>100, \"-\", X9))","v":""},{"$f":"RANK(X9,X$8:X$31,1)","v":{"$error":"#VALUE!"}},{"$f":"IF(AND(ISNUMBER(W9),W9<>0),RANK(W9,W$8:W$31,1),99)","v":99},{"$f":"AA9-(SMALL(AA$8:AA$31,1))+1","v":1},{"$f":"COUNTIF(Z$8:Z$31,Z9)","v":24},{"$f":"(((Z9+AC9-1)*((Z9+AC9-1)+1)/2)-((Z9-1)*((Z9-1)+1)/2))/AC9","v":{"$error":"#VALUE!"}},{"$f":"SUM(C9,H9,M9,R9)","v":0},"",{"$f":"1+SUMPRODUCT(--($AB$8:$AB$31+1-$AE$8:$AE$31/1000000<$AB9+1-$AE9/1000000))","v":1},{"$f":"IF(L9=\"\", \"\", AG9)","v":""},{"$f":"COUNTIF(AG$8:AG$31,AG9)","v":24},12.5,{"$f":"IF(X9=\"\", \"\", AJ9)","v":""},{"$f":"IF(ISNUMBER(AK9),AK9,IF(ISNUMBER(AD9),AD9,AB9))","v":1},{"$f":"IF(AL9>25, \"\", AL9)","v":1},1,{"$f":"IF(AM9=\"\", \"\", SMALL(AM$8:AM$31, 2))","v":1},{"$f":"IF(W9<>0, INDEX($AN$8:$AN$31,MATCH(AO9,$AM$8:$AM$31,FALSE),1), \"\")","v":""},"",{"$f":"COUNT($AM$8:$AM$31)-(RANK(AM9,$AM$8:$AM$31,0)+COUNTIF(AM$8:$AM9,AM9))+2","v":23},{"$f":"IF(ISERROR(AR9), \" \", AR9)","v":23},{"$f":"OFFSET(B$8,MATCH(SMALL(AS$8:AS$31,ROW()-ROW(AT$8)+1),AS$8:AS$31,0)-1,0)","v":""},{"$f":"IF(C9=\"\", \"\", IF(ISERROR(AT9), \" \", AT9))","v":""},{"$f":"IF(COUNTIF($AO$8:$AO$31,AO9)>1,\"TIE\",\"\")","v":"TIE"},{"$f":"IF(AP9=\"DQ\", \"\", AV9)","v":"TIE"},{"$f":"IF(W9<>0, IF(AO9=\"\",\"\",AW9), \"\")","v":""},{"$f":"OFFSET(Y$8,MATCH(SMALL(AS$8:AS$31,ROW()-ROW(AT$8)+1),AS$8:AS$31,0)-1,0)","v":""},{"$f":"IF(ISERROR(AY9), \" \", AY9)","v":""},{"$f":"IF(AND(AC9>1, AN9<>\"DQ\"), \"*\", \"\")","v":"*"},{"$f":"OFFSET(BA$8,MATCH(SMALL(AS$8:AS$31,ROW()-ROW(AT$8)+1),AS$8:AS$31,0)-1,0)","v":"*"},{"$f":"IF(ISERROR(BB9), \" \", BB9)","v":"*"},{"$f":"IF(C9=\"\", \"\", BC9)","v":""},null,2,{"$f":"IF('Ranking Sheet'!B13=0, \"\", 'Ranking Sheet'!B13)","v":""},{"$f":"IF(Team2!$H$9=0, \"\", Team2!$H$9)","v":""},{"$f":"IF(Team2!$H$10=0, \"\", Team2!$H$10)","v":""},{"$f":"IF(Team2!$H$11=0, \"\", Team2!$H$11)","v":""},{"$f":"IF(Team2!$H$12=0, \"\", Team2!$H$12)","v":""},{"$f":"IF(Team2!$H$13=0, \"\", Team2!$H$13)","v":""},{"$f":"IF(Team2!$H$14=0, \"\", Team2!$H$14)","v":""},{"$f":"IF(Team2!$H$15=0, \"\", Team2!$H$15)","v":""},{"$f":"IF(Team2!$H$16=0, \"\", Team2!$H$16)","v":""},{"$f":"IF(Team2!$H$17=0, \"\", Team2!$H$17)","v":""},{"$f":"IF(Team2!$H$18=0, \"\", Team2!$H$18)","v":""},{"$f":"IF(Team2!$H$19=0, \"\", Team2!$H$19)","v":""},{"$f":"IF(Team2!$H$20=0, \"\", Team2!$H$20)","v":""},{"$f":"IF(Team2!$H$21=0, \"\", Team2!$H$21)","v":""},{"$f":"IF(Team2!$J$21=0, \"\", Team2!$J$21)","v":""},null,{"$f":"AN9","v":1},{"$f":"AP9","v":""},{"$f":"AX9","v":""},{"$f":"AU9","v":""},{"$f":"IF(X9=\"\", \"\", OFFSET(BH$8,MATCH(SMALL('Rank Wkst'!AS$8:AS$31,ROW()-ROW(AS$8)+1),AS$8:AS$31,0)-1,0))","v":""},{"$f":"IF(X9=\"\", \"\", OFFSET(BI$8,MATCH(SMALL('Rank Wkst'!AS$8:AS$31,ROW()-ROW(AS$8)+1),AS$8:AS$31,0)-1,0))","v":""},{"$f":"IF(X9=\"\", \"\", OFFSET(BJ$8,MATCH(SMALL('Rank Wkst'!AS$8:AS$31,ROW()-ROW(AS$8)+1),AS$8:AS$31,0)-1,0))","v":""},{"$f":"IF(X9=\"\", \"\", OFFSET(BK$8,MATCH(SMALL('Rank Wkst'!AS$8:AS$31,ROW()-ROW(AS$8)+1),AS$8:AS$31,0)-1,0))","v":""},{"$f":"IF(X9=\"\", \"\", OFFSET(BL$8,MATCH(SMALL('Rank Wkst'!AS$8:AS$31,ROW()-ROW(AS$8)+1),AS$8:AS$31,0)-1,0))","v":""},{"$f":"IF(X9=\"\", \"\", OFFSET(BM$8,MATCH(SMALL('Rank Wkst'!AS$8:AS$31,ROW()-ROW(AS$8)+1),AS$8:AS$31,0)-1,0))","v":""},{"$f":"IF(X9=\"\", \"\", OFFSET(BN$8,MATCH(SMALL('Rank Wkst'!AS$8:AS$31,ROW()-ROW(AS$8)+1),AS$8:AS$31,0)-1,0))","v":""},{"$f":"IF(X9=\"\", \"\", OFFSET(BO$8,MATCH(SMALL('Rank Wkst'!AS$8:AS$31,ROW()-ROW(AS$8)+1),AS$8:AS$31,0)-1,0))","v":""},{"$f":"IF(X9=\"\", \"\", OFFSET(BP$8,MATCH(SMALL('Rank Wkst'!AS$8:AS$31,ROW()-ROW(AS$8)+1),AS$8:AS$31,0)-1,0))","v":""},{"$f":"IF(X9=\"\", \"\", OFFSET(BQ$8,MATCH(SMALL('Rank Wkst'!AS$8:AS$31,ROW()-ROW(AS$8)+1),AS$8:AS$31,0)-1,0))","v":""},{"$f":"IF(X9=\"\", \"\", OFFSET(BR$8,MATCH(SMALL('Rank Wkst'!AS$8:AS$31,ROW()-ROW(AS$8)+1),AS$8:AS$31,0)-1,0))","v":""},{"$f":"IF(X9=\"\", \"\", OFFSET(BS$8,MATCH(SMALL('Rank Wkst'!AS$8:AS$31,ROW()-ROW(AS$8)+1),AS$8:AS$31,0)-1,0))","v":""},{"$f":"IF(X9=\"\", \"\", OFFSET(BT$8,MATCH(SMALL('Rank Wkst'!AS$8:AS$31,ROW()-ROW(AS$8)+1),AS$8:AS$31,0)-1,0))","v":""},{"$f":"IF(X9=\"\", \"\", OFFSET(BU$8,MATCH(SMALL('Rank Wkst'!AS$8:AS$31,ROW()-ROW(AS$8)+1),AS$8:AS$31,0)-1,0))","v":""},{"$f":"AZ9","v":""},null,2,{"$f":"IF('Ranking Sheet'!B13=0, \"\", 'Ranking Sheet'!B13)","v":""},{"$f":"C9","v":""},{"$f":"H9","v":""},{"$f":"M9","v":""},{"$f":"R9","v":""},{"$f":"IF(CS9=\"DQ\",\"DQ\", IF(CS9=\"\", \"\", SMALL(CS9:CV9,1)))","v":""},{"$f":"IF(CS9=\"DQ\",\"DQ\",IF(CS9=\"\",\"\",SMALL(CS9:CV9,2)))","v":""},{"$f":"IF(CS9=\"DQ\",\"DQ\",IF(CS9=\"\",\"\",SMALL(CS9:CV9,3)))","v":""},{"$f":"IF(CS9=\"DQ\",\"DQ\", IF(CS9=\"\", \"\",SMALL(CS9:CV9,4)))","v":""},{"$f":"CK9","v":""},{"$f":"CL9","v":""},{"$f":"CM9","v":""},{"$f":"CN9","v":""},null,0,0,0,0,0,null,{"$f":"IF(AN9=\"DQ\", \"DQ\", F9)","v":""},{"$f":"IF(AN9=\"DQ\", \"DQ\", K9)","v":""},{"$f":"IF(AN9=\"DQ\", \"DQ\", P9)","v":""},{"$f":"IF(AN9=\"DQ\", \"DQ\", U9)","v":""},{"$f":"IF(AN9=\"DQ\", \"DQ\", IF(DL9=\"\", \"\", MIN(F9,K9,P9,U9)))","v":""},{"$f":"IF(AN9=\"DQ\", \"DQ\", IF(DL9=\"\", \"\", MAX(F9,K9,P9,U9)))","v":""},{"$f":"IF(AN9=\"DQ\", \"DQ\", IF(DL9=\"\", \"\", DQ9-DP9))","v":""},{"$f":"IF(AN9=\"DQ\", \"DQ\", IF(DL9=\"\", \"\", SMALL(DL9:DO9,2)))","v":""},{"$f":"IF(AN9=\"DQ\", \"DQ\", IF(DL9=\"\", \"\", DQ9-DS9))","v":""},{"$f":"IF(AN9=\"DQ\",\"DQ\",IF(DL9=\"\",\"\",SMALL(DL9:DO9,3)))","v":""},{"$f":"IF(AN9=\"DQ\", \"DQ\", IF(DL9=\"\", \"\",DU9-DP9))","v":""},{"$f":" IF(AN9=\"DQ\", \"DQ\",C9)","v":""},{"$f":" IF(AN9=\"DQ\", \"DQ\",H9)","v":""},{"$f":" IF(AN9=\"DQ\", \"DQ\", M9)","v":""},{"$f":" IF(AN9=\"DQ\", \"DQ\",R9)","v":""},{"$f":"IF(AN9=\"DQ\", \"DQ\", IF(DL9=\"\", \"\", MIN(C9,H9,M9,R9)))","v":""},{"$f":"IF(AN9=\"DQ\", \"DQ\", IF(DL9=\"\", \"\", MAX(C9,H9,M9,R9)))","v":""},{"$f":"IF(AN9=\"DQ\", \"DQ\", IF(DL9=\"\", \"\", EB9-EA9))","v":""},{"$f":"IF(AN9=\"DQ\", \"DQ\", IF(DW9=\"\", \"\", SMALL(DW9:DZ9,2)))","v":""},{"$f":"IF(AN9=\"DQ\", \"DQ\", IF(DW9=\"\", \"\", EB9-ED9))","v":""},{"$f":"IF(AN9=\"DQ\", \"DQ\", IF(DW9=\"\", \"\", SMALL(DW9:DZ9,3)))","v":""},{"$f":"IF(AN9=\"DQ\", \"DQ\", IF(DW9=\"\", \"\",EF9-EA9))","v":""},null,{"$f":"CONCATENATE(BX9,\",\",BY9,\",\",BZ9,\",\",CA9,\",\",CB9,\",\",CC9,\",\",CD9,\",\",CE9,\",\",)","v":",,,,,,,,"},{"$f":"CONCATENATE(CF9,\",\",CG9,\",\",CH9,\",\",CI9,\",\",CJ9,\",\",CK9,\",\",CL9,\",\",CM9,\",\",\"/\",\",\",CN9,\",\",CO9)","v":",,,,,,,,/,,"},{"$f":"CONCATENATE(EI9,EJ9)","v":",,,,,,,,,,,,,,,,/,,"}]
[3,{"$f":"IF('Ranking Sheet'!B14=0, \"\", 'Ranking Sheet'!B14)","v":""},{"$f":"IF(Team3!$D$21=0,\"\",Team3!$D$21)","v":""},"","","","",{"$f":"IF(Team3!$E$21=0, \"\", Team3!$E$21)","v":""},"","","","",{"$f":"IF(Team3!$F$21=0, \"\", Team3!$F$21)","v":""},"","","","",{"$f":"IF(Team3!$G$21=0, \"\", Team3!$G$21)","v":""},"","","","",0,"","",{"$error":"#VALUE!"},99,1,24,{"$error":"#VALUE!"},0,"",1,"",24,12.5,"",1,1,1,{"$f":"IF(AM10=\"\", \"\", SMALL(AM$8:AM$31, 3))","v":1},"","",{"$f":"COUNT($AM$8:$AM$31)-(RANK(AM10,$AM$8:$AM$31,0)+COUNTIF(AM$8:$AM10,AM10))+2","v":22},22,"","","TIE","TIE","","","","*","*","*","",null,3,{"$f":"IF('Ranking Sheet'!B14=0, \"\", 'Ranking Sheet'!B14)","v":""},{"$f":"IF(Team3!$H$9=0, \"\", Team3!$H$9)","v":""},{"$f":"IF(Team3!$H$10=0, \"\", Team3!$H$10)","v":""},{"$f":"IF(Team3!$H$11=0, \"\", Team3!$H$11)","v":""},{"$f":"IF(Team3!$H$12=0, \"\", Team3!$H$12)","v":""},{"$f":"IF(Team3!$H$13=0, \"\", Team3!$H$13)","v":""},{"$f":"IF(Team3!$H$14=0, \"\", Team3!$H$14)","v":""},{"$f":"IF(Team3!$H$15=0, \"\", Team3!$H$15)","v":""},{"$f":"IF(Team3!$H$16=0, \"\", Team3!$H$16)","v":""},{"$f":"IF(Team3!$H$17=0, \"\", Team3!$H$17)","v":""},{"$f":"IF(Team3!$H$18=0, \"\", Team3!$H$18)","v":""},{"$f":"IF(Team3!$H$19=0, \"\", Team3!$H$19)","v":""},{"$f":"IF(Team3!$H$20=0, \"\", Team3!$H$20)","v":""},{"$f":"IF(Team3!$H$21=0, \"\", Team3!$H$21)","v":""},{"$f":"IF(Team3!$J$21=0, \"\", Team3!$J$21)","v":""},null,1,"","","",{"$f":"IF(X10=\"\", \"\", OFFSET(BH$8,MATCH(SMALL('Rank Wkst'!AS$8:AS$31,ROW()-ROW(AS$8)+1),AS$8:AS$31,0)-1,0))","v":""},{"$f":"IF(X10=\"\", \"\", OFFSET(BI$8,MATCH(SMALL('Rank Wkst'!AS$8:AS$31,ROW()-ROW(AS$8)+1),AS$8:AS$31,0)-1,0))","v":""},{"$f":"IF(X10=\"\", \"\", OFFSET(BJ$8,MATCH(SMALL('Rank Wkst'!AS$8:AS$31,ROW()-ROW(AS$8)+1),AS$8:AS$31,0)-1,0))","v":""},{"$f":"IF(X10=\"\", \"\", OFFSET(BK$8,MATCH(SMALL('Rank Wkst'!AS$8:AS$31,ROW()-ROW(AS$8)+1),AS$8:AS$31,0)-1,0))","v":""},{"$f":"IF(X10=\"\", \"\", OFFSET(BL$8,MATCH(SMALL('Rank Wkst'!AS$8:AS$31,ROW()-ROW(AS$8)+1),AS$8:AS$31,0)-1,0))","v":""},{"$f":"IF(X10=\"\", \"\", OFFSET(BM$8,MATCH(SMALL('Rank Wkst'!AS$8:AS$31,ROW()-ROW(AS$8)+1),AS$8:AS$31,0)-1,0))","v":""},{"$f":"IF(X10=\"\", \"\", OFFSET(BN$8,MATCH(SMALL('Rank Wkst'!AS$8:AS$31,ROW()-ROW(AS$8)+1),AS$8:AS$31,0)-1,0))","v":""},{"$f":"IF(X10=\"\", \"\", OFFSET(BO$8,MATCH(SMALL('Rank Wkst'!AS$8:AS$31,ROW()-ROW(AS$8)+1),AS$8:AS$31,0)-1,0))","v":""},{"$f":"IF(X10=\"\", \"\", OFFSET(BP$8,MATCH(SMALL('Rank Wkst'!AS$8:AS$31,ROW()-ROW(AS$8)+1),AS$8:AS$31,0)-1,0))","v":""},{"$f":"IF(X10=\"\", \"\", OFFSET(BQ$8,MATCH(SMALL('Rank Wkst'!AS$8:AS$31,ROW()-ROW(AS$8)+1),AS$8:AS$31,0)-1,0))","v":""},{"$f":"IF(X10=\"\", \"\", OFFSET(BR$8,MATCH(SMALL('Rank Wkst'!AS$8:AS$31,ROW()-ROW(AS$8)+1),AS$8:AS$31,0)-1,0))","v":""},{"$f":"IF(X10=\"\", \"\", OFFSET(BS$8,MATCH(SMALL('Rank Wkst'!AS$8:AS$31,ROW()-ROW(AS$8)+1),AS$8:AS$31,0)-1,0))","v":""},{"$f":"IF(X10=\"\", \"\", OFFSET(BT$8,MATCH(SMALL('Rank Wkst'!AS$8:AS$31,ROW()-ROW(AS$8)+1),AS$8:AS$31,0)-1,0))","v":""},{"$f":"IF(X10=\"\", \"\", OFFSET(BU$8,MATCH(SMALL('Rank Wkst'!AS$8:AS$31,ROW()-ROW(AS$8)+1),AS$8:AS$31,0)-1,0))","v":""},"",null,3,{"$f":"IF('Ranking Sheet'!B14=0, \"\", 'Ranking Sheet'!B14)","v":""},"","","","","","","","","","","","",null,0,0,0,0,0,null,"","","","","","","","","","","","","","","","","","","","","","",null,",,,,,,,,",",,,,,,,,/,,",",,,,,,,,,,,,,,,,/,,"]
[4,{"$f":"IF('Ranking Sheet'!B15=0, \"\", 'Ranking Sheet'!B15)","v":""},{"$f":"IF(Team4!$D$21=0,\"\",Team4!$D$21)","v":""},"","","","",{"$f":"IF(Team4!$E$21=0, \"\", Team4!$E$21)","v":""},"","","","",{"$f":"IF(Team4!$F$21=0, \"\", Team4!$F$21)","v":""},"","","","",{"$f":"IF(Team4!$G$21=0, \"\", Team4!$G$21)","v":""},"","","","",{"$f":"SUM(F11,K11,P11,U11)","v":0},"","",{"$error":"#VALUE!"},99,1,24,{"$error":"#VALUE!"},0,"",1,"",24,12.5,"",1,1,1,{"$f":"IF(AM11=\"\", \"\", SMALL(AM$8:AM$31, 4))","v":1},"","",{"$f":"COUNT($AM$8:$AM$31)-(RANK(AM11,$AM$8:$AM$31,0)+COUNTIF(AM$8:$AM11,AM11))+2","v":21},21,"","","TIE","TIE","","","","*","*","*","",null,4,{"$f":"IF('Ranking Sheet'!B15=0, \"\", 'Ranking Sheet'!B15)","v":""},{"$f":"IF(Team4!$H$9=0, \"\", Team4!$H$9)","v":""},{"$f":"IF(Team4!$H$10=0, \"\", Team4!$H$10)","v":""},{"$f":"IF(Team4!$H$11=0, \"\", Team4!$H$11)","v":""},{"$f":"IF(Team4!$H$12=0, \"\", Team4!$H$12)","v":""},{"$f":"IF(Team4!$H$13=0, \"\", Team4!$H$13)","v":""},{"$f":"IF(Team4!$H$14=0, \"\", Team4!$H$14)","v":""},{"$f":"IF(Team4!$H$15=0, \"\", Team4!$H$15)","v":""},{"$f":"IF(Team4!$H$16=0, \"\", Team4!$H$16)","v":""},{"$f":"IF(Team4!$H$17=0, \"\", Team4!$H$17)","v":""},{"$f":"IF(Team4!$H$18=0, \"\", Team4!$H$18)","v":""},{"$f":"IF(Team4!$H$19=0, \"\", Team4!$H$19)","v":""},{"$f":"IF(Team4!$H$20=0, \"\", Team4!$H$20)","v":""},{"$f":"IF(Team4!$H$21=0, \"\", Team4!$H$21)","v":""},{"$f":"IF(Team4!$J$21=0, \"\", Team4!$J$21)","v":""},null,1,"","","",{"$f":"IF(X11=\"\", \"\", OFFSET(BH$8,MATCH(SMALL('Rank Wkst'!AS$8:AS$31,ROW()-ROW(AS$8)+1),AS$8:AS$31,0)-1,0))","v":""},{"$f":"IF(X11=\"\", \"\", OFFSET(BI$8,MATCH(SMALL('Rank Wkst'!AS$8:AS$31,ROW()-ROW(AS$8)+1),AS$8:AS$31,0)-1,0))","v":""},{"$f":"IF(X11=\"\", \"\", OFFSET(BJ$8,MATCH(SMALL('Rank Wkst'!AS$8:AS$31,ROW()-ROW(AS$8)+1),AS$8:AS$31,0)-1,0))","v":""},{"$f":"IF(X11=\"\", \"\", OFFSET(BK$8,MATCH(SMALL('Rank Wkst'!AS$8:AS$31,ROW()-ROW(AS$8)+1),AS$8:AS$31,0)-1,0))","v":""},{"$f":"IF(X11=\"\", \"\", OFFSET(BL$8,MATCH(SMALL('Rank Wkst'!AS$8:AS$31,ROW()-ROW(AS$8)+1),AS$8:AS$31,0)-1,0))","v":""},{"$f":"IF(X11=\"\", \"\", OFFSET(BM$8,MATCH(SMALL('Rank Wkst'!AS$8:AS$31,ROW()-ROW(AS$8)+1),AS$8:AS$31,0)-1,0))","v":""},{"$f":"IF(X11=\"\", \"\", OFFSET(BN$8,MATCH(SMALL('Rank Wkst'!AS$8:AS$31,ROW()-ROW(AS$8)+1),AS$8:AS$31,0)-1,0))","v":""},{"$f":"IF(X11=\"\", \"\", OFFSET(BO$8,MATCH(SMALL('Rank Wkst'!AS$8:AS$31,ROW()-ROW(AS$8)+1),AS$8:AS$31,0)-1,0))","v":""},{"$f":"IF(X11=\"\", \"\", OFFSET(BP$8,MATCH(SMALL('Rank Wkst'!AS$8:AS$31,ROW()-ROW(AS$8)+1),AS$8:AS$31,0)-1,0))","v":""},{"$f":"IF(X11=\"\", \"\", OFFSET(BQ$8,MATCH(SMALL('Rank Wkst'!AS$8:AS$31,ROW()-ROW(AS$8)+1),AS$8:AS$31,0)-1,0))","v":""},{"$f":"IF(X11=\"\", \"\", OFFSET(BR$8,MATCH(SMALL('Rank Wkst'!AS$8:AS$31,ROW()-ROW(AS$8)+1),AS$8:AS$31,0)-1,0))","v":""},{"$f":"IF(X11=\"\", \"\", OFFSET(BS$8,MATCH(SMALL('Rank Wkst'!AS$8:AS$31,ROW()-ROW(AS$8)+1),AS$8:AS$31,0)-1,0))","v":""},{"$f":"IF(X11=\"\", \"\", OFFSET(BT$8,MATCH(SMALL('Rank Wkst'!AS$8:AS$31,ROW()-ROW(AS$8)+1),AS$8:AS$31,0)-1,0))","v":""},{"$f":"IF(X11=\"\", \"\", OFFSET(BU$8,MATCH(SMALL('Rank Wkst'!AS$8:AS$31,ROW()-ROW(AS$8)+1),AS$8:AS$31,0)-1,0))","v":""},"",null,4,{"$f":"IF('Ranking Sheet'!B15=0, \"\", 'Ranking Sheet'!B15)","v":""},"","","","","","","","","","","","",null,0,0,0,0,0,null,"","","","","","","","","","","","","","","","","","","","","","",null,",,,,,,,,",",,,,,,,,/,,",",,,,,,,,,,,,,,,,/,,"]
[5,{"$f":"IF('Ranking Sheet'!B16=0, \"\", 'Ranking Sheet'!B16)","v":""},{"$f":"IF(Team5!$D$21=0,\"\",Team5!$D$21)","v":""},"","","","",{"$f":"IF(Team5!$E$21=0, \"\", Team5!$E$21)","v":""},"","","","",{"$f":"IF(Team5!$F$21=0, \"\", Team5!$F$21)","v":""},"","","","",{"$f":"IF(Team5!$G$21=0, \"\", Team5!$G$21)","v":""},"","","","",0,"","",{"$error":"#VALUE!"},99,1,24,{"$error":"#VALUE!"},0,"",1,"",24,12.5,"",1,1,1,{"$f":"IF(AM12=\"\", \"\", SMALL(AM$8:AM$31, 5))","v":1},"","",{"$f":"COUNT($AM$8:$AM$31)-(RANK(AM12,$AM$8:$AM$31,0)+COUNTIF(AM$8:$AM12,AM12))+2","v":20},20,"","","TIE","TIE","","","","*","*",{"$f":"IF(ISERROR(BB12), \" \", BB12)","v":"*"},"",null,5,{"$f":"IF('Ranking Sheet'!B16=0, \"\", 'Ranking Sheet'!B16)","v":""},{"$f":"IF(Team5!$H$9=0, \"\", Team5!$H$9)","v":""},{"$f":"IF(Team5!$H$10=0, \"\", Team5!$H$10)","v":""},{"$f":"IF(Team5!$H$11=0, \"\", Team5!$H$11)","v":""},{"$f":"IF(Team5!$H$12=0, \"\", Team5!$H$12)","v":""},{"$f":"IF(Team5!$H$13=0, \"\", Team5!$H$13)","v":""},{"$f":"IF(Team5!$H$14=0, \"\", Team5!$H$14)","v":""},{"$f":"IF(Team5!$H$15=0, \"\", Team5!$H$15)","v":""},{"$f":"IF(Team5!$H$16=0, \"\", Team5!$H$16)","v":""},{"$f":"IF(Team5!$H$17=0, \"\", Team5!$H$17)","v":""},{"$f":"IF(Team5!$H$18=0, \"\", Team5!$H$18)","v":""},{"$f":"IF(Team5!$H$19=0, \"\", Team5!$H$19)","v":""},{"$f":"IF(Team5!$H$20=0, \"\", Team5!$H$20)","v":""},{"$f":"IF(Team5!$H$21=0, \"\", Team5!$H$21)","v":""},{"$f":"IF(Team5!$J$21=0, \"\", Team5!$J$21)","v":""},null,1,"","","",{"$f":"IF(X12=\"\", \"\", OFFSET(BH$8,MATCH(SMALL('Rank Wkst'!AS$8:AS$31,ROW()-ROW(AS$8)+1),AS$8:AS$31,0)-1,0))","v":""},{"$f":"IF(X12=\"\", \"\", OFFSET(BI$8,MATCH(SMALL('Rank Wkst'!AS$8:AS$31,ROW()-ROW(AS$8)+1),AS$8:AS$31,0)-1,0))","v":""},{"$f":"IF(X12=\"\", \"\", OFFSET(BJ$8,MATCH(SMALL('Rank Wkst'!AS$8:AS$31,ROW()-ROW(AS$8)+1),AS$8:AS$31,0)-1,0))","v":""},{"$f":"IF(X12=\"\", \"\", OFFSET(BK$8,MATCH(SMALL('Rank Wkst'!AS$8:AS$31,ROW()-ROW(AS$8)+1),AS$8:AS$31,0)-1,0))","v":""},{"$f":"IF(X12=\"\", \"\", OFFSET(BL$8,MATCH(SMALL('Rank Wkst'!AS$8:AS$31,ROW()-ROW(AS$8)+1),AS$8:AS$31,0)-1,0))","v":""},{"$f":"IF(X12=\"\", \"\", OFFSET(BM$8,MATCH(SMALL('Rank Wkst'!AS$8:AS$31,ROW()-ROW(AS$8)+1),AS$8:AS$31,0)-1,0))","v":""},{"$f":"IF(X12=\"\", \"\", OFFSET(BN$8,MATCH(SMALL('Rank Wkst'!AS$8:AS$31,ROW()-ROW(AS$8)+1),AS$8:AS$31,0)-1,0))","v":""},{"$f":"IF(X12=\"\", \"\", OFFSET(BO$8,MATCH(SMALL('Rank Wkst'!AS$8:AS$31,ROW()-ROW(AS$8)+1),AS$8:AS$31,0)-1,0))","v":""},{"$f":"IF(X12=\"\", \"\", OFFSET(BP$8,MATCH(SMALL('Rank Wkst'!AS$8:AS$31,ROW()-ROW(AS$8)+1),AS$8:AS$31,0)-1,0))","v":""},{"$f":"IF(X12=\"\", \"\", OFFSET(BQ$8,MATCH(SMALL('Rank Wkst'!AS$8:AS$31,ROW()-ROW(AS$8)+1),AS$8:AS$31,0)-1,0))","v":""},{"$f":"IF(X12=\"\", \"\", OFFSET(BR$8,MATCH(SMALL('Rank Wkst'!AS$8:AS$31,ROW()-ROW(AS$8)+1),AS$8:AS$31,0)-1,0))","v":""},{"$f":"IF(X12=\"\", \"\", OFFSET(BS$8,MATCH(SMALL('Rank Wkst'!AS$8:AS$31,ROW()-ROW(AS$8)+1),AS$8:AS$31,0)-1,0))","v":""},{"$f":"IF(X12=\"\", \"\", OFFSET(BT$8,MATCH(SMALL('Rank Wkst'!AS$8:AS$31,ROW()-ROW(AS$8)+1),AS$8:AS$31,0)-1,0))","v":""},{"$f":"IF(X12=\"\", \"\", OFFSET(BU$8,MATCH(SMALL('Rank Wkst'!AS$8:AS$31,ROW()-ROW(AS$8)+1),AS$8:AS$31,0)-1,0))","v":""},"",null,5,{"$f":"IF('Ranking Sheet'!B16=0, \"\", 'Ranking Sheet'!B16)","v":""},"","","","","","","","","","","","",null,0,0,0,0,0,null,"","","","","","","","","","","","","","","","","","","","","","",null,",,,,,,,,",",,,,,,,,/,,",",,,,,,,,,,,,,,,,/,,"]
[6,{"$f":"IF('Ranking Sheet'!B17=0, \"\", 'Ranking Sheet'!B17)","v":""},{"$f":"IF(Team6!$D$21=0,\"\",Team6!$D$21)","v":""},"","","","",{"$f":"IF(Team6!$E$21=0, \"\", Team6!$E$21)","v":""},"","","","",{"$f":"IF(Team6!$F$21=0, \"\", Team6!$F$21)","v":""},"","","","",{"$f":"IF(Team6!$G$21=0, \"\", Team6!$G$21)","v":""},"","","","",{"$f":"SUM(F13,K13,P13,U13)","v":0},"","",{"$error":"#VALUE!"},99,1,24,{"$error":"#VALUE!"},0,"",1,"",24,12.5,"",1,1,1,{"$f":"IF(AM13=\"\", \"\", SMALL(AM$8:AM$31, 6))","v":1},"","",{"$f":"COUNT($AM$8:$AM$31)-(RANK(AM13,$AM$8:$AM$31,0)+COUNTIF(AM$8:$AM13,AM13))+2","v":19},19,"","","TIE","TIE","","","","*","*","*","",null,6,{"$f":"IF('Ranking Sheet'!B17=0, \"\", 'Ranking Sheet'!B17)","v":""},{"$f":"IF(Team6!$H$9=0, \"\", Team6!$H$9)","v":""},{"$f":"IF(Team6!$H$10=0, \"\", Team6!$H$10)","v":""},{"$f":"IF(Team6!$H$11=0, \"\", Team6!$H$11)","v":""},{"$f":"IF(Team6!$H$12=0, \"\", Team6!$H$12)","v":""},{"$f":"IF(Team6!$H$13=0, \"\", Team6!$H$13)","v":""},{"$f":"IF(Team6!$H$14=0, \"\", Team6!$H$14)","v":""},{"$f":"IF(Team6!$H$15=0, \"\", Team6!$H$15)","v":""},{"$f":"IF(Team6!$H$16=0, \"\", Team6!$H$16)","v":""},{"$f":"IF(Team6!$H$17=0, \"\", Team6!$H$17)","v":""},{"$f":"IF(Team6!$H$18=0, \"\", Team6!$H$18)","v":""},{"$f":"IF(Team6!$H$19=0, \"\", Team6!$H$19)","v":""},{"$f":"IF(Team6!$H$20=0, \"\", Team6!$H$20)","v":""},{"$f":"IF(Team6!$H$21=0, \"\", Team6!$H$21)","v":""},{"$f":"IF(Team6!$J$21=0, \"\", Team6!$J$21)","v":""},null,1,"","","",{"$f":"IF(X13=\"\", \"\", OFFSET(BH$8,MATCH(SMALL('Rank Wkst'!AS$8:AS$31,ROW()-ROW(AS$8)+1),AS$8:AS$31,0)-1,0))","v":""},{"$f":"IF(X13=\"\", \"\", OFFSET(BI$8,MATCH(SMALL('Rank Wkst'!AS$8:AS$31,ROW()-ROW(AS$8)+1),AS$8:AS$31,0)-1,0))","v":""},{"$f":"IF(X13=\"\", \"\", OFFSET(BJ$8,MATCH(SMALL('Rank Wkst'!AS$8:AS$31,ROW()-ROW(AS$8)+1),AS$8:AS$31,0)-1,0))","v":""},{"$f":"IF(X13=\"\", \"\", OFFSET(BK$8,MATCH(SMALL('Rank Wkst'!AS$8:AS$31,ROW()-ROW(AS$8)+1),AS$8:AS$31,0)-1,0))","v":""},{"$f":"IF(X13=\"\", \"\", OFFSET(BL$8,MATCH(SMALL('Rank Wkst'!AS$8:AS$31,ROW()-ROW(AS$8)+1),AS$8:AS$31,0)-1,0))","v":""},{"$f":"IF(X13=\"\", \"\", OFFSET(BM$8,MATCH(SMALL('Rank Wkst'!AS$8:AS$31,ROW()-ROW(AS$8)+1),AS$8:AS$31,0)-1,0))","v":""},{"$f":"IF(X13=\"\", \"\", OFFSET(BN$8,MATCH(SMALL('Rank Wkst'!AS$8:AS$31,ROW()-ROW(AS$8)+1),AS$8:AS$31,0)-1,0))","v":""},{"$f":"IF(X13=\"\", \"\", OFFSET(BO$8,MATCH(SMALL('Rank Wkst'!AS$8:AS$31,ROW()-ROW(AS$8)+1),AS$8:AS$31,0)-1,0))","v":""},{"$f":"IF(X13=\"\", \"\", OFFSET(BP$8,MATCH(SMALL('Rank Wkst'!AS$8:AS$31,ROW()-ROW(AS$8)+1),AS$8:AS$31,0)-1,0))","v":""},{"$f":"IF(X13=\"\", \"\", OFFSET(BQ$8,MATCH(SMALL('Rank Wkst'!AS$8:AS$31,ROW()-ROW(AS$8)+1),AS$8:AS$31,0)-1,0))","v":""},{"$f":"IF(X13=\"\", \"\", OFFSET(BR$8,MATCH(SMALL('Rank Wkst'!AS$8:AS$31,ROW()-ROW(AS$8)+1),AS$8:AS$31,0)-1,0))","v":""},{"$f":"IF(X13=\"\", \"\", OFFSET(BS$8,MATCH(SMALL('Rank Wkst'!AS$8:AS$31,ROW()-ROW(AS$8)+1),AS$8:AS$31,0)-1,0))","v":""},{"$f":"IF(X13=\"\", \"\", OFFSET(BT$8,MATCH(SMALL('Rank Wkst'!AS$8:AS$31,ROW()-ROW(AS$8)+1),AS$8:AS$31,0)-1,0))","v":""},{"$f":"IF(X13=\"\", \"\", OFFSET(BU$8,MATCH(SMALL('Rank Wkst'!AS$8:AS$31,ROW()-ROW(AS$8)+1),AS$8:AS$31,0)-1,0))","v":""},"",null,6,{"$f":"IF('Ranking Sheet'!B17=0, \"\", 'Ranking Sheet'!B17)","v":""},"","","","","","","","","","","","",null,0,0,0,0,0,null,"","","","","","","","","","","","","","","","","","","","","","",null,",,,,,,,,",",,,,,,,,/,,",",,,,,,,,,,,,,,,,/,,"]
[7,{"$f":"IF('Ranking Sheet'!B18=0, \"\", 'Ranking Sheet'!B18)","v":""},{"$f":"IF(Team7!$D$21=0,\"\",Team7!$D$21)","v":""},"","","","",{"$f":"IF(Team7!$E$21=0, \"\", Team7!$E$21)","v":""},"","","","",{"$f":"IF(Team7!$F$21=0, \"\", Team7!$F$21)","v":""},"","","","",{"$f":"IF(Team7!$G$21=0, \"\", Team7!$G$21)","v":""},"","","","",0,"","",{"$error":"#VALUE!"},99,1,24,{"$error":"#VALUE!"},0,"",1,"",24,12.5,"",1,1,1,{"$f":"IF(AM14=\"\", \"\", SMALL(AM$8:AM$317, 7))","v":1},"","",{"$f":"COUNT($AM$8:$AM$31)-(RANK(AM14,$AM$8:$AM$31,0)+COUNTIF(AM$8:$AM14,AM14))+2","v":18},18,"","","TIE","TIE","","","","*","*","*","",null,7,{"$f":"IF('Ranking Sheet'!B18=0, \"\", 'Ranking Sheet'!B18)","v":""},{"$f":"IF(Team7!$H$9=0, \"\", Team7!$H$9)","v":""},{"$f":"IF(Team7!$H$10=0, \"\", Team7!$H$10)","v":""},{"$f":"IF(Team7!$H$11=0, \"\", Team7!$H$11)","v":""},{"$f":"IF(Team7!$H$12=0, \"\", Team7!$H$12)","v":""},{"$f":"IF(Team7!$H$13=0, \"\", Team7!$H$13)","v":""},{"$f":"IF(Team7!$H$14=0, \"\", Team7!$H$14)","v":""},{"$f":"IF(Team7!$H$15=0, \"\", Team7!$H$15)","v":""},{"$f":"IF(Team7!$H$16=0, \"\", Team7!$H$16)","v":""},{"$f":"IF(Team7!$H$17=0, \"\", Team7!$H$17)","v":""},{"$f":"IF(Team7!$H$18=0, \"\", Team7!$H$18)","v":""},{"$f":"IF(Team7!$H$19=0, \"\", Team7!$H$19)","v":""},{"$f":"IF(Team7!$H$20=0, \"\", Team7!$H$20)","v":""},{"$f":"IF(Team7!$H$21=0, \"\", Team7!$H$21)","v":""},{"$f":"IF(Team7!$J$21=0, \"\", Team7!$J$21)","v":""},null,1,"","","",{"$f":"IF(X14=\"\", \"\", OFFSET(BH$8,MATCH(SMALL('Rank Wkst'!AS$8:AS$31,ROW()-ROW(AS$8)+1),AS$8:AS$31,0)-1,0))","v":""},{"$f":"IF(X14=\"\", \"\", OFFSET(BI$8,MATCH(SMALL('Rank Wkst'!AS$8:AS$31,ROW()-ROW(AS$8)+1),AS$8:AS$31,0)-1,0))","v":""},{"$f":"IF(X14=\"\", \"\", OFFSET(BJ$8,MATCH(SMALL('Rank Wkst'!AS$8:AS$31,ROW()-ROW(AS$8)+1),AS$8:AS$31,0)-1,0))","v":""},{"$f":"IF(X14=\"\", \"\", OFFSET(BK$8,MATCH(SMALL('Rank Wkst'!AS$8:AS$31,ROW()-ROW(AS$8)+1),AS$8:AS$31,0)-1,0))","v":""},{"$f":"IF(X14=\"\", \"\", OFFSET(BL$8,MATCH(SMALL('Rank Wkst'!AS$8:AS$31,ROW()-ROW(AS$8)+1),AS$8:AS$31,0)-1,0))","v":""},{"$f":"IF(X14=\"\", \"\", OFFSET(BM$8,MATCH(SMALL('Rank Wkst'!AS$8:AS$31,ROW()-ROW(AS$8)+1),AS$8:AS$31,0)-1,0))","v":""},{"$f":"IF(X14=\"\", \"\", OFFSET(BN$8,MATCH(SMALL('Rank Wkst'!AS$8:AS$31,ROW()-ROW(AS$8)+1),AS$8:AS$31,0)-1,0))","v":""},{"$f":"IF(X14=\"\", \"\", OFFSET(BO$8,MATCH(SMALL('Rank Wkst'!AS$8:AS$31,ROW()-ROW(AS$8)+1),AS$8:AS$31,0)-1,0))","v":""},{"$f":"IF(X14=\"\", \"\", OFFSET(BP$8,MATCH(SMALL('Rank Wkst'!AS$8:AS$31,ROW()-ROW(AS$8)+1),AS$8:AS$31,0)-1,0))","v":""},{"$f":"IF(X14=\"\", \"\", OFFSET(BQ$8,MATCH(SMALL('Rank Wkst'!AS$8:AS$31,ROW()-ROW(AS$8)+1),AS$8:AS$31,0)-1,0))","v":""},{"$f":"IF(X14=\"\", \"\", OFFSET(BR$8,MATCH(SMALL('Rank Wkst'!AS$8:AS$31,ROW()-ROW(AS$8)+1),AS$8:AS$31,0)-1,0))","v":""},{"$f":"IF(X14=\"\", \"\", OFFSET(BS$8,MATCH(SMALL('Rank Wkst'!AS$8:AS$31,ROW()-ROW(AS$8)+1),AS$8:AS$31,0)-1,0))","v":""},{"$f":"IF(X14=\"\", \"\", OFFSET(BT$8,MATCH(SMALL('Rank Wkst'!AS$8:AS$31,ROW()-ROW(AS$8)+1),AS$8:AS$31,0)-1,0))","v":""},{"$f":"IF(X14=\"\", \"\", OFFSET(BU$8,MATCH(SMALL('Rank Wkst'!AS$8:AS$31,ROW()-ROW(AS$8)+1),AS$8:AS$31,0)-1,0))","v":""},"",null,7,{"$f":"IF('Ranking Sheet'!B18=0, \"\", 'Ranking Sheet'!B18)","v":""},"","","","","","","","","","","","",null,0,0,0,0,0,null,"","","","","","","","","","","","","","","","","","","","","","",null,",,,,,,,,",",,,,,,,,/,,",",,,,,,,,,,,,,,,,/,,"]
[8,{"$f":"IF('Ranking Sheet'!B19=0, \"\", 'Ranking Sheet'!B19)","v":""},{"$f":"IF(Team8!$D$21=0,\"\",Team8!$D$21)","v":""},"","","","",{"$f":"IF(Team8!$E$21=0, \"\", Team8!$E$21)","v":""},"","","","",{"$f":"IF(Team8!$F$21=0, \"\", Team8!$F$21)","v":""},"","","","",{"$f":"IF(Team8!$G$21=0, \"\", Team8!$G$21)","v":""},"","","","",0,"","",{"$error":"#VALUE!"},99,1,24,{"$error":"#VALUE!"},0,"",1,"",24,12.5,"",1,1,1,{"$f":"IF(AM15=\"\", \"\", SMALL(AM$8:AM$31, 8))","v":1},"","",{"$f":"COUNT($AM$8:$AM$31)-(RANK(AM15,$AM$8:$AM$31,0)+COUNTIF(AM$8:$AM15,AM15))+2","v":17},17,"","","TIE","TIE","","","","*","*","*","",null,8,{"$f":"IF('Ranking Sheet'!B19=0, \"\", 'Ranking Sheet'!B19)","v":""},{"$f":"IF(Team8!$H$9=0, \"\", Team8!$H$9)","v":""},{"$f":"IF(Team8!$H$10=0, \"\", Team8!$H$10)","v":""},{"$f":"IF(Team8!$H$11=0, \"\", Team8!$H$11)","v":""},{"$f":"IF(Team8!$H$12=0, \"\", Team8!$H$12)","v":""},{"$f":"IF(Team8!$H$13=0, \"\", Team8!$H$13)","v":""},{"$f":"IF(Team8!$H$14=0, \"\", Team8!$H$14)","v":""},{"$f":"IF(Team8!$H$15=0, \"\", Team8!$H$15)","v":""},{"$f":"IF(Team8!$H$16=0, \"\", Team8!$H$16)","v":""},{"$f":"IF(Team8!$H$17=0, \"\", Team8!$H$17)","v":""},{"$f":"IF(Team8!$H$18=0, \"\", Team8!$H$18)","v":""},{"$f":"IF(Team8!$H$19=0, \"\", Team8!$H$19)","v":""},{"$f":"IF(Team8!$H$20=0, \"\", Team8!$H$20)","v":""},{"$f":"IF(Team8!$H$21=0, \"\", Team8!$H$21)","v":""},{"$f":"IF(Team8!$J$21=0, \"\", Team8!$J$21)","v":""},null,1,"","","",{"$f":"IF(X15=\"\", \"\", OFFSET(BH$8,MATCH(SMALL('Rank Wkst'!AS$8:AS$31,ROW()-ROW(AS$8)+1),AS$8:AS$31,0)-1,0))","v":""},{"$f":"IF(X15=\"\", \"\", OFFSET(BI$8,MATCH(SMALL('Rank Wkst'!AS$8:AS$31,ROW()-ROW(AS$8)+1),AS$8:AS$31,0)-1,0))","v":""},{"$f":"IF(X15=\"\", \"\", OFFSET(BJ$8,MATCH(SMALL('Rank Wkst'!AS$8:AS$31,ROW()-ROW(AS$8)+1),AS$8:AS$31,0)-1,0))","v":""},{"$f":"IF(X15=\"\", \"\", OFFSET(BK$8,MATCH(SMALL('Rank Wkst'!AS$8:AS$31,ROW()-ROW(AS$8)+1),AS$8:AS$31,0)-1,0))","v":""},{"$f":"IF(X15=\"\", \"\", OFFSET(BL$8,MATCH(SMALL('Rank Wkst'!AS$8:AS$31,ROW()-ROW(AS$8)+1),AS$8:AS$31,0)-1,0))","v":""},{"$f":"IF(X15=\"\", \"\", OFFSET(BM$8,MATCH(SMALL('Rank Wkst'!AS$8:AS$31,ROW()-ROW(AS$8)+1),AS$8:AS$31,0)-1,0))","v":""},{"$f":"IF(X15=\"\", \"\", OFFSET(BN$8,MATCH(SMALL('Rank Wkst'!AS$8:AS$31,ROW()-ROW(AS$8)+1),AS$8:AS$31,0)-1,0))","v":""},{"$f":"IF(X15=\"\", \"\", OFFSET(BO$8,MATCH(SMALL('Rank Wkst'!AS$8:AS$31,ROW()-ROW(AS$8)+1),AS$8:AS$31,0)-1,0))","v":""},{"$f":"IF(X15=\"\", \"\", OFFSET(BP$8,MATCH(SMALL('Rank Wkst'!AS$8:AS$31,ROW()-ROW(AS$8)+1),AS$8:AS$31,0)-1,0))","v":""},{"$f":"IF(X15=\"\", \"\", OFFSET(BQ$8,MATCH(SMALL('Rank Wkst'!AS$8:AS$31,ROW()-ROW(AS$8)+1),AS$8:AS$31,0)-1,0))","v":""},{"$f":"IF(X15=\"\", \"\", OFFSET(BR$8,MATCH(SMALL('Rank Wkst'!AS$8:AS$31,ROW()-ROW(AS$8)+1),AS$8:AS$31,0)-1,0))","v":""},{"$f":"IF(X15=\"\", \"\", OFFSET(BS$8,MATCH(SMALL('Rank Wkst'!AS$8:AS$31,ROW()-ROW(AS$8)+1),AS$8:AS$31,0)-1,0))","v":""},{"$f":"IF(X15=\"\", \"\", OFFSET(BT$8,MATCH(SMALL('Rank Wkst'!AS$8:AS$31,ROW()-ROW(AS$8)+1),AS$8:AS$31,0)-1,0))","v":""},{"$f":"IF(X15=\"\", \"\", OFFSET(BU$8,MATCH(SMALL('Rank Wkst'!AS$8:AS$31,ROW()-ROW(AS$8)+1),AS$8:AS$31,0)-1,0))","v":""},"",null,8,{"$f":"IF('Ranking Sheet'!B19=0, \"\", 'Ranking Sheet'!B19)","v":""},"","","","","","","","","","","","",null,0,0,0,0,0,null,"","","","","","","","","","","","","","","","","","","","","","",null,",,,,,,,,",",,,,,,,,/,,",",,,,,,,,,,,,,,,,/,,"]
[9,{"$f":"IF('Ranking Sheet'!B20=0, \"\", 'Ranking Sheet'!B20)","v":""},{"$f":"IF(Team9!$D$21=0,\"\",Team9!$D$21)","v":""},"","","","",{"$f":"IF(Team9!$E$21=0, \"\", Team9!$E$21)","v":""},"","","","",{"$f":"IF(Team9!$F$21=0, \"\", Team9!$F$21)","v":""},"","","","",{"$f":"IF(Team9!$G$21=0, \"\", Team9!$G$21)","v":""},"","","","",0,"","",{"$error":"#VALUE!"},99,1,24,{"$error":"#VALUE!"},0,"",1,"",24,12.5,"",1,1,1,{"$f":"IF(AM16=\"\", \"\", SMALL(AM$8:AM$31, 9))","v":1},"","",{"$f":"COUNT($AM$8:$AM$31)-(RANK(AM16,$AM$8:$AM$31,0)+COUNTIF(AM$8:$AM16,AM16))+2","v":16},16,"","","TIE","TIE","","","","*","*","*","",null,9,{"$f":"IF('Ranking Sheet'!B20=0, \"\", 'Ranking Sheet'!B20)","v":""},{"$f":"IF(Team9!$H$9=0, \"\", Team9!$H$9)","v":""},{"$f":"IF(Team9!$H$10=0, \"\", Team9!$H$10)","v":""},{"$f":"IF(Team9!$H$11=0, \"\", Team9!$H$11)","v":""},{"$f":"IF(Team9!$H$12=0, \"\", Team9!$H$12)","v":""},{"$f":"IF(Team9!$H$13=0, \"\", Team9!$H$13)","v":""},{"$f":"IF(Team9!$H$14=0, \"\", Team9!$H$14)","v":""},{"$f":"IF(Team9!$H$15=0, \"\", Team9!$H$15)","v":""},{"$f":"IF(Team9!$H$16=0, \"\", Team9!$H$16)","v":""},{"$f":"IF(Team9!$H$17=0, \"\", Team9!$H$17)","v":""},{"$f":"IF(Team9!$H$18=0, \"\", Team9!$H$18)","v":""},{"$f":"IF(Team9!$H$19=0, \"\", Team9!$H$19)","v":""},{"$f":"IF(Team9!$H$20=0, \"\", Team9!$H$20)","v":""},{"$f":"IF(Team9!$H$21=0, \"\", Team9!$H$21)","v":""},{"$f":"IF(Team9!$J$21=0, \"\", Team9!$J$21)","v":""},null,1,"","","",{"$f":"IF(X16=\"\", \"\", OFFSET(BH$8,MATCH(SMALL('Rank Wkst'!AS$8:AS$31,ROW()-ROW(AS$8)+1),AS$8:AS$31,0)-1,0))","v":""},{"$f":"IF(X16=\"\", \"\", OFFSET(BI$8,MATCH(SMALL('Rank Wkst'!AS$8:AS$31,ROW()-ROW(AS$8)+1),AS$8:AS$31,0)-1,0))","v":""},{"$f":"IF(X16=\"\", \"\", OFFSET(BJ$8,MATCH(SMALL('Rank Wkst'!AS$8:AS$31,ROW()-ROW(AS$8)+1),AS$8:AS$31,0)-1,0))","v":""},{"$f":"IF(X16=\"\", \"\", OFFSET(BK$8,MATCH(SMALL('Rank Wkst'!AS$8:AS$31,ROW()-ROW(AS$8)+1),AS$8:AS$31,0)-1,0))","v":""},{"$f":"IF(X16=\"\", \"\", OFFSET(BL$8,MATCH(SMALL('Rank Wkst'!AS$8:AS$31,ROW()-ROW(AS$8)+1),AS$8:AS$31,0)-1,0))","v":""},{"$f":"IF(X16=\"\", \"\", OFFSET(BM$8,MATCH(SMALL('Rank Wkst'!AS$8:AS$31,ROW()-ROW(AS$8)+1),AS$8:AS$31,0)-1,0))","v":""},{"$f":"IF(X16=\"\", \"\", OFFSET(BN$8,MATCH(SMALL('Rank Wkst'!AS$8:AS$31,ROW()-ROW(AS$8)+1),AS$8:AS$31,0)-1,0))","v":""},{"$f":"IF(X16=\"\", \"\", OFFSET(BO$8,MATCH(SMALL('Rank Wkst'!AS$8:AS$31,ROW()-ROW(AS$8)+1),AS$8:AS$31,0)-1,0))","v":""},{"$f":"IF(X16=\"\", \"\", OFFSET(BP$8,MATCH(SMALL('Rank Wkst'!AS$8:AS$31,ROW()-ROW(AS$8)+1),AS$8:AS$31,0)-1,0))","v":""},{"$f":"IF(X16=\"\", \"\", OFFSET(BQ$8,MATCH(SMALL('Rank Wkst'!AS$8:AS$31,ROW()-ROW(AS$8)+1),AS$8:AS$31,0)-1,0))","v":""},{"$f":"IF(X16=\"\", \"\", OFFSET(BR$8,MATCH(SMALL('Rank Wkst'!AS$8:AS$31,ROW()-ROW(AS$8)+1),AS$8:AS$31,0)-1,0))","v":""},{"$f":"IF(X16=\"\", \"\", OFFSET(BS$8,MATCH(SMALL('Rank Wkst'!AS$8:AS$31,ROW()-ROW(AS$8)+1),AS$8:AS$31,0)-1,0))","v":""},{"$f":"IF(X16=\"\", \"\", OFFSET(BT$8,MATCH(SMALL('Rank Wkst'!AS$8:AS$31,ROW()-ROW(AS$8)+1),AS$8:AS$31,0)-1,0))","v":""},{"$f":"IF(X16=\"\", \"\", OFFSET(BU$8,MATCH(SMALL('Rank Wkst'!AS$8:AS$31,ROW()-ROW(AS$8)+1),AS$8:AS$31,0)-1,0))","v":""},"",null,9,{"$f":"IF('Ranking Sheet'!B20=0, \"\", 'Ranking Sheet'!B20)","v":""},"","","","","","","","","","","","",null,0,0,0,0,0,null,"","","","","","","","","","","","","","","","","","","","","","",null,",,,,,,,,",",,,,,,,,/,,",",,,,,,,,,,,,,,,,/,,"]
[10,{"$f":"IF('Ranking Sheet'!B21=0, \"\", 'Ranking Sheet'!B21)","v":""},{"$f":"IF(Team10!$D$21=0,\"\",Team10!$D$21)","v":""},"","","","",{"$f":"IF(Team10!$E$21=0, \"\", Team10!$E$21)","v":""},"","","","",{"$f":"IF(Team10!$F$21=0, \"\", Team10!$F$21)","v":""},"","","","",{"$f":"IF(Team10!$G$21=0, \"\", Team10!$G$21)","v":""},"","","","",0,"","",{"$error":"#VALUE!"},99,1,24,{"$error":"#VALUE!"},0,"",1,"",24,12.5,"",1,1,1,{"$f":"IF(AM17=\"\", \"\", SMALL(AM$8:AM$31, 10))","v":1},"","",{"$f":"COUNT($AM$8:$AM$31)-(RANK(AM17,$AM$8:$AM$31,0)+COUNTIF(AM$8:$AM17,AM17))+2","v":15},15,"","","TIE","TIE","","","","*","*","*","",null,10,{"$f":"IF('Ranking Sheet'!B21=0, \"\", 'Ranking Sheet'!B21)","v":""},{"$f":"IF(Team10!$H$9=0, \"\",Team10!$H$9)","v":""},{"$f":"IF(Team10!$H$10=0, \"\",Team10!$H$10)","v":""},{"$f":"IF(Team10!$H$11=0, \"\",Team10!$H$11)","v":""},{"$f":"IF(Team10!$H$12=0, \"\",Team10!$H$12)","v":""},{"$f":"IF(Team10!$H$13=0, \"\",Team10!$H$13)","v":""},{"$f":"IF(Team10!$H$14=0, \"\",Team10!$H$14)","v":""},{"$f":"IF(Team10!$H$15=0, \"\",Team10!$H$15)","v":""},{"$f":"IF(Team10!$H$16=0, \"\",Team10!$H$16)","v":""},{"$f":"IF(Team10!$H$17=0, \"\",Team10!$H$17)","v":""},{"$f":"IF(Team10!$H$18=0, \"\",Team10!$H$18)","v":""},{"$f":"IF(Team10!$H$19=0, \"\",Team10!$H$19)","v":""},{"$f":"IF(Team10!$H$20=0, \"\",Team10!$H$20)","v":""},{"$f":"IF(Team10!$H$21=0, \"\",Team10!$H$21)","v":""},{"$f":"IF(Team10!$J$21=0, \"\",Team10!$J$21)","v":""},null,1,"","","",{"$f":"IF(X17=\"\", \"\", OFFSET(BH$8,MATCH(SMALL('Rank Wkst'!AS$8:AS$31,ROW()-ROW(AS$8)+1),AS$8:AS$31,0)-1,0))","v":""},{"$f":"IF(X17=\"\", \"\", OFFSET(BI$8,MATCH(SMALL('Rank Wkst'!AS$8:AS$31,ROW()-ROW(AS$8)+1),AS$8:AS$31,0)-1,0))","v":""},{"$f":"IF(X17=\"\", \"\", OFFSET(BJ$8,MATCH(SMALL('Rank Wkst'!AS$8:AS$31,ROW()-ROW(AS$8)+1),AS$8:AS$31,0)-1,0))","v":""},{"$f":"IF(X17=\"\", \"\", OFFSET(BK$8,MATCH(SMALL('Rank Wkst'!AS$8:AS$31,ROW()-ROW(AS$8)+1),AS$8:AS$31,0)-1,0))","v":""},{"$f":"IF(X17=\"\", \"\", OFFSET(BL$8,MATCH(SMALL('Rank Wkst'!AS$8:AS$31,ROW()-ROW(AS$8)+1),AS$8:AS$31,0)-1,0))","v":""},{"$f":"IF(X17=\"\", \"\", OFFSET(BM$8,MATCH(SMALL('Rank Wkst'!AS$8:AS$31,ROW()-ROW(AS$8)+1),AS$8:AS$31,0)-1,0))","v":""},{"$f":"IF(X17=\"\", \"\", OFFSET(BN$8,MATCH(SMALL('Rank Wkst'!AS$8:AS$31,ROW()-ROW(AS$8)+1),AS$8:AS$31,0)-1,0))","v":""},{"$f":"IF(X17=\"\", \"\", OFFSET(BO$8,MATCH(SMALL('Rank Wkst'!AS$8:AS$31,ROW()-ROW(AS$8)+1),AS$8:AS$31,0)-1,0))","v":""},{"$f":"IF(X17=\"\", \"\", OFFSET(BP$8,MATCH(SMALL('Rank Wkst'!AS$8:AS$31,ROW()-ROW(AS$8)+1),AS$8:AS$31,0)-1,0))","v":""},{"$f":"IF(X17=\"\", \"\", OFFSET(BQ$8,MATCH(SMALL('Rank Wkst'!AS$8:AS$31,ROW()-ROW(AS$8)+1),AS$8:AS$31,0)-1,0))","v":""},{"$f":"IF(X17=\"\", \"\", OFFSET(BR$8,MATCH(SMALL('Rank Wkst'!AS$8:AS$31,ROW()-ROW(AS$8)+1),AS$8:AS$31,0)-1,0))","v":""},{"$f":"IF(X17=\"\", \"\", OFFSET(BS$8,MATCH(SMALL('Rank Wkst'!AS$8:AS$31,ROW()-ROW(AS$8)+1),AS$8:AS$31,0)-1,0))","v":""},{"$f":"IF(X17=\"\", \"\", OFFSET(BT$8,MATCH(SMALL('Rank Wkst'!AS$8:AS$31,ROW()-ROW(AS$8)+1),AS$8:AS$31,0)-1,0))","v":""},{"$f":"IF(X17=\"\", \"\", OFFSET(BU$8,MATCH(SMALL('Rank Wkst'!AS$8:AS$31,ROW()-ROW(AS$8)+1),AS$8:AS$31,0)-1,0))","v":""},"",null,10,{"$f":"IF('Ranking Sheet'!B21=0, \"\", 'Ranking Sheet'!B21)","v":""},"","","","","","","","","","","","",null,0,0,0,0,0,null,"","","","","","","","","","","","","","","","","","","","","","",null,",,,,,,,,",",,,,,,,,/,,",",,,,,,,,,,,,,,,,/,,"]
[11,{"$f":"IF('Ranking Sheet'!B22=0, \"\", 'Ranking Sheet'!B22)","v":""},{"$f":"IF(Team11!$D$21=0,\"\",Team11!$D$21)","v":""},"","","","",{"$f":"IF(Team11!$E$21=0, \"\", Team11!$E$21)","v":""},"","","","",{"$f":"IF(Team11!$F$21=0, \"\", Team11!$F$21)","v":""},"","","","",{"$f":"IF(Team11!$G$21=0, \"\", Team11!$G$21)","v":""},"","","","",0,"","",{"$error":"#VALUE!"},99,1,24,{"$error":"#VALUE!"},0,"",1,"",24,12.5,"",1,1,1,{"$f":"IF(AM18=\"\", \"\", SMALL(AM$8:AM$31, 11))","v":1},"","",{"$f":"COUNT($AM$8:$AM$31)-(RANK(AM18,$AM$8:$AM$31,0)+COUNTIF(AM$8:$AM18,AM18))+2","v":14},14,"","","TIE","TIE","","","","*","*","*","",null,11,{"$f":"IF('Ranking Sheet'!B22=0, \"\", 'Ranking Sheet'!B22)","v":""},{"$f":"IF(Team11!$H$9=0, \"\", Team11!$H$9)","v":""},{"$f":"IF(Team11!$H$10=0, \"\", Team11!$H$10)","v":""},{"$f":"IF(Team11!$H$11=0, \"\", Team11!$H$11)","v":""},{"$f":"IF(Team11!$H$12=0, \"\", Team11!$H$12)","v":""},{"$f":"IF(Team11!$H$13=0, \"\", Team11!$H$13)","v":""},{"$f":"IF(Team11!$H$14=0, \"\", Team11!$H$14)","v":""},{"$f":"IF(Team11!$H$15=0, \"\", Team11!$H$15)","v":""},{"$f":"IF(Team11!$H$16=0, \"\", Team11!$H$16)","v":""},{"$f":"IF(Team11!$H$17=0, \"\", Team11!$H$17)","v":""},{"$f":"IF(Team11!$H$18=0, \"\", Team11!$H$18)","v":""},{"$f":"IF(Team11!$H$19=0, \"\", Team11!$H$19)","v":""},{"$f":"IF(Team11!$H$20=0, \"\", Team11!$H$20)","v":""},{"$f":"IF(Team11!$H$21=0, \"\", Team11!$H$21)","v":""},{"$f":"IF(Team11!$J$21=0, \"\", Team11!$J$21)","v":""},null,1,"","","",{"$f":"IF(X18=\"\", \"\", OFFSET(BH$8,MATCH(SMALL('Rank Wkst'!AS$8:AS$31,ROW()-ROW(AS$8)+1),AS$8:AS$31,0)-1,0))","v":""},{"$f":"IF(X18=\"\", \"\", OFFSET(BI$8,MATCH(SMALL('Rank Wkst'!AS$8:AS$31,ROW()-ROW(AS$8)+1),AS$8:AS$31,0)-1,0))","v":""},{"$f":"IF(X18=\"\", \"\", OFFSET(BJ$8,MATCH(SMALL('Rank Wkst'!AS$8:AS$31,ROW()-ROW(AS$8)+1),AS$8:AS$31,0)-1,0))","v":""},{"$f":"IF(X18=\"\", \"\", OFFSET(BK$8,MATCH(SMALL('Rank Wkst'!AS$8:AS$31,ROW()-ROW(AS$8)+1),AS$8:AS$31,0)-1,0))","v":""},{"$f":"IF(X18=\"\", \"\", OFFSET(BL$8,MATCH(SMALL('Rank Wkst'!AS$8:AS$31,ROW()-ROW(AS$8)+1),AS$8:AS$31,0)-1,0))","v":""},{"$f":"IF(X18=\"\", \"\", OFFSET(BM$8,MATCH(SMALL('Rank Wkst'!AS$8:AS$31,ROW()-ROW(AS$8)+1),AS$8:AS$31,0)-1,0))","v":""},{"$f":"IF(X18=\"\", \"\", OFFSET(BN$8,MATCH(SMALL('Rank Wkst'!AS$8:AS$31,ROW()-ROW(AS$8)+1),AS$8:AS$31,0)-1,0))","v":""},{"$f":"IF(X18=\"\", \"\", OFFSET(BO$8,MATCH(SMALL('Rank Wkst'!AS$8:AS$31,ROW()-ROW(AS$8)+1),AS$8:AS$31,0)-1,0))","v":""},{"$f":"IF(X18=\"\", \"\", OFFSET(BP$8,MATCH(SMALL('Rank Wkst'!AS$8:AS$31,ROW()-ROW(AS$8)+1),AS$8:AS$31,0)-1,0))","v":""},{"$f":"IF(X18=\"\", \"\", OFFSET(BQ$8,MATCH(SMALL('Rank Wkst'!AS$8:AS$31,ROW()-ROW(AS$8)+1),AS$8:AS$31,0)-1,0))","v":""},{"$f":"IF(X18=\"\", \"\", OFFSET(BR$8,MATCH(SMALL('Rank Wkst'!AS$8:AS$31,ROW()-ROW(AS$8)+1),AS$8:AS$31,0)-1,0))","v":""},{"$f":"IF(X18=\"\", \"\", OFFSET(BS$8,MATCH(SMALL('Rank Wkst'!AS$8:AS$31,ROW()-ROW(AS$8)+1),AS$8:AS$31,0)-1,0))","v":""},{"$f":"IF(X18=\"\", \"\", OFFSET(BT$8,MATCH(SMALL('Rank Wkst'!AS$8:AS$31,ROW()-ROW(AS$8)+1),AS$8:AS$31,0)-1,0))","v":""},{"$f":"IF(X18=\"\", \"\", OFFSET(BU$8,MATCH(SMALL('Rank Wkst'!AS$8:AS$31,ROW()-ROW(AS$8)+1),AS$8:AS$31,0)-1,0))","v":""},"",null,11,{"$f":"IF('Ranking Sheet'!B22=0, \"\", 'Ranking Sheet'!B22)","v":""},"","","","","","","","","","","","",null,0,0,0,0,0,null,"","","","","","","","","","","","","","","","","","","","","","",null,",,,,,,,,",",,,,,,,,/,,",",,,,,,,,,,,,,,,,/,,"]
[12,{"$f":"IF('Ranking Sheet'!B23=0, \"\", 'Ranking Sheet'!B23)","v":""},{"$f":"IF(Team12!$D$21=0,\"\",Team12!$D$21)","v":""},"","","","",{"$f":"IF(Team12!$E$21=0, \"\", Team12!$E$21)","v":""},"","","","",{"$f":"IF(Team12!$F$21=0, \"\", Team12!$F$21)","v":""},"","","","",{"$f":"IF(Team12!$G$21=0, \"\", Team12!$G$21)","v":""},"","","","",0,"","",{"$error":"#VALUE!"},99,1,24,{"$error":"#VALUE!"},0,"",1,"",24,12.5,"",1,1,1,{"$f":"IF(AM19=\"\", \"\", SMALL(AM$8:AM$31, 12))","v":1},"","",{"$f":"COUNT($AM$8:$AM$31)-(RANK(AM19,$AM$8:$AM$31,0)+COUNTIF(AM$8:$AM19,AM19))+2","v":13},13,"","","TIE","TIE","","","","*","*","*","",null,12,{"$f":"IF('Ranking Sheet'!B23=0, \"\", 'Ranking Sheet'!B23)","v":""},{"$f":"IF(Team12!$H$9=0, \"\", Team12!$H$9)","v":""},{"$f":"IF(Team12!$H$10=0, \"\", Team12!$H$10)","v":""},{"$f":"IF(Team12!$H$11=0, \"\", Team12!$H$11)","v":""},{"$f":"IF(Team12!$H$12=0, \"\", Team12!$H$12)","v":""},{"$f":"IF(Team12!$H$13=0, \"\", Team12!$H$13)","v":""},{"$f":"IF(Team12!$H$14=0, \"\", Team12!$H$14)","v":""},{"$f":"IF(Team12!$H$15=0, \"\", Team12!$H$15)","v":""},{"$f":"IF(Team12!$H$16=0, \"\", Team12!$H$16)","v":""},{"$f":"IF(Team12!$H$17=0, \"\", Team12!$H$17)","v":""},{"$f":"IF(Team12!$H$18=0, \"\", Team12!$H$18)","v":""},{"$f":"IF(Team12!$H$19=0, \"\", Team12!$H$19)","v":""},{"$f":"IF(Team12!$H$20=0, \"\", Team12!$H$20)","v":""},{"$f":"IF(Team12!$H$21=0, \"\", Team12!$H$21)","v":""},{"$f":"IF(Team12!$J$21=0, \"\", Team12!$J$21)","v":""},null,1,"","","",{"$f":"IF(X19=\"\", \"\", OFFSET(BH$8,MATCH(SMALL('Rank Wkst'!AS$8:AS$31,ROW()-ROW(AS$8)+1),AS$8:AS$31,0)-1,0))","v":""},{"$f":"IF(X19=\"\", \"\", OFFSET(BI$8,MATCH(SMALL('Rank Wkst'!AS$8:AS$31,ROW()-ROW(AS$8)+1),AS$8:AS$31,0)-1,0))","v":""},{"$f":"IF(X19=\"\", \"\", OFFSET(BJ$8,MATCH(SMALL('Rank Wkst'!AS$8:AS$31,ROW()-ROW(AS$8)+1),AS$8:AS$31,0)-1,0))","v":""},{"$f":"IF(X19=\"\", \"\", OFFSET(BK$8,MATCH(SMALL('Rank Wkst'!AS$8:AS$31,ROW()-ROW(AS$8)+1),AS$8:AS$31,0)-1,0))","v":""},{"$f":"IF(X19=\"\", \"\", OFFSET(BL$8,MATCH(SMALL('Rank Wkst'!AS$8:AS$31,ROW()-ROW(AS$8)+1),AS$8:AS$31,0)-1,0))","v":""},{"$f":"IF(X19=\"\", \"\", OFFSET(BM$8,MATCH(SMALL('Rank Wkst'!AS$8:AS$31,ROW()-ROW(AS$8)+1),AS$8:AS$31,0)-1,0))","v":""},{"$f":"IF(X19=\"\", \"\", OFFSET(BN$8,MATCH(SMALL('Rank Wkst'!AS$8:AS$31,ROW()-ROW(AS$8)+1),AS$8:AS$31,0)-1,0))","v":""},{"$f":"IF(X19=\"\", \"\", OFFSET(BO$8,MATCH(SMALL('Rank Wkst'!AS$8:AS$31,ROW()-ROW(AS$8)+1),AS$8:AS$31,0)-1,0))","v":""},{"$f":"IF(X19=\"\", \"\", OFFSET(BP$8,MATCH(SMALL('Rank Wkst'!AS$8:AS$31,ROW()-ROW(AS$8)+1),AS$8:AS$31,0)-1,0))","v":""},{"$f":"IF(X19=\"\", \"\", OFFSET(BQ$8,MATCH(SMALL('Rank Wkst'!AS$8:AS$31,ROW()-ROW(AS$8)+1),AS$8:AS$31,0)-1,0))","v":""},{"$f":"IF(X19=\"\", \"\", OFFSET(BR$8,MATCH(SMALL('Rank Wkst'!AS$8:AS$31,ROW()-ROW(AS$8)+1),AS$8:AS$31,0)-1,0))","v":""},{"$f":"IF(X19=\"\", \"\", OFFSET(BS$8,MATCH(SMALL('Rank Wkst'!AS$8:AS$31,ROW()-ROW(AS$8)+1),AS$8:AS$31,0)-1,0))","v":""},{"$f":"IF(X19=\"\", \"\", OFFSET(BT$8,MATCH(SMALL('Rank Wkst'!AS$8:AS$31,ROW()-ROW(AS$8)+1),AS$8:AS$31,0)-1,0))","v":""},{"$f":"IF(X19=\"\", \"\", OFFSET(BU$8,MATCH(SMALL('Rank Wkst'!AS$8:AS$31,ROW()-ROW(AS$8)+1),AS$8:AS$31,0)-1,0))","v":""},"",null,12,{"$f":"IF('Ranking Sheet'!B23=0, \"\", 'Ranking Sheet'!B23)","v":""},"","","","","","","","","","","","",null,0,0,0,0,0,null,"","","","","","","","","","","","","","","","","","","","","","",null,",,,,,,,,",",,,,,,,,/,,",",,,,,,,,,,,,,,,,/,,"]
[13,{"$f":"IF('Ranking Sheet'!B24=0, \"\", 'Ranking Sheet'!B24)","v":""},{"$f":"IF(Team13!$D$21=0,\"\",Team13!$D$21)","v":""},"","","","",{"$f":"IF(Team13!$E$21=0, \"\", Team13!$E$21)","v":""},"","","","",{"$f":"IF(Team13!$F$21=0, \"\", Team13!$F$21)","v":""},"","","","",{"$f":"IF(Team13!$G$21=0, \"\", Team13!$G$21)","v":""},"","","","",0,"","",{"$error":"#VALUE!"},99,1,24,{"$error":"#VALUE!"},0,"",1,"",24,12.5,"",1,1,1,{"$f":"IF(AM20=\"\", \"\", SMALL(AM$8:AM$31, 13))","v":1},"","",{"$f":"COUNT($AM$8:$AM$31)-(RANK(AM20,$AM$8:$AM$31,0)+COUNTIF(AM$8:$AM20,AM20))+2","v":12},12,"","","TIE","TIE","","","","*","*","*","",null,13,{"$f":"IF('Ranking Sheet'!B24=0, \"\", 'Ranking Sheet'!B24)","v":""},{"$f":"IF(Team13!$H$9=0, \"\", Team13!$H$9)","v":""},{"$f":"IF(Team13!$H$10=0, \"\", Team13!$H$10)","v":""},{"$f":"IF(Team13!$H$11=0, \"\", Team13!$H$11)","v":""},{"$f":"IF(Team13!$H$12=0, \"\", Team13!$H$12)","v":""},{"$f":"IF(Team13!$H$13=0, \"\", Team13!$H$13)","v":""},{"$f":"IF(Team13!$H$14=0, \"\", Team13!$H$14)","v":""},{"$f":"IF(Team13!$H$15=0, \"\", Team13!$H$15)","v":""},{"$f":"IF(Team13!$H$16=0, \"\", Team13!$H$16)","v":""},{"$f":"IF(Team13!$H$17=0, \"\", Team13!$H$17)","v":""},{"$f":"IF(Team13!$H$18=0, \"\", Team13!$H$18)","v":""},{"$f":"IF(Team13!$H$19=0, \"\", Team13!$H$19)","v":""},{"$f":"IF(Team13!$H$20=0, \"\", Team13!$H$20)","v":""},{"$f":"IF(Team13!$H$21=0, \"\", Team13!$H$21)","v":""},{"$f":"IF(Team13!$J$21=0, \"\", Team13!$J$21)","v":""},null,1,"","","",{"$f":"IF(X20=\"\", \"\", OFFSET(BH$8,MATCH(SMALL('Rank Wkst'!AS$8:AS$31,ROW()-ROW(AS$8)+1),AS$8:AS$31,0)-1,0))","v":""},{"$f":"IF(X20=\"\", \"\", OFFSET(BI$8,MATCH(SMALL('Rank Wkst'!AS$8:AS$31,ROW()-ROW(AS$8)+1),AS$8:AS$31,0)-1,0))","v":""},{"$f":"IF(X20=\"\", \"\", OFFSET(BJ$8,MATCH(SMALL('Rank Wkst'!AS$8:AS$31,ROW()-ROW(AS$8)+1),AS$8:AS$31,0)-1,0))","v":""},{"$f":"IF(X20=\"\", \"\", OFFSET(BK$8,MATCH(SMALL('Rank Wkst'!AS$8:AS$31,ROW()-ROW(AS$8)+1),AS$8:AS$31,0)-1,0))","v":""},{"$f":"IF(X20=\"\", \"\", OFFSET(BL$8,MATCH(SMALL('Rank Wkst'!AS$8:AS$31,ROW()-ROW(AS$8)+1),AS$8:AS$31,0)-1,0))","v":""},{"$f":"IF(X20=\"\", \"\", OFFSET(BM$8,MATCH(SMALL('Rank Wkst'!AS$8:AS$31,ROW()-ROW(AS$8)+1),AS$8:AS$31,0)-1,0))","v":""},{"$f":"IF(X20=\"\", \"\", OFFSET(BN$8,MATCH(SMALL('Rank Wkst'!AS$8:AS$31,ROW()-ROW(AS$8)+1),AS$8:AS$31,0)-1,0))","v":""},{"$f":"IF(X20=\"\", \"\", OFFSET(BO$8,MATCH(SMALL('Rank Wkst'!AS$8:AS$31,ROW()-ROW(AS$8)+1),AS$8:AS$31,0)-1,0))","v":""},{"$f":"IF(X20=\"\", \"\", OFFSET(BP$8,MATCH(SMALL('Rank Wkst'!AS$8:AS$31,ROW()-ROW(AS$8)+1),AS$8:AS$31,0)-1,0))","v":""},{"$f":"IF(X20=\"\", \"\", OFFSET(BQ$8,MATCH(SMALL('Rank Wkst'!AS$8:AS$31,ROW()-ROW(AS$8)+1),AS$8:AS$31,0)-1,0))","v":""},{"$f":"IF(X20=\"\", \"\", OFFSET(BR$8,MATCH(SMALL('Rank Wkst'!AS$8:AS$31,ROW()-ROW(AS$8)+1),AS$8:AS$31,0)-1,0))","v":""},{"$f":"IF(X20=\"\", \"\", OFFSET(BS$8,MATCH(SMALL('Rank Wkst'!AS$8:AS$31,ROW()-ROW(AS$8)+1),AS$8:AS$31,0)-1,0))","v":""},{"$f":"IF(X20=\"\", \"\", OFFSET(BT$8,MATCH(SMALL('Rank Wkst'!AS$8:AS$31,ROW()-ROW(AS$8)+1),AS$8:AS$31,0)-1,0))","v":""},{"$f":"IF(X20=\"\", \"\", OFFSET(BU$8,MATCH(SMALL('Rank Wkst'!AS$8:AS$31,ROW()-ROW(AS$8)+1),AS$8:AS$31,0)-1,0))","v":""},"",null,13,{"$f":"IF('Ranking Sheet'!B24=0, \"\", 'Ranking Sheet'!B24)","v":""},"","","","","","","","","","","","",null,0,0,0,0,0,null,"","","","","","","","","","","","","","","","","","","","","","",null,",,,,,,,,",",,,,,,,,/,,",",,,,,,,,,,,,,,,,/,,"]
[14,{"$f":"IF('Ranking Sheet'!B25=0, \"\", 'Ranking Sheet'!B25)","v":""},{"$f":"IF(Team14!$D$21=0,\"\",Team14!$D$21)","v":""},"","","","",{"$f":"IF(Team14!$E$21=0, \"\", Team14!$E$21)","v":""},"","","","",{"$f":"IF(Team14!$F$21=0, \"\", Team14!$F$21)","v":""},"","","","",{"$f":"IF(Team14!$G$21=0, \"\", Team14!$G$21)","v":""},"","","","",0,"","",{"$error":"#VALUE!"},99,1,24,{"$error":"#VALUE!"},0,"",1,"",24,12.5,"",1,1,1,{"$f":"IF(AM21=\"\", \"\", SMALL(AM$8:AM$31, 14))","v":1},"","",{"$f":"COUNT($AM$8:$AM$31)-(RANK(AM21,$AM$8:$AM$31,0)+COUNTIF(AM$8:$AM21,AM21))+2","v":11},11,"","","TIE","TIE","","","","*","*","*","",null,14,{"$f":"IF('Ranking Sheet'!B25=0, \"\", 'Ranking Sheet'!B25)","v":""},{"$f":"IF(Team14!$H$9=0, \"\", Team14!$H$9)","v":""},{"$f":"IF(Team14!$H$10=0, \"\", Team14!$H$10)","v":""},{"$f":"IF(Team14!$H$11=0, \"\", Team14!$H$11)","v":""},{"$f":"IF(Team14!$H$12=0, \"\", Team14!$H$12)","v":""},{"$f":"IF(Team14!$H$13=0, \"\", Team14!$H$13)","v":""},{"$f":"IF(Team14!$H$14=0, \"\", Team14!$H$14)","v":""},{"$f":"IF(Team14!$H$15=0, \"\", Team14!$H$15)","v":""},{"$f":"IF(Team14!$H$16=0, \"\", Team14!$H$16)","v":""},{"$f":"IF(Team14!$H$17=0, \"\", Team14!$H$17)","v":""},{"$f":"IF(Team14!$H$18=0, \"\", Team14!$H$18)","v":""},{"$f":"IF(Team14!$H$19=0, \"\", Team14!$H$19)","v":""},{"$f":"IF(Team14!$H$20=0, \"\", Team14!$H$20)","v":""},{"$f":"IF(Team14!$H$21=0, \"\", Team14!$H$21)","v":""},{"$f":"IF(Team14!$J$21=0, \"\", Team14!$J$21)","v":""},null,1,"","","",{"$f":"IF(X21=\"\", \"\", OFFSET(BH$8,MATCH(SMALL('Rank Wkst'!AS$8:AS$31,ROW()-ROW(AS$8)+1),AS$8:AS$31,0)-1,0))","v":""},{"$f":"IF(X21=\"\", \"\", OFFSET(BI$8,MATCH(SMALL('Rank Wkst'!AS$8:AS$31,ROW()-ROW(AS$8)+1),AS$8:AS$31,0)-1,0))","v":""},{"$f":"IF(X21=\"\", \"\", OFFSET(BJ$8,MATCH(SMALL('Rank Wkst'!AS$8:AS$31,ROW()-ROW(AS$8)+1),AS$8:AS$31,0)-1,0))","v":""},{"$f":"IF(X21=\"\", \"\", OFFSET(BK$8,MATCH(SMALL('Rank Wkst'!AS$8:AS$31,ROW()-ROW(AS$8)+1),AS$8:AS$31,0)-1,0))","v":""},{"$f":"IF(X21=\"\", \"\", OFFSET(BL$8,MATCH(SMALL('Rank Wkst'!AS$8:AS$31,ROW()-ROW(AS$8)+1),AS$8:AS$31,0)-1,0))","v":""},{"$f":"IF(X21=\"\", \"\", OFFSET(BM$8,MATCH(SMALL('Rank Wkst'!AS$8:AS$31,ROW()-ROW(AS$8)+1),AS$8:AS$31,0)-1,0))","v":""},{"$f":"IF(X21=\"\", \"\", OFFSET(BN$8,MATCH(SMALL('Rank Wkst'!AS$8:AS$31,ROW()-ROW(AS$8)+1),AS$8:AS$31,0)-1,0))","v":""},{"$f":"IF(X21=\"\", \"\", OFFSET(BO$8,MATCH(SMALL('Rank Wkst'!AS$8:AS$31,ROW()-ROW(AS$8)+1),AS$8:AS$31,0)-1,0))","v":""},{"$f":"IF(X21=\"\", \"\", OFFSET(BP$8,MATCH(SMALL('Rank Wkst'!AS$8:AS$31,ROW()-ROW(AS$8)+1),AS$8:AS$31,0)-1,0))","v":""},{"$f":"IF(X21=\"\", \"\", OFFSET(BQ$8,MATCH(SMALL('Rank Wkst'!AS$8:AS$31,ROW()-ROW(AS$8)+1),AS$8:AS$31,0)-1,0))","v":""},{"$f":"IF(X21=\"\", \"\", OFFSET(BR$8,MATCH(SMALL('Rank Wkst'!AS$8:AS$31,ROW()-ROW(AS$8)+1),AS$8:AS$31,0)-1,0))","v":""},{"$f":"IF(X21=\"\", \"\", OFFSET(BS$8,MATCH(SMALL('Rank Wkst'!AS$8:AS$31,ROW()-ROW(AS$8)+1),AS$8:AS$31,0)-1,0))","v":""},{"$f":"IF(X21=\"\", \"\", OFFSET(BT$8,MATCH(SMALL('Rank Wkst'!AS$8:AS$31,ROW()-ROW(AS$8)+1),AS$8:AS$31,0)-1,0))","v":""},{"$f":"IF(X21=\"\", \"\", OFFSET(BU$8,MATCH(SMALL('Rank Wkst'!AS$8:AS$31,ROW()-ROW(AS$8)+1),AS$8:AS$31,0)-1,0))","v":""},"",null,14,{"$f":"IF('Ranking Sheet'!B25=0, \"\", 'Ranking Sheet'!B25)","v":""},"","","","","","","","","","","","",null,0,0,0,0,0,null,"","","","","","","","","","","","","","","","","","","","","","",null,",,,,,,,,",",,,,,,,,/,,",",,,,,,,,,,,,,,,,/,,"]
[15,{"$f":"IF('Ranking Sheet'!B26=0, \"\", 'Ranking Sheet'!B26)","v":""},{"$f":"IF(Team15!$D$21=0,\"\",Team15!$D$21)","v":""},"","","","",{"$f":"IF(Team15!$E$21=0, \"\", Team15!$E$21)","v":""},"","","","",{"$f":"IF(Team15!$F$21=0, \"\", Team15!$F$21)","v":""},"","","","",{"$f":"IF(Team15!$G$21=0, \"\", Team15!$G$21)","v":""},"","","","",0,"","",{"$error":"#VALUE!"},99,1,24,{"$error":"#VALUE!"},0,"",1,"",24,12.5,"",1,1,1,{"$f":"IF(AM22=\"\", \"\", SMALL(AM$8:AM$31, 15))","v":1},"","",{"$f":"COUNT($AM$8:$AM$31)-(RANK(AM22,$AM$8:$AM$31,0)+COUNTIF(AM$8:$AM22,AM22))+2","v":10},10,"","","TIE","TIE","","","","*","*","*","",null,15,{"$f":"IF('Ranking Sheet'!B26=0, \"\", 'Ranking Sheet'!B26)","v":""},{"$f":"IF(Team15!$H$9=0, \"\", Team15!$H$9)","v":""},{"$f":"IF(Team15!$H$10=0, \"\", Team15!$H$10)","v":""},{"$f":"IF(Team15!$H$11=0, \"\", Team15!$H$11)","v":""},{"$f":"IF(Team15!$H$12=0, \"\", Team15!$H$12)","v":""},{"$f":"IF(Team15!$H$13=0, \"\", Team15!$H$13)","v":""},{"$f":"IF(Team15!$H$14=0, \"\", Team15!$H$14)","v":""},{"$f":"IF(Team15!$H$15=0, \"\", Team15!$H$15)","v":""},{"$f":"IF(Team15!$H$16=0, \"\", Team15!$H$16)","v":""},{"$f":"IF(Team15!$H$17=0, \"\", Team15!$H$17)","v":""},{"$f":"IF(Team15!$H$18=0, \"\", Team15!$H$18)","v":""},{"$f":"IF(Team15!$H$19=0, \"\", Team15!$H$19)","v":""},{"$f":"IF(Team15!$H$20=0, \"\", Team15!$H$20)","v":""},{"$f":"IF(Team15!$H$21=0, \"\", Team15!$H$21)","v":""},{"$f":"IF(Team15!$J$21=0, \"\", Team15!$J$21)","v":""},null,1,"","","",{"$f":"IF(X22=\"\", \"\", OFFSET(BH$8,MATCH(SMALL('Rank Wkst'!AS$8:AS$31,ROW()-ROW(AS$8)+1),AS$8:AS$31,0)-1,0))","v":""},{"$f":"IF(X22=\"\", \"\", OFFSET(BI$8,MATCH(SMALL('Rank Wkst'!AS$8:AS$31,ROW()-ROW(AS$8)+1),AS$8:AS$31,0)-1,0))","v":""},{"$f":"IF(X22=\"\", \"\", OFFSET(BJ$8,MATCH(SMALL('Rank Wkst'!AS$8:AS$31,ROW()-ROW(AS$8)+1),AS$8:AS$31,0)-1,0))","v":""},{"$f":"IF(X22=\"\", \"\", OFFSET(BK$8,MATCH(SMALL('Rank Wkst'!AS$8:AS$31,ROW()-ROW(AS$8)+1),AS$8:AS$31,0)-1,0))","v":""},{"$f":"IF(X22=\"\", \"\", OFFSET(BL$8,MATCH(SMALL('Rank Wkst'!AS$8:AS$31,ROW()-ROW(AS$8)+1),AS$8:AS$31,0)-1,0))","v":""},{"$f":"IF(X22=\"\", \"\", OFFSET(BM$8,MATCH(SMALL('Rank Wkst'!AS$8:AS$31,ROW()-ROW(AS$8)+1),AS$8:AS$31,0)-1,0))","v":""},{"$f":"IF(X22=\"\", \"\", OFFSET(BN$8,MATCH(SMALL('Rank Wkst'!AS$8:AS$31,ROW()-ROW(AS$8)+1),AS$8:AS$31,0)-1,0))","v":""},{"$f":"IF(X22=\"\", \"\", OFFSET(BO$8,MATCH(SMALL('Rank Wkst'!AS$8:AS$31,ROW()-ROW(AS$8)+1),AS$8:AS$31,0)-1,0))","v":""},{"$f":"IF(X22=\"\", \"\", OFFSET(BP$8,MATCH(SMALL('Rank Wkst'!AS$8:AS$31,ROW()-ROW(AS$8)+1),AS$8:AS$31,0)-1,0))","v":""},{"$f":"IF(X22=\"\", \"\", OFFSET(BQ$8,MATCH(SMALL('Rank Wkst'!AS$8:AS$31,ROW()-ROW(AS$8)+1),AS$8:AS$31,0)-1,0))","v":""},{"$f":"IF(X22=\"\", \"\", OFFSET(BR$8,MATCH(SMALL('Rank Wkst'!AS$8:AS$31,ROW()-ROW(AS$8)+1),AS$8:AS$31,0)-1,0))","v":""},{"$f":"IF(X22=\"\", \"\", OFFSET(BS$8,MATCH(SMALL('Rank Wkst'!AS$8:AS$31,ROW()-ROW(AS$8)+1),AS$8:AS$31,0)-1,0))","v":""},{"$f":"IF(X22=\"\", \"\", OFFSET(BT$8,MATCH(SMALL('Rank Wkst'!AS$8:AS$31,ROW()-ROW(AS$8)+1),AS$8:AS$31,0)-1,0))","v":""},{"$f":"IF(X22=\"\", \"\", OFFSET(BU$8,MATCH(SMALL('Rank Wkst'!AS$8:AS$31,ROW()-ROW(AS$8)+1),AS$8:AS$31,0)-1,0))","v":""},"",null,15,{"$f":"IF('Ranking Sheet'!B26=0, \"\", 'Ranking Sheet'!B26)","v":""},"","","","","","","","","","","","",null,0,0,0,0,0,null,"","","","","","","","","","","","","","","","","","","","","","",null,",,,,,,,,",",,,,,,,,/,,",",,,,,,,,,,,,,,,,/,,"]
[16,{"$f":"IF('Ranking Sheet'!B27=0, \"\", 'Ranking Sheet'!B27)","v":""},{"$f":"IF(Team16!$D$21=0,\"\",Team16!$D$21)","v":""},"","","","",{"$f":"IF(Team16!$E$21=0, \"\", Team16!$E$21)","v":""},"","","","",{"$f":"IF(Team16!$F$21=0, \"\", Team16!$F$21)","v":""},"","","","",{"$f":"IF(Team16!$G$21=0, \"\", Team16!$G$21)","v":""},"","","","",0,"","",{"$error":"#VALUE!"},99,1,24,{"$error":"#VALUE!"},0,"",1,"",24,12.5,"",1,1,1,{"$f":"IF(AM23=\"\", \"\", SMALL(AM$8:AM$31, 16))","v":1},"","",{"$f":"COUNT($AM$8:$AM$31)-(RANK(AM23,$AM$8:$AM$31,0)+COUNTIF(AM$8:$AM23,AM23))+2","v":9},9,"","","TIE","TIE","","","","*","*","*","",null,16,{"$f":"IF('Ranking Sheet'!B27=0, \"\", 'Ranking Sheet'!B27)","v":""},{"$f":"IF(Team16!$H$9=0, \"\", Team16!$H$9)","v":""},{"$f":"IF(Team16!$H$10=0, \"\", Team16!$H$10)","v":""},{"$f":"IF(Team16!$H$11=0, \"\", Team16!$H$11)","v":""},{"$f":"IF(Team16!$H$12=0, \"\", Team16!$H$12)","v":""},{"$f":"IF(Team16!$H$13=0, \"\", Team16!$H$13)","v":""},{"$f":"IF(Team16!$H$14=0, \"\", Team16!$H$14)","v":""},{"$f":"IF(Team16!$H$15=0, \"\", Team16!$H$15)","v":""},{"$f":"IF(Team16!$H$16=0, \"\", Team16!$H$16)","v":""},{"$f":"IF(Team16!$H$17=0, \"\", Team16!$H$17)","v":""},{"$f":"IF(Team16!$H$18=0, \"\", Team16!$H$18)","v":""},{"$f":"IF(Team16!$H$19=0, \"\", Team16!$H$19)","v":""},{"$f":"IF(Team16!$H$20=0, \"\", Team16!$H$20)","v":""},{"$f":"IF(Team16!$H$21=0, \"\", Team16!$H$21)","v":""},{"$f":"IF(Team16!$J$21=0, \"\", Team16!$J$21)","v":""},null,1,"","","",{"$f":"IF(X23=\"\", \"\", OFFSET(BH$8,MATCH(SMALL('Rank Wkst'!AS$8:AS$31,ROW()-ROW(AS$8)+1),AS$8:AS$31,0)-1,0))","v":""},{"$f":"IF(X23=\"\", \"\", OFFSET(BI$8,MATCH(SMALL('Rank Wkst'!AS$8:AS$31,ROW()-ROW(AS$8)+1),AS$8:AS$31,0)-1,0))","v":""},{"$f":"IF(X23=\"\", \"\", OFFSET(BJ$8,MATCH(SMALL('Rank Wkst'!AS$8:AS$31,ROW()-ROW(AS$8)+1),AS$8:AS$31,0)-1,0))","v":""},{"$f":"IF(X23=\"\", \"\", OFFSET(BK$8,MATCH(SMALL('Rank Wkst'!AS$8:AS$31,ROW()-ROW(AS$8)+1),AS$8:AS$31,0)-1,0))","v":""},{"$f":"IF(X23=\"\", \"\", OFFSET(BL$8,MATCH(SMALL('Rank Wkst'!AS$8:AS$31,ROW()-ROW(AS$8)+1),AS$8:AS$31,0)-1,0))","v":""},{"$f":"IF(X23=\"\", \"\", OFFSET(BM$8,MATCH(SMALL('Rank Wkst'!AS$8:AS$31,ROW()-ROW(AS$8)+1),AS$8:AS$31,0)-1,0))","v":""},{"$f":"IF(X23=\"\", \"\", OFFSET(BN$8,MATCH(SMALL('Rank Wkst'!AS$8:AS$31,ROW()-ROW(AS$8)+1),AS$8:AS$31,0)-1,0))","v":""},{"$f":"IF(X23=\"\", \"\", OFFSET(BO$8,MATCH(SMALL('Rank Wkst'!AS$8:AS$31,ROW()-ROW(AS$8)+1),AS$8:AS$31,0)-1,0))","v":""},{"$f":"IF(X23=\"\", \"\", OFFSET(BP$8,MATCH(SMALL('Rank Wkst'!AS$8:AS$31,ROW()-ROW(AS$8)+1),AS$8:AS$31,0)-1,0))","v":""},{"$f":"IF(X23=\"\", \"\", OFFSET(BQ$8,MATCH(SMALL('Rank Wkst'!AS$8:AS$31,ROW()-ROW(AS$8)+1),AS$8:AS$31,0)-1,0))","v":""},{"$f":"IF(X23=\"\", \"\", OFFSET(BR$8,MATCH(SMALL('Rank Wkst'!AS$8:AS$31,ROW()-ROW(AS$8)+1),AS$8:AS$31,0)-1,0))","v":""},{"$f":"IF(X23=\"\", \"\", OFFSET(BS$8,MATCH(SMALL('Rank Wkst'!AS$8:AS$31,ROW()-ROW(AS$8)+1),AS$8:AS$31,0)-1,0))","v":""},{"$f":"IF(X23=\"\", \"\", OFFSET(BT$8,MATCH(SMALL('Rank Wkst'!AS$8:AS$31,ROW()-ROW(AS$8)+1),AS$8:AS$31,0)-1,0))","v":""},{"$f":"IF(X23=\"\", \"\", OFFSET(BU$8,MATCH(SMALL('Rank Wkst'!AS$8:AS$31,ROW()-ROW(AS$8)+1),AS$8:AS$31,0)-1,0))","v":""},"",null,16,{"$f":"IF('Ranking Sheet'!B27=0, \"\", 'Ranking Sheet'!B27)","v":""},"","","","","","","","","","","","",null,0,0,0,0,0,null,"","","","","","","","","","","","","","","","","","","","","","",null,",,,,,,,,",",,,,,,,,/,,",",,,,,,,,,,,,,,,,/,,"]
[17,{"$f":"IF('Ranking Sheet'!B28=0, \"\", 'Ranking Sheet'!B28)","v":""},{"$f":"IF(Team17!$D$21=0,\"\",Team17!$D$21)","v":""},"","","","",{"$f":"IF(Team17!$E$21=0, \"\", Team17!$E$21)","v":""},"","","","",{"$f":"IF(Team17!$F$21=0, \"\", Team17!$F$21)","v":""},"","","","",{"$f":"IF(Team17!$G$21=0, \"\", Team17!$G$21)","v":""},"","","","",0,"","",{"$error":"#VALUE!"},99,1,24,{"$error":"#VALUE!"},0,"",1,"",24,12.5,"",1,1,1,{"$f":"IF(AM24=\"\", \"\", SMALL(AM$8:AM$31, 17))","v":1},"","",{"$f":"COUNT($AM$8:$AM$31)-(RANK(AM24,$AM$8:$AM$31,0)+COUNTIF(AM$8:$AM24,AM24))+2","v":8},8,"","","TIE","TIE","","","","*","*","*","",null,17,{"$f":"IF('Ranking Sheet'!B28=0, \"\", 'Ranking Sheet'!B28)","v":""},{"$f":"IF(Team17!$H$9=0, \"\", Team17!$H$9)","v":""},{"$f":"IF(Team17!$H$10=0, \"\", Team17!$H$10)","v":""},{"$f":"IF(Team17!$H$11=0, \"\", Team17!$H$11)","v":""},{"$f":"IF(Team17!$H$12=0, \"\", Team17!$H$12)","v":""},{"$f":"IF(Team17!$H$13=0, \"\", Team17!$H$13)","v":""},{"$f":"IF(Team17!$H$14=0, \"\", Team17!$H$14)","v":""},{"$f":"IF(Team17!$H$15=0, \"\", Team17!$H$15)","v":""},{"$f":"IF(Team17!$H$16=0, \"\", Team17!$H$16)","v":""},{"$f":"IF(Team17!$H$17=0, \"\", Team17!$H$17)","v":""},{"$f":"IF(Team17!$H$18=0, \"\", Team17!$H$18)","v":""},{"$f":"IF(Team17!$H$19=0, \"\", Team17!$H$19)","v":""},{"$f":"IF(Team17!$H$20=0, \"\", Team17!$H$20)","v":""},{"$f":"IF(Team17!$H$21=0, \"\", Team17!$H$21)","v":""},{"$f":"IF(Team17!$J$21=0, \"\", Team17!$J$21)","v":""},null,1,"","","",{"$f":"IF(X24=\"\", \"\", OFFSET(BH$8,MATCH(SMALL('Rank Wkst'!AS$8:AS$31,ROW()-ROW(AS$8)+1),AS$8:AS$31,0)-1,0))","v":""},{"$f":"IF(X24=\"\", \"\", OFFSET(BI$8,MATCH(SMALL('Rank Wkst'!AS$8:AS$31,ROW()-ROW(AS$8)+1),AS$8:AS$31,0)-1,0))","v":""},{"$f":"IF(X24=\"\", \"\", OFFSET(BJ$8,MATCH(SMALL('Rank Wkst'!AS$8:AS$31,ROW()-ROW(AS$8)+1),AS$8:AS$31,0)-1,0))","v":""},{"$f":"IF(X24=\"\", \"\", OFFSET(BK$8,MATCH(SMALL('Rank Wkst'!AS$8:AS$31,ROW()-ROW(AS$8)+1),AS$8:AS$31,0)-1,0))","v":""},{"$f":"IF(X24=\"\", \"\", OFFSET(BL$8,MATCH(SMALL('Rank Wkst'!AS$8:AS$31,ROW()-ROW(AS$8)+1),AS$8:AS$31,0)-1,0))","v":""},{"$f":"IF(X24=\"\", \"\", OFFSET(BM$8,MATCH(SMALL('Rank Wkst'!AS$8:AS$31,ROW()-ROW(AS$8)+1),AS$8:AS$31,0)-1,0))","v":""},{"$f":"IF(X24=\"\", \"\", OFFSET(BN$8,MATCH(SMALL('Rank Wkst'!AS$8:AS$31,ROW()-ROW(AS$8)+1),AS$8:AS$31,0)-1,0))","v":""},{"$f":"IF(X24=\"\", \"\", OFFSET(BO$8,MATCH(SMALL('Rank Wkst'!AS$8:AS$31,ROW()-ROW(AS$8)+1),AS$8:AS$31,0)-1,0))","v":""},{"$f":"IF(X24=\"\", \"\", OFFSET(BP$8,MATCH(SMALL('Rank Wkst'!AS$8:AS$31,ROW()-ROW(AS$8)+1),AS$8:AS$31,0)-1,0))","v":""},{"$f":"IF(X24=\"\", \"\", OFFSET(BQ$8,MATCH(SMALL('Rank Wkst'!AS$8:AS$31,ROW()-ROW(AS$8)+1),AS$8:AS$31,0)-1,0))","v":""},{"$f":"IF(X24=\"\", \"\", OFFSET(BR$8,MATCH(SMALL('Rank Wkst'!AS$8:AS$31,ROW()-ROW(AS$8)+1),AS$8:AS$31,0)-1,0))","v":""},{"$f":"IF(X24=\"\", \"\", OFFSET(BS$8,MATCH(SMALL('Rank Wkst'!AS$8:AS$31,ROW()-ROW(AS$8)+1),AS$8:AS$31,0)-1,0))","v":""},{"$f":"IF(X24=\"\", \"\", OFFSET(BT$8,MATCH(SMALL('Rank Wkst'!AS$8:AS$31,ROW()-ROW(AS$8)+1),AS$8:AS$31,0)-1,0))","v":""},{"$f":"IF(X24=\"\", \"\", OFFSET(BU$8,MATCH(SMALL('Rank Wkst'!AS$8:AS$31,ROW()-ROW(AS$8)+1),AS$8:AS$31,0)-1,0))","v":""},"",null,17,{"$f":"IF('Ranking Sheet'!B28=0, \"\", 'Ranking Sheet'!B28)","v":""},"","","","","","","","","","","","",null,0,0,0,0,0,null,"","","","","","","","","","","","","","","","","","","","","","",null,",,,,,,,,",",,,,,,,,/,,",",,,,,,,,,,,,,,,,/,,"]
[18,{"$f":"IF('Ranking Sheet'!B29=0, \"\", 'Ranking Sheet'!B29)","v":""},{"$f":"IF(Team18!$D$21=0,\"\",Team18!$D$21)","v":""},"","","","",{"$f":"IF(Team18!$E$21=0, \"\", Team18!$E$21)","v":""},"","","","",{"$f":"IF(Team18!$F$21=0, \"\", Team18!$F$21)","v":""},"","","","",{"$f":"IF(Team18!$G$21=0, \"\", Team18!$G$21)","v":""},"","","","",0,"","",{"$error":"#VALUE!"},99,1,24,{"$error":"#VALUE!"},0,"",1,"",24,12.5,"",1,1,1,{"$f":"IF(AM25=\"\", \"\", SMALL(AM$8:AM$31, 18))","v":1},"","",{"$f":"COUNT($AM$8:$AM$31)-(RANK(AM25,$AM$8:$AM$31,0)+COUNTIF(AM$8:$AM25,AM25))+2","v":7},7,"","","TIE","TIE","","","","*","*","*","",null,18,{"$f":"IF('Ranking Sheet'!B29=0, \"\", 'Ranking Sheet'!B29)","v":""},{"$f":"IF(Team18!$H$9=0, \"\", Team18!$H$9)","v":""},{"$f":"IF(Team18!$H$10=0, \"\", Team18!$H$10)","v":""},{"$f":"IF(Team18!$H$11=0, \"\", Team18!$H$11)","v":""},{"$f":"IF(Team18!$H$12=0, \"\", Team18!$H$12)","v":""},{"$f":"IF(Team18!$H$13=0, \"\", Team18!$H$13)","v":""},{"$f":"IF(Team18!$H$14=0, \"\", Team18!$H$14)","v":""},{"$f":"IF(Team18!$H$15=0, \"\", Team18!$H$15)","v":""},{"$f":"IF(Team18!$H$16=0, \"\", Team18!$H$16)","v":""},{"$f":"IF(Team18!$H$17=0, \"\", Team18!$H$17)","v":""},{"$f":"IF(Team18!$H$18=0, \"\", Team18!$H$18)","v":""},{"$f":"IF(Team18!$H$19=0, \"\", Team18!$H$19)","v":""},{"$f":"IF(Team18!$H$20=0, \"\", Team18!$H$20)","v":""},{"$f":"IF(Team18!$H$21=0, \"\", Team18!$H$21)","v":""},{"$f":"IF(Team18!$J$21=0, \"\", Team18!$J$21)","v":""},null,1,"","","",{"$f":"IF(X25=\"\", \"\", OFFSET(BH$8,MATCH(SMALL('Rank Wkst'!AS$8:AS$31,ROW()-ROW(AS$8)+1),AS$8:AS$31,0)-1,0))","v":""},{"$f":"IF(X25=\"\", \"\", OFFSET(BI$8,MATCH(SMALL('Rank Wkst'!AS$8:AS$31,ROW()-ROW(AS$8)+1),AS$8:AS$31,0)-1,0))","v":""},{"$f":"IF(X25=\"\", \"\", OFFSET(BJ$8,MATCH(SMALL('Rank Wkst'!AS$8:AS$31,ROW()-ROW(AS$8)+1),AS$8:AS$31,0)-1,0))","v":""},{"$f":"IF(X25=\"\", \"\", OFFSET(BK$8,MATCH(SMALL('Rank Wkst'!AS$8:AS$31,ROW()-ROW(AS$8)+1),AS$8:AS$31,0)-1,0))","v":""},{"$f":"IF(X25=\"\", \"\", OFFSET(BL$8,MATCH(SMALL('Rank Wkst'!AS$8:AS$31,ROW()-ROW(AS$8)+1),AS$8:AS$31,0)-1,0))","v":""},{"$f":"IF(X25=\"\", \"\", OFFSET(BM$8,MATCH(SMALL('Rank Wkst'!AS$8:AS$31,ROW()-ROW(AS$8)+1),AS$8:AS$31,0)-1,0))","v":""},{"$f":"IF(X25=\"\", \"\", OFFSET(BN$8,MATCH(SMALL('Rank Wkst'!AS$8:AS$31,ROW()-ROW(AS$8)+1),AS$8:AS$31,0)-1,0))","v":""},{"$f":"IF(X25=\"\", \"\", OFFSET(BO$8,MATCH(SMALL('Rank Wkst'!AS$8:AS$31,ROW()-ROW(AS$8)+1),AS$8:AS$31,0)-1,0))","v":""},{"$f":"IF(X25=\"\", \"\", OFFSET(BP$8,MATCH(SMALL('Rank Wkst'!AS$8:AS$31,ROW()-ROW(AS$8)+1),AS$8:AS$31,0)-1,0))","v":""},{"$f":"IF(X25=\"\", \"\", OFFSET(BQ$8,MATCH(SMALL('Rank Wkst'!AS$8:AS$31,ROW()-ROW(AS$8)+1),AS$8:AS$31,0)-1,0))","v":""},{"$f":"IF(X25=\"\", \"\", OFFSET(BR$8,MATCH(SMALL('Rank Wkst'!AS$8:AS$31,ROW()-ROW(AS$8)+1),AS$8:AS$31,0)-1,0))","v":""},{"$f":"IF(X25=\"\", \"\", OFFSET(BS$8,MATCH(SMALL('Rank Wkst'!AS$8:AS$31,ROW()-ROW(AS$8)+1),AS$8:AS$31,0)-1,0))","v":""},{"$f":"IF(X25=\"\", \"\", OFFSET(BT$8,MATCH(SMALL('Rank Wkst'!AS$8:AS$31,ROW()-ROW(AS$8)+1),AS$8:AS$31,0)-1,0))","v":""},{"$f":"IF(X25=\"\", \"\", OFFSET(BU$8,MATCH(SMALL('Rank Wkst'!AS$8:AS$31,ROW()-ROW(AS$8)+1),AS$8:AS$31,0)-1,0))","v":""},"",null,18,{"$f":"IF('Ranking Sheet'!B29=0, \"\", 'Ranking Sheet'!B29)","v":""},"","","","","","","","","","","","",null,0,0,0,0,0,null,"","","","","","","","","","","","","","","","","","","","","","",null,",,,,,,,,",",,,,,,,,/,,",",,,,,,,,,,,,,,,,/,,"]
[19,{"$f":"IF('Ranking Sheet'!B30=0, \"\", 'Ranking Sheet'!B30)","v":""},{"$f":"IF(Team19!$D$21=0,\"\",Team19!$D$21)","v":""},"","","","",{"$f":"IF(Team19!$E$21=0, \"\", Team19!$E$21)","v":""},"","","","",{"$f":"IF(Team19!$F$21=0, \"\", Team19!$F$21)","v":""},"","","","",{"$f":"IF(Team19!$G$21=0, \"\", Team19!$G$21)","v":""},"","","","",0,"","",{"$error":"#VALUE!"},99,1,24,{"$error":"#VALUE!"},0,"",1,"",24,12.5,"",1,1,1,{"$f":"IF(AM26=\"\", \"\", SMALL(AM$8:AM$31, 19))","v":1},"","",{"$f":"COUNT($AM$8:$AM$31)-(RANK(AM26,$AM$8:$AM$31,0)+COUNTIF(AM$8:$AM26,AM26))+2","v":6},6,"","","TIE","TIE","","","","*","*","*","",null,19,{"$f":"IF('Ranking Sheet'!B30=0, \"\", 'Ranking Sheet'!B30)","v":""},{"$f":"IF(Team19!$H$9=0, \"\", Team19!$H$9)","v":""},{"$f":"IF(Team19!$H$10=0, \"\", Team19!$H$10)","v":""},{"$f":"IF(Team19!$H$11=0, \"\", Team19!$H$11)","v":""},{"$f":"IF(Team19!$H$12=0, \"\", Team19!$H$12)","v":""},{"$f":"IF(Team19!$H$13=0, \"\", Team19!$H$13)","v":""},{"$f":"IF(Team19!$H$14=0, \"\", Team19!$H$14)","v":""},{"$f":"IF(Team19!$H$15=0, \"\", Team19!$H$15)","v":""},{"$f":"IF(Team19!$H$16=0, \"\", Team19!$H$16)","v":""},{"$f":"IF(Team19!$H$17=0, \"\", Team19!$H$17)","v":""},{"$f":"IF(Team19!$H$18=0, \"\", Team19!$H$18)","v":""},{"$f":"IF(Team19!$H$19=0, \"\", Team19!$H$19)","v":""},{"$f":"IF(Team19!$H$20=0, \"\", Team19!$H$20)","v":""},{"$f":"IF(Team19!$H$21=0, \"\", Team19!$H$21)","v":""},{"$f":"IF(Team19!$J$21=0, \"\", Team19!$J$21)","v":""},null,1,"","","",{"$f":"IF(X26=\"\", \"\", OFFSET(BH$8,MATCH(SMALL('Rank Wkst'!AS$8:AS$31,ROW()-ROW(AS$8)+1),AS$8:AS$31,0)-1,0))","v":""},{"$f":"IF(X26=\"\", \"\", OFFSET(BI$8,MATCH(SMALL('Rank Wkst'!AS$8:AS$31,ROW()-ROW(AS$8)+1),AS$8:AS$31,0)-1,0))","v":""},{"$f":"IF(X26=\"\", \"\", OFFSET(BJ$8,MATCH(SMALL('Rank Wkst'!AS$8:AS$31,ROW()-ROW(AS$8)+1),AS$8:AS$31,0)-1,0))","v":""},{"$f":"IF(X26=\"\", \"\", OFFSET(BK$8,MATCH(SMALL('Rank Wkst'!AS$8:AS$31,ROW()-ROW(AS$8)+1),AS$8:AS$31,0)-1,0))","v":""},{"$f":"IF(X26=\"\", \"\", OFFSET(BL$8,MATCH(SMALL('Rank Wkst'!AS$8:AS$31,ROW()-ROW(AS$8)+1),AS$8:AS$31,0)-1,0))","v":""},{"$f":"IF(X26=\"\", \"\", OFFSET(BM$8,MATCH(SMALL('Rank Wkst'!AS$8:AS$31,ROW()-ROW(AS$8)+1),AS$8:AS$31,0)-1,0))","v":""},{"$f":"IF(X26=\"\", \"\", OFFSET(BN$8,MATCH(SMALL('Rank Wkst'!AS$8:AS$31,ROW()-ROW(AS$8)+1),AS$8:AS$31,0)-1,0))","v":""},{"$f":"IF(X26=\"\", \"\", OFFSET(BO$8,MATCH(SMALL('Rank Wkst'!AS$8:AS$31,ROW()-ROW(AS$8)+1),AS$8:AS$31,0)-1,0))","v":""},{"$f":"IF(X26=\"\", \"\", OFFSET(BP$8,MATCH(SMALL('Rank Wkst'!AS$8:AS$31,ROW()-ROW(AS$8)+1),AS$8:AS$31,0)-1,0))","v":""},{"$f":"IF(X26=\"\", \"\", OFFSET(BQ$8,MATCH(SMALL('Rank Wkst'!AS$8:AS$31,ROW()-ROW(AS$8)+1),AS$8:AS$31,0)-1,0))","v":""},{"$f":"IF(X26=\"\", \"\", OFFSET(BR$8,MATCH(SMALL('Rank Wkst'!AS$8:AS$31,ROW()-ROW(AS$8)+1),AS$8:AS$31,0)-1,0))","v":""},{"$f":"IF(X26=\"\", \"\", OFFSET(BS$8,MATCH(SMALL('Rank Wkst'!AS$8:AS$31,ROW()-ROW(AS$8)+1),AS$8:AS$31,0)-1,0))","v":""},{"$f":"IF(X26=\"\", \"\", OFFSET(BT$8,MATCH(SMALL('Rank Wkst'!AS$8:AS$31,ROW()-ROW(AS$8)+1),AS$8:AS$31,0)-1,0))","v":""},{"$f":"IF(X26=\"\", \"\", OFFSET(BU$8,MATCH(SMALL('Rank Wkst'!AS$8:AS$31,ROW()-ROW(AS$8)+1),AS$8:AS$31,0)-1,0))","v":""},"",null,19,{"$f":"IF('Ranking Sheet'!B30=0, \"\", 'Ranking Sheet'!B30)","v":""},"","","","","","","","","","","","",null,0,0,0,0,0,null,"","","","","","","","","","","","","","","","","","","","","","",null,",,,,,,,,",",,,,,,,,/,,",",,,,,,,,,,,,,,,,/,,"]
[20,{"$f":"IF('Ranking Sheet'!B31=0, \"\", 'Ranking Sheet'!B31)","v":""},{"$f":"IF(Team20!$D$21=0,\"\",Team20!$D$21)","v":""},"","","","",{"$f":"IF(Team20!$E$21=0, \"\", Team20!$E$21)","v":""},"","","","",{"$f":"IF(Team20!$F$21=0, \"\", Team20!$F$21)","v":""},"","","","",{"$f":"IF(Team20!$G$21=0, \"\", Team20!$G$21)","v":""},"","","","",0,"","",{"$error":"#VALUE!"},99,1,24,{"$error":"#VALUE!"},0,"",1,"",24,12.5,"",1,1,1,{"$f":"IF(AM27=\"\", \"\", SMALL(AM$8:AM$31, 20))","v":1},"","",{"$f":"COUNT($AM$8:$AM$31)-(RANK(AM27,$AM$8:$AM$31,0)+COUNTIF(AM$8:$AM27,AM27))+2","v":5},5,"","","TIE","TIE","","","","*","*","*","",null,20,{"$f":"IF('Ranking Sheet'!B31=0, \"\", 'Ranking Sheet'!B31)","v":""},{"$f":"IF(Team20!$H$9=0, \"\", Team20!$H$9)","v":""},{"$f":"IF(Team20!$H$10=0, \"\", Team20!$H$10)","v":""},{"$f":"IF(Team20!$H$11=0, \"\", Team20!$H$11)","v":""},{"$f":"IF(Team20!$H$12=0, \"\", Team20!$H$12)","v":""},{"$f":"IF(Team20!$H$13=0, \"\", Team20!$H$13)","v":""},{"$f":"IF(Team20!$H$14=0, \"\", Team20!$H$14)","v":""},{"$f":"IF(Team20!$H$15=0, \"\", Team20!$H$15)","v":""},{"$f":"IF(Team20!$H$16=0, \"\", Team20!$H$16)","v":""},{"$f":"IF(Team20!$H$17=0, \"\", Team20!$H$17)","v":""},{"$f":"IF(Team20!$H$18=0, \"\", Team20!$H$18)","v":""},{"$f":"IF(Team20!$H$19=0, \"\", Team20!$H$19)","v":""},{"$f":"IF(Team20!$H$20=0, \"\", Team20!$H$20)","v":""},{"$f":"IF(Team20!$H$21=0, \"\", Team20!$H$21)","v":""},{"$f":"IF(Team20!$J$21=0, \"\", Team20!$J$21)","v":""},null,1,"","","",{"$f":"IF(X27=\"\", \"\", OFFSET(BH$8,MATCH(SMALL('Rank Wkst'!AS$8:AS$31,ROW()-ROW(AS$8)+1),AS$8:AS$31,0)-1,0))","v":""},{"$f":"IF(X27=\"\", \"\", OFFSET(BI$8,MATCH(SMALL('Rank Wkst'!AS$8:AS$31,ROW()-ROW(AS$8)+1),AS$8:AS$31,0)-1,0))","v":""},{"$f":"IF(X27=\"\", \"\", OFFSET(BJ$8,MATCH(SMALL('Rank Wkst'!AS$8:AS$31,ROW()-ROW(AS$8)+1),AS$8:AS$31,0)-1,0))","v":""},{"$f":"IF(X27=\"\", \"\", OFFSET(BK$8,MATCH(SMALL('Rank Wkst'!AS$8:AS$31,ROW()-ROW(AS$8)+1),AS$8:AS$31,0)-1,0))","v":""},{"$f":"IF(X27=\"\", \"\", OFFSET(BL$8,MATCH(SMALL('Rank Wkst'!AS$8:AS$31,ROW()-ROW(AS$8)+1),AS$8:AS$31,0)-1,0))","v":""},{"$f":"IF(X27=\"\", \"\", OFFSET(BM$8,MATCH(SMALL('Rank Wkst'!AS$8:AS$31,ROW()-ROW(AS$8)+1),AS$8:AS$31,0)-1,0))","v":""},{"$f":"IF(X27=\"\", \"\", OFFSET(BN$8,MATCH(SMALL('Rank Wkst'!AS$8:AS$31,ROW()-ROW(AS$8)+1),AS$8:AS$31,0)-1,0))","v":""},{"$f":"IF(X27=\"\", \"\", OFFSET(BO$8,MATCH(SMALL('Rank Wkst'!AS$8:AS$31,ROW()-ROW(AS$8)+1),AS$8:AS$31,0)-1,0))","v":""},{"$f":"IF(X27=\"\", \"\", OFFSET(BP$8,MATCH(SMALL('Rank Wkst'!AS$8:AS$31,ROW()-ROW(AS$8)+1),AS$8:AS$31,0)-1,0))","v":""},{"$f":"IF(X27=\"\", \"\", OFFSET(BQ$8,MATCH(SMALL('Rank Wkst'!AS$8:AS$31,ROW()-ROW(AS$8)+1),AS$8:AS$31,0)-1,0))","v":""},{"$f":"IF(X27=\"\", \"\", OFFSET(BR$8,MATCH(SMALL('Rank Wkst'!AS$8:AS$31,ROW()-ROW(AS$8)+1),AS$8:AS$31,0)-1,0))","v":""},{"$f":"IF(X27=\"\", \"\", OFFSET(BS$8,MATCH(SMALL('Rank Wkst'!AS$8:AS$31,ROW()-ROW(AS$8)+1),AS$8:AS$31,0)-1,0))","v":""},{"$f":"IF(X27=\"\", \"\", OFFSET(BT$8,MATCH(SMALL('Rank Wkst'!AS$8:AS$31,ROW()-ROW(AS$8)+1),AS$8:AS$31,0)-1,0))","v":""},{"$f":"IF(X27=\"\", \"\", OFFSET(BU$8,MATCH(SMALL('Rank Wkst'!AS$8:AS$31,ROW()-ROW(AS$8)+1),AS$8:AS$31,0)-1,0))","v":""},"",null,20,{"$f":"IF('Ranking Sheet'!B31=0, \"\", 'Ranking Sheet'!B31)","v":""},"","","","","","","","","","","","",null,0,0,0,0,0,null,"","","","","","","","","","","","","","","","","","","","","","",null,",,,,,,,,",",,,,,,,,/,,",",,,,,,,,,,,,,,,,/,,"]
[21,{"$f":"IF('Ranking Sheet'!B32=0, \"\", 'Ranking Sheet'!B32)","v":""},{"$f":"IF(Team21!$D$21=0,\"\",Team21!$D$21)","v":""},"","",{"$f":"IF(C28=\"\", \"\", (((D28+E28-1)*((D28+E28-1)+1)/2)-((D28-1)*((D28-1)+1)/2))/E28)","v":""},"",{"$f":"IF(Team21!$E$21=0, \"\", Team21!$E$21)","v":""},"","",{"$f":"IF(H28=\"\", \"\", (((I28+J28-1)*((I28+J28-1)+1)/2)-((I28-1)*((I28-1)+1)/2))/J28)","v":""},"",{"$f":"IF(Team21!$F$21=0, \"\", Team21!$F$21)","v":""},"","",{"$f":"IF(M28=\"\", \"\", (((N28+O28-1)*((N28+O28-1)+1)/2)-((N28-1)*((N28-1)+1)/2))/O28)","v":""},"",{"$f":"IF(Team21!$G$21=0, \"\", Team21!$G$21)","v":""},"","",{"$f":"IF(R28=\"\", \"\", (((S28+T28-1)*((S28+T28-1)+1)/2)-((S28-1)*((S28-1)+1)/2))/T28)","v":""},"",{"$f":"SUM(F28,K28,P28,U28)","v":0},{"$f":" IF(W28=0, \"\",W28)","v":""},"",{"$error":"#VALUE!"},99,1,24,{"$f":"(((Z28+AC28-1)*((Z28+AC28-1)+1)/2)-((Z28-1)*((Z28-1)+1)/2))/AC28","v":{"$error":"#VALUE!"}},{"$f":"SUM(C28,H28,M28,R28)","v":0},{"$f":"IF(AE28=0, \"\", AE28)","v":""},1,"",24,12.5,"",1,1,1,{"$f":"IF(AM28=\"\", \"\", SMALL(AM$8:AM$31, 21))","v":1},"","",{"$f":"COUNT($AM$8:$AM$31)-(RANK(AM28,$AM$8:$AM$31,0)+COUNTIF(AM$8:$AM28,AM28))+2","v":4},4,"","","TIE","TIE","","","","*","*","*","",null,21,{"$f":"IF('Ranking Sheet'!B32=0, \"\", 'Ranking Sheet'!B32)","v":""},{"$f":"IF(Team21!$H$9=0, \"\", Team21!$H$9)","v":""},{"$f":"IF(Team21!$H$10=0, \"\", Team21!$H$10)","v":""},{"$f":"IF(Team21!$H$11=0, \"\", Team21!$H$11)","v":""},{"$f":"IF(Team21!$H$12=0, \"\", Team21!$H$12)","v":""},{"$f":"IF(Team21!$H$13=0, \"\", Team21!$H$13)","v":""},{"$f":"IF(Team21!$H$14=0, \"\", Team21!$H$14)","v":""},{"$f":"IF(Team21!$H$15=0, \"\", Team21!$H$15)","v":""},{"$f":"IF(Team21!$H$16=0, \"\", Team21!$H$16)","v":""},{"$f":"IF(Team21!$H$17=0, \"\", Team21!$H$17)","v":""},{"$f":"IF(Team21!$H$18=0, \"\", Team21!$H$18)","v":""},{"$f":"IF(Team21!$H$19=0, \"\", Team21!$H$19)","v":""},{"$f":"IF(Team21!$H$20=0, \"\", Team21!$H$20)","v":""},{"$f":"IF(Team21!$H$21=0, \"\", Team21!$H$21)","v":""},{"$f":"IF(Team21!$J$21=0, \"\", Team21!$J$21)","v":""},null,1,"","","",{"$f":"IF(X28=\"\", \"\", OFFSET(BH$8,MATCH(SMALL('Rank Wkst'!AS$8:AS$31,ROW()-ROW(AS$8)+1),AS$8:AS$31,0)-1,0))","v":""},{"$f":"IF(X28=\"\", \"\", OFFSET(BI$8,MATCH(SMALL('Rank Wkst'!AS$8:AS$31,ROW()-ROW(AS$8)+1),AS$8:AS$31,0)-1,0))","v":""},{"$f":"IF(X28=\"\", \"\", OFFSET(BJ$8,MATCH(SMALL('Rank Wkst'!AS$8:AS$31,ROW()-ROW(AS$8)+1),AS$8:AS$31,0)-1,0))","v":""},{"$f":"IF(X28=\"\", \"\", OFFSET(BK$8,MATCH(SMALL('Rank Wkst'!AS$8:AS$31,ROW()-ROW(AS$8)+1),AS$8:AS$31,0)-1,0))","v":""},{"$f":"IF(X28=\"\", \"\", OFFSET(BL$8,MATCH(SMALL('Rank Wkst'!AS$8:AS$31,ROW()-ROW(AS$8)+1),AS$8:AS$31,0)-1,0))","v":""},{"$f":"IF(X28=\"\", \"\", OFFSET(BM$8,MATCH(SMALL('Rank Wkst'!AS$8:AS$31,ROW()-ROW(AS$8)+1),AS$8:AS$31,0)-1,0))","v":""},{"$f":"IF(X28=\"\", \"\", OFFSET(BN$8,MATCH(SMALL('Rank Wkst'!AS$8:AS$31,ROW()-ROW(AS$8)+1),AS$8:AS$31,0)-1,0))","v":""},{"$f":"IF(X28=\"\", \"\", OFFSET(BO$8,MATCH(SMALL('Rank Wkst'!AS$8:AS$31,ROW()-ROW(AS$8)+1),AS$8:AS$31,0)-1,0))","v":""},{"$f":"IF(X28=\"\", \"\", OFFSET(BP$8,MATCH(SMALL('Rank Wkst'!AS$8:AS$31,ROW()-ROW(AS$8)+1),AS$8:AS$31,0)-1,0))","v":""},{"$f":"IF(X28=\"\", \"\", OFFSET(BQ$8,MATCH(SMALL('Rank Wkst'!AS$8:AS$31,ROW()-ROW(AS$8)+1),AS$8:AS$31,0)-1,0))","v":""},{"$f":"IF(X28=\"\", \"\", OFFSET(BR$8,MATCH(SMALL('Rank Wkst'!AS$8:AS$31,ROW()-ROW(AS$8)+1),AS$8:AS$31,0)-1,0))","v":""},{"$f":"IF(X28=\"\", \"\", OFFSET(BS$8,MATCH(SMALL('Rank Wkst'!AS$8:AS$31,ROW()-ROW(AS$8)+1),AS$8:AS$31,0)-1,0))","v":""},{"$f":"IF(X28=\"\", \"\", OFFSET(BT$8,MATCH(SMALL('Rank Wkst'!AS$8:AS$31,ROW()-ROW(AS$8)+1),AS$8:AS$31,0)-1,0))","v":""},{"$f":"IF(X28=\"\", \"\", OFFSET(BU$8,MATCH(SMALL('Rank Wkst'!AS$8:AS$31,ROW()-ROW(AS$8)+1),AS$8:AS$31,0)-1,0))","v":""},"",null,21,{"$f":"IF('Ranking Sheet'!B32=0, \"\", 'Ranking Sheet'!B32)","v":""},"","","","","","","","","","","","",null,0,0,0,0,0,null,"","","","","","","","","","","","","","","","","","","","","","",null,",,,,,,,,",",,,,,,,,/,,",",,,,,,,,,,,,,,,,/,,"]
[22,{"$f":"IF('Ranking Sheet'!B33=0, \"\", 'Ranking Sheet'!B33)","v":""},{"$f":"IF(Team22!$D$21=0,\"\",Team22!$D$21)","v":""},"","",{"$f":"IF(C29=\"\", \"\", (((D29+E29-1)*((D29+E29-1)+1)/2)-((D29-1)*((D29-1)+1)/2))/E29)","v":""},"",{"$f":"IF(Team22!$E$21=0, \"\", Team22!$E$21)","v":""},"","",{"$f":"IF(H29=\"\", \"\", (((I29+J29-1)*((I29+J29-1)+1)/2)-((I29-1)*((I29-1)+1)/2))/J29)","v":""},"",{"$f":"IF(Team22!$F$21=0, \"\", Team22!$F$21)","v":""},"","",{"$f":"IF(M29=\"\", \"\", (((N29+O29-1)*((N29+O29-1)+1)/2)-((N29-1)*((N29-1)+1)/2))/O29)","v":""},"",{"$f":"IF(Team22!$G$21=0, \"\", Team22!$G$21)","v":""},"","",{"$f":"IF(R29=\"\", \"\", (((S29+T29-1)*((S29+T29-1)+1)/2)-((S29-1)*((S29-1)+1)/2))/T29)","v":""},"",{"$f":"SUM(F29,K29,P29,U29)","v":0},{"$f":" IF(W29=0, \"\",W29)","v":""},"",{"$error":"#VALUE!"},99,1,24,{"$f":"(((Z29+AC29-1)*((Z29+AC29-1)+1)/2)-((Z29-1)*((Z29-1)+1)/2))/AC29","v":{"$error":"#VALUE!"}},{"$f":"SUM(C29,H29,M29,R29)","v":0},{"$f":"IF(AE29=0, \"\", AE29)","v":""},1,"",24,12.5,"",1,1,1,{"$f":"IF(AM29=\"\", \"\", SMALL(AM$8:AM$31, 22))","v":1},"","",{"$f":"COUNT($AM$8:$AM$31)-(RANK(AM29,$AM$8:$AM$31,0)+COUNTIF(AM$8:$AM29,AM29))+2","v":3},3,"","","TIE","TIE","","","","*","*","*","",null,22,{"$f":"IF('Ranking Sheet'!B33=0, \"\", 'Ranking Sheet'!B33)","v":""},{"$f":"IF(Team22!$H$9=0, \"\", Team22!$H$9)","v":""},{"$f":"IF(Team22!$H$10=0, \"\", Team22!$H$10)","v":""},{"$f":"IF(Team22!$H$11=0, \"\", Team22!$H$11)","v":""},{"$f":"IF(Team22!$H$12=0, \"\", Team22!$H$12)","v":""},{"$f":"IF(Team22!$H$13=0, \"\", Team22!$H$13)","v":""},{"$f":"IF(Team22!$H$14=0, \"\", Team22!$H$14)","v":""},{"$f":"IF(Team22!$H$15=0, \"\", Team22!$H$15)","v":""},{"$f":"IF(Team22!$H$16=0, \"\", Team22!$H$16)","v":""},{"$f":"IF(Team22!$H$17=0, \"\", Team22!$H$17)","v":""},{"$f":"IF(Team22!$H$18=0, \"\", Team22!$H$18)","v":""},{"$f":"IF(Team22!$H$19=0, \"\", Team22!$H$19)","v":""},{"$f":"IF(Team22!$H$20=0, \"\", Team22!$H$20)","v":""},{"$f":"IF(Team22!$H$21=0, \"\", Team22!$H$21)","v":""},{"$f":"IF(Team22!$J$21=0, \"\", Team22!$J$21)","v":""},null,1,"","","",{"$f":"IF(X29=\"\", \"\", OFFSET(BH$8,MATCH(SMALL('Rank Wkst'!AS$8:AS$31,ROW()-ROW(AS$8)+1),AS$8:AS$31,0)-1,0))","v":""},{"$f":"IF(X29=\"\", \"\", OFFSET(BI$8,MATCH(SMALL('Rank Wkst'!AS$8:AS$31,ROW()-ROW(AS$8)+1),AS$8:AS$31,0)-1,0))","v":""},{"$f":"IF(X29=\"\", \"\", OFFSET(BJ$8,MATCH(SMALL('Rank Wkst'!AS$8:AS$31,ROW()-ROW(AS$8)+1),AS$8:AS$31,0)-1,0))","v":""},{"$f":"IF(X29=\"\", \"\", OFFSET(BK$8,MATCH(SMALL('Rank Wkst'!AS$8:AS$31,ROW()-ROW(AS$8)+1),AS$8:AS$31,0)-1,0))","v":""},{"$f":"IF(X29=\"\", \"\", OFFSET(BL$8,MATCH(SMALL('Rank Wkst'!AS$8:AS$31,ROW()-ROW(AS$8)+1),AS$8:AS$31,0)-1,0))","v":""},{"$f":"IF(X29=\"\", \"\", OFFSET(BM$8,MATCH(SMALL('Rank Wkst'!AS$8:AS$31,ROW()-ROW(AS$8)+1),AS$8:AS$31,0)-1,0))","v":""},{"$f":"IF(X29=\"\", \"\", OFFSET(BN$8,MATCH(SMALL('Rank Wkst'!AS$8:AS$31,ROW()-ROW(AS$8)+1),AS$8:AS$31,0)-1,0))","v":""},{"$f":"IF(X29=\"\", \"\", OFFSET(BO$8,MATCH(SMALL('Rank Wkst'!AS$8:AS$31,ROW()-ROW(AS$8)+1),AS$8:AS$31,0)-1,0))","v":""},{"$f":"IF(X29=\"\", \"\", OFFSET(BP$8,MATCH(SMALL('Rank Wkst'!AS$8:AS$31,ROW()-ROW(AS$8)+1),AS$8:AS$31,0)-1,0))","v":""},{"$f":"IF(X29=\"\", \"\", OFFSET(BQ$8,MATCH(SMALL('Rank Wkst'!AS$8:AS$31,ROW()-ROW(AS$8)+1),AS$8:AS$31,0)-1,0))","v":""},{"$f":"IF(X29=\"\", \"\", OFFSET(BR$8,MATCH(SMALL('Rank Wkst'!AS$8:AS$31,ROW()-ROW(AS$8)+1),AS$8:AS$31,0)-1,0))","v":""},{"$f":"IF(X29=\"\", \"\", OFFSET(BS$8,MATCH(SMALL('Rank Wkst'!AS$8:AS$31,ROW()-ROW(AS$8)+1),AS$8:AS$31,0)-1,0))","v":""},{"$f":"IF(X29=\"\", \"\", OFFSET(BT$8,MATCH(SMALL('Rank Wkst'!AS$8:AS$31,ROW()-ROW(AS$8)+1),AS$8:AS$31,0)-1,0))","v":""},{"$f":"IF(X29=\"\", \"\", OFFSET(BU$8,MATCH(SMALL('Rank Wkst'!AS$8:AS$31,ROW()-ROW(AS$8)+1),AS$8:AS$31,0)-1,0))","v":""},"",null,22,{"$f":"IF('Ranking Sheet'!B33=0, \"\", 'Ranking Sheet'!B33)","v":""},"","","","","","","","","","","","",null,0,0,0,0,0,null,"","","","","","","","","","","","","","","","","","","","","","",null,",,,,,,,,",",,,,,,,,/,,",",,,,,,,,,,,,,,,,/,,"]
[23,{"$f":"IF('Ranking Sheet'!B34=0, \"\", 'Ranking Sheet'!B34)","v":""},{"$f":"IF(Team23!$D$21=0,\"\",Team23!$D$21)","v":""},"","",{"$f":"IF(C30=\"\", \"\", (((D30+E30-1)*((D30+E30-1)+1)/2)-((D30-1)*((D30-1)+1)/2))/E30)","v":""},"",{"$f":"IF(Team23!$E$21=0, \"\", Team23!$E$21)","v":""},"","",{"$f":"IF(H30=\"\", \"\", (((I30+J30-1)*((I30+J30-1)+1)/2)-((I30-1)*((I30-1)+1)/2))/J30)","v":""},"",{"$f":"IF(Team23!$F$21=0, \"\", Team23!$F$21)","v":""},"","",{"$f":"IF(M30=\"\", \"\", (((N30+O30-1)*((N30+O30-1)+1)/2)-((N30-1)*((N30-1)+1)/2))/O30)","v":""},"",{"$f":"IF(Team23!$G$21=0, \"\", Team23!$G$21)","v":""},"","",{"$f":"IF(R30=\"\", \"\", (((S30+T30-1)*((S30+T30-1)+1)/2)-((S30-1)*((S30-1)+1)/2))/T30)","v":""},"",{"$f":"SUM(F30,K30,P30,U30)","v":0},{"$f":" IF(W30=0, \"\",W30)","v":""},"",{"$error":"#VALUE!"},99,1,24,{"$f":"(((Z30+AC30-1)*((Z30+AC30-1)+1)/2)-((Z30-1)*((Z30-1)+1)/2))/AC30","v":{"$error":"#VALUE!"}},{"$f":"SUM(C30,H30,M30,R30)","v":0},{"$f":"IF(AE30=0, \"\", AE30)","v":""},1,"",24,12.5,"",1,1,1,{"$f":"IF(AM30=\"\", \"\", SMALL(AM$8:AM$31, 23))","v":1},"","",{"$f":"COUNT($AM$8:$AM$31)-(RANK(AM30,$AM$8:$AM$31,0)+COUNTIF(AM$8:$AM30,AM30))+2","v":2},2,"","","TIE","TIE","","","","*","*","*","",null,23,{"$f":"IF('Ranking Sheet'!B34=0, \"\", 'Ranking Sheet'!B34)","v":""},{"$f":"IF(Team23!$H$9=0, \"\", Team23!$H$9)","v":""},{"$f":"IF(Team23!$H$10=0, \"\", Team23!$H$10)","v":""},{"$f":"IF(Team23!$H$11=0, \"\", Team23!$H$11)","v":""},{"$f":"IF(Team23!$H$12=0, \"\", Team23!$H$12)","v":""},{"$f":"IF(Team23!$H$13=0, \"\", Team23!$H$13)","v":""},{"$f":"IF(Team23!$H$14=0, \"\", Team23!$H$14)","v":""},{"$f":"IF(Team23!$H$15=0, \"\", Team23!$H$15)","v":""},{"$f":"IF(Team23!$H$16=0, \"\", Team23!$H$16)","v":""},{"$f":"IF(Team23!$H$17=0, \"\", Team23!$H$17)","v":""},{"$f":"IF(Team23!$H$18=0, \"\", Team23!$H$18)","v":""},{"$f":"IF(Team23!$H$19=0, \"\", Team23!$H$19)","v":""},{"$f":"IF(Team23!$H$20=0, \"\", Team23!$H$20)","v":""},{"$f":"IF(Team23!$H$21=0, \"\", Team23!$H$21)","v":""},{"$f":"IF(Team23!$J$21=0, \"\", Team23!$J$21)","v":""},null,1,"","","",{"$f":"IF(X30=\"\", \"\", OFFSET(BH$8,MATCH(SMALL('Rank Wkst'!AS$8:AS$31,ROW()-ROW(AS$8)+1),AS$8:AS$31,0)-1,0))","v":""},{"$f":"IF(X30=\"\", \"\", OFFSET(BI$8,MATCH(SMALL('Rank Wkst'!AS$8:AS$31,ROW()-ROW(AS$8)+1),AS$8:AS$31,0)-1,0))","v":""},{"$f":"IF(X30=\"\", \"\", OFFSET(BJ$8,MATCH(SMALL('Rank Wkst'!AS$8:AS$31,ROW()-ROW(AS$8)+1),AS$8:AS$31,0)-1,0))","v":""},{"$f":"IF(X30=\"\", \"\", OFFSET(BK$8,MATCH(SMALL('Rank Wkst'!AS$8:AS$31,ROW()-ROW(AS$8)+1),AS$8:AS$31,0)-1,0))","v":""},{"$f":"IF(X30=\"\", \"\", OFFSET(BL$8,MATCH(SMALL('Rank Wkst'!AS$8:AS$31,ROW()-ROW(AS$8)+1),AS$8:AS$31,0)-1,0))","v":""},{"$f":"IF(X30=\"\", \"\", OFFSET(BM$8,MATCH(SMALL('Rank Wkst'!AS$8:AS$31,ROW()-ROW(AS$8)+1),AS$8:AS$31,0)-1,0))","v":""},{"$f":"IF(X30=\"\", \"\", OFFSET(BN$8,MATCH(SMALL('Rank Wkst'!AS$8:AS$31,ROW()-ROW(AS$8)+1),AS$8:AS$31,0)-1,0))","v":""},{"$f":"IF(X30=\"\", \"\", OFFSET(BO$8,MATCH(SMALL('Rank Wkst'!AS$8:AS$31,ROW()-ROW(AS$8)+1),AS$8:AS$31,0)-1,0))","v":""},{"$f":"IF(X30=\"\", \"\", OFFSET(BP$8,MATCH(SMALL('Rank Wkst'!AS$8:AS$31,ROW()-ROW(AS$8)+1),AS$8:AS$31,0)-1,0))","v":""},{"$f":"IF(X30=\"\", \"\", OFFSET(BQ$8,MATCH(SMALL('Rank Wkst'!AS$8:AS$31,ROW()-ROW(AS$8)+1),AS$8:AS$31,0)-1,0))","v":""},{"$f":"IF(X30=\"\", \"\", OFFSET(BR$8,MATCH(SMALL('Rank Wkst'!AS$8:AS$31,ROW()-ROW(AS$8)+1),AS$8:AS$31,0)-1,0))","v":""},{"$f":"IF(X30=\"\", \"\", OFFSET(BS$8,MATCH(SMALL('Rank Wkst'!AS$8:AS$31,ROW()-ROW(AS$8)+1),AS$8:AS$31,0)-1,0))","v":""},{"$f":"IF(X30=\"\", \"\", OFFSET(BT$8,MATCH(SMALL('Rank Wkst'!AS$8:AS$31,ROW()-ROW(AS$8)+1),AS$8:AS$31,0)-1,0))","v":""},{"$f":"IF(X30=\"\", \"\", OFFSET(BU$8,MATCH(SMALL('Rank Wkst'!AS$8:AS$31,ROW()-ROW(AS$8)+1),AS$8:AS$31,0)-1,0))","v":""},"",null,23,{"$f":"IF('Ranking Sheet'!B34=0, \"\", 'Ranking Sheet'!B34)","v":""},"","","","","","","","","","","","",null,0,0,0,0,0,null,"","","","","","","","","","","","","","","","","","","","","","",null,",,,,,,,,",",,,,,,,,/,,",",,,,,,,,,,,,,,,,/,,"]
[24,{"$f":"IF('Ranking Sheet'!B35=0, \"\", 'Ranking Sheet'!B35)","v":""},{"$f":"IF(Team24!$D$21=0,\"\",Team24!$D$21)","v":""},"","",{"$f":"IF(C31=\"\", \"\", (((D31+E31-1)*((D31+E31-1)+1)/2)-((D31-1)*((D31-1)+1)/2))/E31)","v":""},"",{"$f":"IF(Team24!$E$21=0, \"\", Team24!$E$21)","v":""},"","",{"$f":"IF(H31=\"\", \"\", (((I31+J31-1)*((I31+J31-1)+1)/2)-((I31-1)*((I31-1)+1)/2))/J31)","v":""},"",{"$f":"IF(Team24!$F$21=0, \"\", Team24!$F$21)","v":""},"","",{"$f":"IF(M31=\"\", \"\", (((N31+O31-1)*((N31+O31-1)+1)/2)-((N31-1)*((N31-1)+1)/2))/O31)","v":""},"",{"$f":"IF(Team24!$G$21=0, \"\", Team24!$G$21)","v":""},"","",{"$f":"IF(R31=\"\", \"\", (((S31+T31-1)*((S31+T31-1)+1)/2)-((S31-1)*((S31-1)+1)/2))/T31)","v":""},"",{"$f":"SUM(F31,K31,P31,U31)","v":0},{"$f":" IF(W31=0, \"\",W31)","v":""},"",{"$error":"#VALUE!"},99,1,24,{"$f":"(((Z31+AC31-1)*((Z31+AC31-1)+1)/2)-((Z31-1)*((Z31-1)+1)/2))/AC31","v":{"$error":"#VALUE!"}},{"$f":"SUM(C31,H31,M31,R31)","v":0},{"$f":"IF(AE31=0, \"\", AE31)","v":""},1,"",24,12.5,"",1,1,1,{"$f":"IF(AM31=\"\", \"\", SMALL(AM$8:AM$31, 24))","v":1},"","",{"$f":"COUNT($AM$8:$AM$31)-(RANK(AM31,$AM$8:$AM$31,0)+COUNTIF(AM$8:$AM31,AM31))+2","v":1},1,"","","TIE","TIE","","","","*","*","*","",null,24,{"$f":"IF('Ranking Sheet'!B35=0, \"\", 'Ranking Sheet'!B35)","v":""},{"$f":"IF(Team24!$H$9=0, \"\", Team24!$H$9)","v":""},{"$f":"IF(Team24!$H$10=0, \"\", Team24!$H$10)","v":""},{"$f":"IF(Team24!$H$11=0, \"\", Team24!$H$11)","v":""},{"$f":"IF(Team24!$H$12=0, \"\", Team24!$H$12)","v":""},{"$f":"IF(Team24!$H$13=0, \"\", Team24!$H$13)","v":""},{"$f":"IF(Team24!$H$14=0, \"\", Team24!$H$14)","v":""},{"$f":"IF(Team24!$H$15=0, \"\", Team24!$H$15)","v":""},{"$f":"IF(Team24!$H$16=0, \"\", Team24!$H$16)","v":""},{"$f":"IF(Team24!$H$17=0, \"\", Team24!$H$17)","v":""},{"$f":"IF(Team24!$H$18=0, \"\", Team24!$H$18)","v":""},{"$f":"IF(Team24!$H$19=0, \"\", Team24!$H$19)","v":""},{"$f":"IF(Team24!$H$20=0, \"\", Team24!$H$20)","v":""},{"$f":"IF(Team24!$H$21=0, \"\", Team24!$H$21)","v":""},{"$f":"IF(Team24!$J$21=0, \"\", Team24!$J$21)","v":""},null,1,"","","",{"$f":"IF(X31=\"\", \"\", OFFSET(BH$8,MATCH(SMALL('Rank Wkst'!AS$8:AS$31,ROW()-ROW(AS$8)+1),AS$8:AS$31,0)-1,0))","v":""},{"$f":"IF(X31=\"\", \"\", OFFSET(BI$8,MATCH(SMALL('Rank Wkst'!AS$8:AS$31,ROW()-ROW(AS$8)+1),AS$8:AS$31,0)-1,0))","v":""},{"$f":"IF(X31=\"\", \"\", OFFSET(BJ$8,MATCH(SMALL('Rank Wkst'!AS$8:AS$31,ROW()-ROW(AS$8)+1),AS$8:AS$31,0)-1,0))","v":""},{"$f":"IF(X31=\"\", \"\", OFFSET(BK$8,MATCH(SMALL('Rank Wkst'!AS$8:AS$31,ROW()-ROW(AS$8)+1),AS$8:AS$31,0)-1,0))","v":""},{"$f":"IF(X31=\"\", \"\", OFFSET(BL$8,MATCH(SMALL('Rank Wkst'!AS$8:AS$31,ROW()-ROW(AS$8)+1),AS$8:AS$31,0)-1,0))","v":""},{"$f":"IF(X31=\"\", \"\", OFFSET(BM$8,MATCH(SMALL('Rank Wkst'!AS$8:AS$31,ROW()-ROW(AS$8)+1),AS$8:AS$31,0)-1,0))","v":""},{"$f":"IF(X31=\"\", \"\", OFFSET(BN$8,MATCH(SMALL('Rank Wkst'!AS$8:AS$31,ROW()-ROW(AS$8)+1),AS$8:AS$31,0)-1,0))","v":""},{"$f":"IF(X31=\"\", \"\", OFFSET(BO$8,MATCH(SMALL('Rank Wkst'!AS$8:AS$31,ROW()-ROW(AS$8)+1),AS$8:AS$31,0)-1,0))","v":""},{"$f":"IF(X31=\"\", \"\", OFFSET(BP$8,MATCH(SMALL('Rank Wkst'!AS$8:AS$31,ROW()-ROW(AS$8)+1),AS$8:AS$31,0)-1,0))","v":""},{"$f":"IF(X31=\"\", \"\", OFFSET(BQ$8,MATCH(SMALL('Rank Wkst'!AS$8:AS$31,ROW()-ROW(AS$8)+1),AS$8:AS$31,0)-1,0))","v":""},{"$f":"IF(X31=\"\", \"\", OFFSET(BR$8,MATCH(SMALL('Rank Wkst'!AS$8:AS$31,ROW()-ROW(AS$8)+1),AS$8:AS$31,0)-1,0))","v":""},{"$f":"IF(X31=\"\", \"\", OFFSET(BS$8,MATCH(SMALL('Rank Wkst'!AS$8:AS$31,ROW()-ROW(AS$8)+1),AS$8:AS$31,0)-1,0))","v":""},{"$f":"IF(X31=\"\", \"\", OFFSET(BT$8,MATCH(SMALL('Rank Wkst'!AS$8:AS$31,ROW()-ROW(AS$8)+1),AS$8:AS$31,0)-1,0))","v":""},{"$f":"IF(X31=\"\", \"\", OFFSET(BU$8,MATCH(SMALL('Rank Wkst'!AS$8:AS$31,ROW()-ROW(AS$8)+1),AS$8:AS$31,0)-1,0))","v":""},"",null,24,{"$f":"IF('Ranking Sheet'!B35=0, \"\", 'Ranking Sheet'!B35)","v":""},"","","","","","","","","","","","",null,0,0,0,0,0,null,"","","","","","","","","","","","","","","","","","","","","","",null,",,,,,,,,",",,,,,,,,/,,",",,,,,,,,,,,,,,,,/,,"]
[null,null,null,null,null,null,null,null,null,null,null,null,null,null,null,null,null,null,null,null,null,null,null,null,null,null,null,null,null,null,null,null,null,null,null,null,null,null,null,null,null,null,null,null,null,null,null,null,null,null,null,null,""]
[null,null,null,null,null,null,null,null,null,null,null,null,null,null,null,null,null,null,null,null,null,null,null,null,null,null,null,null,null,null,null,null,null,null,null,null,null,null,null,null,null,null,null,null,null,null,null,null,null,null,null,null,""]
[null,null,null,null,null,null,null,null,null,null,null,null,null,null,null,null,null,null,null,null,null,null,null,null,null,null,null,null,null,null,null,null,null,null,null,null,null,null,null,null,null,null,null,null,null,null,null,null,null,null,null,null,""]
[null,null,null,null,null,null,null,null,null,null,null,null,null,null,null,null,null,null,null,null,null,null,2,null,null,null,5,null,null,null,null,null,null,null,null,null,null,null,null,null,null,null,null,null,null,null,null,null,null,null,null,null,""]
[null,null,null,null,null,null,null,null,null,null,null,null,null,null,null,null,null,null,null,null,null,null,null,null,null,null,null,null,null,null,null,null,null,null,null,null,null,null,null,null,null,null,null,null,null,null,null,null,null,null,null,null,""]
[null,"The formula for summation of “1 + 2 + 3 + .. + n” is “n * (n + 1) / 2” so the summation of 4 would be “4 * (4 + 1) / 2 = 10”.",null,null,null,null,null,null,null,null,null,null,null,null,null,null,null,null,null,null,null,null,null,null,null,null,null,null,null,null,null,null,null,null,null,null,null,null,null,null,null,null,null,null,null,null,null,null,null,null,null,null,""]
[null,"To compute the summation of 3 teams tied for third (ranks 3 thru 5) we just subtract the summation of 2 from the the summation of 5.",null,null,null,null,null,null,null,null,null,null,null,null,null,null,null,null,null,null,null,null,null,null,null,null,null,null,null,null,null,null,null,null,null,null,null,null,null,null,null,null,null,null,null,null,null,null,null,null,null,null,""]
[null,null,null,null,null,null,null,null,null,null,null,null,null,null,null,null,null,null,null,null,null,null,null,null,null,null,null,null,null,null,null,null,null,null,null,null,null,null,null,null,null,null,null,null,null,null,null,null,null,null,null,null,""]
[null,"Rank Calculation “((sum of tied ranks – sum of all previous ranks) / # tied)”:",null,null,null,null,null,null,null,null,null,null,null,null,null,null,null,null,null,null,null,null,null,null,null,null,null,null,null,null,null,null,null,null,null,null,null,null,null,null,null,null,null,null,null,null,null,null,null,null,null,null,""]
[null,3,"< Enter Rank",null,null,null,null,null,null,null,null,null,null,null,null,null,null,null,null,null,null,null,null,null,null,null,null,null,null,null,null,null,null,null,null,null,null,null,null,null,null,null,null,null,null,null,null,null,null,null,null,null,""]
[null,3,"< Enter Ties",null,null,null,null,null,null,null,null,null,null,null,null,null,null,null,null,null,null,null,null,null,null,null,null,null,null,null,null,null,null,null,null,null,null,null,null,null,null,null,null,null,null,null,null,null,null,null,null,null,""]
[null,{"$f":"(((B41+B42-1)*((B41+B42-1)+1)/2)-((B41-1)*((B41-1)+1)/2))/B42","v":4},"< Result",null,null,null,null,null,null,null,null,null,null,null,null,null,null,null,null,null,null,null,null,null,null,null,null,null,null,null,null,null,null,null,null,null,null,null,null,null,null,null,null,null,null,null,null,null,null,null,null,null,""]
[null,null,null,null,null,null,null,null,null,null,null,null,null,null,null,null,null,null,null,null,null,null,null,null,null,null,null,null,null,null,null,null,null,null,null,null,null,null,null,null,null,null,null,null,null,null,null,null,null,null,null,null,""]
[null,"Calculation Breakdown:",null,null,null,null,null,null,null,null,null,null,null,null,null,null,null,null,null,null,null,null,null,null,null,null,null,null,null,null,null,null,null,null,null,null,null,null,null,null,null,null,null,null,null,null,null,null,null,null,null,null,""]
[null,{"$f":"B41+B42-1","v":5},"< Last rank for these ties",null,null,null,null,null,null,null,null,null,null,null,null,null,null,null,null,null,null,null,null,null,null,null,null,null,null,null,null,null,null,null,null,null,null,null,null,null,null,null,null,null,null,null,null,null,null,null,null,null,""]
[null,{"$f":"B41-1","v":2},"< Last previous rank",null,null,null,null,null,null,null,null,null,null,null,null,null,null,null,null,null,null,null,null,null,null,null,null,null,null,null,null,null,null,null,null,null,null,null,null,null,null,null,null,null,null,null,null,null,null,null,null,null,""]
[null,null,null,null,null,null,null,null,null,null,null,null,null,null,null,null,null,null,null,null,null,null,null,null,null,null,null,null,null,null,null,null,null,null,null,null,null,null,null,null,null,null,null,null,null,null,null,null,null,null,null,null,""]
[null,{"$f":"(B46)*(B46+1)/2","v":15},"< Summation of tied ranks",null,null,null,null,null,null,null,null,null,null,null,null,null,null,null,null,null,null,null,null,null,null,null,null,null,null,null,null,null,null,null,null,null,null,null,null,null,null,null,null,null,null,null,null,null,null,null,null,null,""]
[null,{"$f":"(B47)*(B47+1)/2","v":3},"< Summation of all previous ranks",null,null,null,null,null,null,null,null,null,null,null,null,null,null,null,null,null,null,null,null,null,null,null,null,null,null,null,null,null,null,null,null,null,null,null,null,null,null,null,null,null,null,null,null,null,null,null,null,null,""]
[null,{"$f":"(B49-B50)/B42","v":4},"< Resulting rank for these tied ranks",null,null,null,null,null,null,null,null,null,null,null,null,null,null,null,null,null,null,null,null,null,null,null,null,null,null,null,null,null,null,null,null,null,null,null,null,null,null,null,null,null,null,null,null,null,null,null,null,null,""]
[null,null,null,null,null,null,null,null,null,null,null,null,null,null,null,null,null,null,null,null,null,null,null,null,null,null,null,null,null,null,null,null,null,null,null,null,null,null,null,null,null,null,null,null,null,null,null,null,null,null,null,null,""]

{"sheet":"Final Placement","index":2,"n_rows":37,"n_cols":11,"rows_kept":37,"cut":false,"hidden":false,"merged":[[8,2,8,9],[9,3,9,8],[34,0,34,3],[16,3,16,8],[36,0,36,2],[4,0,4,1],[4,2,4,4],[10,3,10,8],[11,3,11,8],[12,3,12,8],[1,0,1,10],[2,0,2,10],[4,8,4,10],[6,8,6,10],[6,0,6,1],[6,2,6,4],[8,0,8,1],[32,3,32,8],[23,3,23,8],[24,3,24,8],[25,3,25,8],[26,3,26,8],[27,3,27,8],[28,3,28,8],[20,3,20,8],[21,3,21,8],[22,3,22,8],[29,3,29,8],[30,3,30,8],[31,3,31,8],[13,3,13,8],[14,3,14,8],[18,3,18,8],[19,3,19,8],[15,3,15,8],[17,3,17,8]]}
[]
["Minnesota State High School League Dance Team Competition"]
["Final Placements"]
[]
["MEET DATE:",null,{"$f":"IF(DATE=0, \"\", DATE)","v":""},null,null,null,"MEET SITE:",null,{"$f":"IF(Site=0, \"\", Site)","v":""}]
[]
["CLASS:",null,{"$f":"IF(Class=0, \"\", Class)","v":""},null,null,null,"CATEGORY:",null,{"$f":"CATEGORY","v":"High Kick Category"}]
[]
["Final \nPlace",null,"School",null,null,null,null,null,null,null,"Ranking Point Total"]
[{"$f":"'Rank Wkst'!AP8","v":""},{"$f":"'Rank Wkst'!AX8","v":""},null,{"$f":"'Rank Wkst'!AU8","v":""},null,null,null,null,null,{"$f":"IF('Rank Wkst'!BD8=\"*\",\"Tie-breaker used\", \"\")","v":""},{"$f":"'Rank Wkst'!AZ8","v":""}]
[{"$f":"'Rank Wkst'!AP9","v":""},{"$f":"'Rank Wkst'!AX9","v":""},null,{"$f":"'Rank Wkst'!AU9","v":""},null,null,null,null,null,{"$f":"IF('Rank Wkst'!BD9=\"*\",\"Tie-breaker used\", \"\")","v":""},{"$f":"'Rank Wkst'!AZ9","v":""}]
[{"$f":"'Rank Wkst'!AP10","v":""},{"$f":"'Rank Wkst'!AX10","v":""},null,{"$f":"'Rank Wkst'!AU10","v":""},null,null,null,null,null,{"$f":"IF('Rank Wkst'!BD10=\"*\",\"Tie-breaker used\", \"\")","v":""},{"$f":"'Rank Wkst'!AZ10","v":""}]
[{"$f":"'Rank Wkst'!AP11","v":""},{"$f":"'Rank Wkst'!AX11","v":""},null,{"$f":"'Rank Wkst'!AU11","v":""},null,null,null,null,null,{"$f":"IF('Rank Wkst'!BD11=\"*\",\"Tie-breaker used\", \"\")","v":""},{"$f":"'Rank Wkst'!AZ11","v":""}]
[{"$f":"'Rank Wkst'!AP12","v":""},{"$f":"'Rank Wkst'!AX12","v":""},null,{"$f":"'Rank Wkst'!AU12","v":""},null,null,null,null,null,{"$f":"IF('Rank Wkst'!BD12=\"*\",\"Tie-breaker used\", \"\")","v":""},{"$f":"'Rank Wkst'!AZ12","v":""}]
[{"$f":"'Rank Wkst'!AP13","v":""},{"$f":"'Rank Wkst'!AX13","v":""},null,{"$f":"'Rank Wkst'!AU13","v":""},null,null,null,null,null,{"$f":"IF('Rank Wkst'!BD13=\"*\",\"Tie-breaker used\", \"\")","v":""},{"$f":"'Rank Wkst'!AZ13","v":""}]
[{"$f":"'Rank Wkst'!AP14","v":""},{"$f":"'Rank Wkst'!AX14","v":""},null,{"$f":"'Rank Wkst'!AU14","v":""},null,null,null,null,null,{"$f":"IF('Rank Wkst'!BD14=\"*\",\"Tie-breaker used\", \"\")","v":""},{"$f":"'Rank Wkst'!AZ14","v":""}]
[{"$f":"'Rank Wkst'!AP15","v":""},{"$f":"'Rank Wkst'!AX15","v":""},null,{"$f":"'Rank Wkst'!AU15","v":""},null,null,null,null,null,{"$f":"IF('Rank Wkst'!BD15=\"*\",\"Tie-breaker used\", \"\")","v":""},{"$f":"'Rank Wkst'!AZ15","v":""}]
[{"$f":"'Rank Wkst'!AP16","v":""},{"$f":"'Rank Wkst'!AX16","v":""},null,{"$f":"'Rank Wkst'!AU16","v":""},null,null,null,null,null,{"$f":"IF('Rank Wkst'!BD16=\"*\",\"Tie-breaker used\", \"\")","v":""},{"$f":"'Rank Wkst'!AZ16","v":""}]
[{"$f":"'Rank Wkst'!AP17","v":""},{"$f":"'Rank Wkst'!AX17","v":""},null,{"$f":"'Rank Wkst'!AU17","v":""},null,null,null,null,null,{"$f":"IF('Rank Wkst'!BD17=\"*\",\"Tie-breaker used\", \"\")","v":""},{"$f":"'Rank Wkst'!AZ17","v":""}]
[{"$f":"'Rank Wkst'!AP18","v":""},{"$f":"'Rank Wkst'!AX18","v":""},null,{"$f":"'Rank Wkst'!AU18","v":""},null,null,null,null,null,{"$f":"IF('Rank Wkst'!BD18=\"*\",\"Tie-breaker used\", \"\")","v":""},{"$f":"'Rank Wkst'!AZ18","v":""}]
[{"$f":"'Rank Wkst'!AP19","v":""},{"$f":"'Rank Wkst'!AX19","v":""},null,{"$f":"'Rank Wkst'!AU19","v":""},null,null,null,null,null,{"$f":"IF('Rank Wkst'!BD19=\"*\",\"Tie-breaker used\", \"\")","v":""},{"$f":"'Rank Wkst'!AZ19","v":""}]
[{"$f":"'Rank Wkst'!AP20","v":""},{"$f":"'Rank Wkst'!AX20","v":""},null,{"$f":"'Rank Wkst'!AU20","v":""},null,null,null,null,null,{"$f":"IF('Rank Wkst'!BD20=\"*\",\"Tie-breaker used\", \"\")","v":""},{"$f":"'Rank Wkst'!AZ20","v":""}]
[{"$f":"'Rank Wkst'!AP21","v":""},{"$f":"'Rank Wkst'!AX21","v":""},null,{"$f":"'Rank Wkst'!AU21","v":""},null,null,null,null,null,{"$f":"IF('Rank Wkst'!BD21=\"*\",\"Tie-breaker used\", \"\")","v":""},{"$f":"'Rank Wkst'!AZ21","v":""}]
[{"$f":"'Rank Wkst'!AP22","v":""},{"$f":"'Rank Wkst'!AX22","v":""},null,{"$f":"'Rank Wkst'!AU22","v":""},null,null,null,null,null,{"$f":"IF('Rank Wkst'!BD22=\"*\",\"Tie-breaker used\", \"\")","v":""},{"$f":"'Rank Wkst'!AZ22","v":""}]
[{"$f":"'Rank Wkst'!AP23","v":""},{"$f":"'Rank Wkst'!AX23","v":""},null,{"$f":"'Rank Wkst'!AU23","v":""},null,null,null,null,null,{"$f":"IF('Rank Wkst'!BD23=\"*\",\"Tie-breaker used\", \"\")","v":""},{"$f":"'Rank Wkst'!AZ23","v":""}]
[{"$f":"'Rank Wkst'!AP24","v":""},{"$f":"'Rank Wkst'!AX24","v":""},null,{"$f":"'Rank Wkst'!AU24","v":""},null,null,null,null,null,{"$f":"IF('Rank Wkst'!BD24=\"*\",\"Tie-breaker used\", \"\")","v":""},{"$f":"'Rank Wkst'!AZ24","v":""}]
[{"$f":"'Rank Wkst'!AP25","v":""},{"$f":"'Rank Wkst'!AX25","v":""},null,{"$f":"'Rank Wkst'!AU25","v":""},null,null,null,null,null,{"$f":"IF('Rank Wkst'!BD25=\"*\",\"Tie-breaker used\", \"\")","v":""},{"$f":"'Rank Wkst'!AZ25","v":""}]
[{"$f":"'Rank Wkst'!AP26","v":""},{"$f":"'Rank Wkst'!AX26","v":""},null,{"$f":"'Rank Wkst'!AU26","v":""},null,null,null,null,null,{"$f":"IF('Rank Wkst'!BD26=\"*\",\"Tie-breaker used\", \"\")","v":""},{"$f":"'Rank Wkst'!AZ26","v":""}]
[{"$f":"'Rank Wkst'!AP27","v":""},{"$f":"'Rank Wkst'!AX27","v":""},null,{"$f":"'Rank Wkst'!AU27","v":""},null,null,null,null,null,{"$f":"IF('Rank Wkst'!BD27=\"*\",\"Tie-breaker used\", \"\")","v":""},{"$f":"'Rank Wkst'!AZ27","v":""}]
[{"$f":"'Rank Wkst'!AP28","v":""},{"$f":"'Rank Wkst'!AX28","v":""},null,{"$f":"'Rank Wkst'!AU28","v":""},null,null,null,null,null,{"$f":"IF('Rank Wkst'!BD28=\"*\",\"Tie-breaker used\", \"\")","v":""},{"$f":"'Rank Wkst'!AZ28","v":""}]
[{"$f":"'Rank Wkst'!AP29","v":""},{"$f":"'Rank Wkst'!AX29","v":""},null,{"$f":"'Rank Wkst'!AU29","v":""},null,null,null,null,null,{"$f":"IF('Rank Wkst'!BD29=\"*\",\"Tie-breaker used\", \"\")","v":""},{"$f":"'Rank Wkst'!AZ29","v":""}]
[{"$f":"'Rank Wkst'!AP30","v":""},{"$f":"'Rank Wkst'!AX30","v":""},null,{"$f":"'Rank Wkst'!AU30","v":""},null,null,null,null,null,{"$f":"IF('Rank Wkst'!BD30=\"*\",\"Tie-breaker used\", \"\")","v":""},{"$f":"'Rank Wkst'!AZ30","v":""}]
[{"$f":"'Rank Wkst'!AP31","v":""},{"$f":"'Rank Wkst'!AX31","v":""},null,{"$f":"'Rank Wkst'!AU31","v":""},null,null,null,null,null,{"$f":"IF('Rank Wkst'!BD31=\"*\",\"Tie-breaker used\", \"\")","v":""},{"$f":"'Rank Wkst'!AZ31","v":""}]
[]
["Superior Judge Signature"]
[]
["Tabulator Signature"]

{"sheet":"Announcers Form","index":3,"n_rows":38,"n_cols":14,"rows_kept":38,"cut":false,"hidden":false,"merged":[[20,0,20,1],[20,3,20,15],[22,11,22,15],[1,3,1,15],[2,3,2,15],[9,0,13,1],[12,3,12,15],[18,3,18,5],[18,10,18,13],[23,11,23,15],[24,11,24,15],[34,4,34,15],[35,4,35,15],[26,11,26,15],[27,11,27,15],[25,11,25,15],[37,4,37,5],[37,6,37,7],[37,11,37,12],[37,13,37,14],[28,11,28,15],[29,11,29,15],[32,4,32,15],[33,4,33,15]]}
[]
[null,null,null,"Minnesota State High School League Dance Team Competition"]
[null,null,null,"ANNOUNCER RESULTS FORM"]
[]
[null,null,null,"TABULATORS AND SUPERIOR JUDGES:"]
[null,null,null,"Please use this form to fill out the results and both sign to verify that the results are accurate."]
[]
[null,null,null,"ANNOUNCER:"]
[null,null,null,"Do not announce the results unless this form is signed on the bottom."]
[]
[null,null,null,"Please announce: "]
[null,null,null,"\"The team packets will be available to pick up after the awards ceremony in:\""]
[]
[null,null,null,"Superior/Tabulator: fill this in and write the time the packets are available on the envelopes"]
[]
[null,null,null,"FINAL RESULTS FROM:"]
[null,null,null,"CLASS:",null,null,{"$f":"IF(Class=0, \"\", Class)","v":""}]
[]
[null,null,null,"CATEGORY:",null,null,{"$f":"CATEGORY","v":"High Kick Category"}]
[]
["Place \"x\" in Box if Announcing place:",null,null,"ANNOUNCER - Please announce ranking point total and announce that the lowest rank score wins."]
[]
["1st","x",null,{"$f":"IF(B23=\"x\",'Rank Wkst'!AX8, \"\")","v":""},{"$f":"IF(B23=\"x\",'Rank Wkst'!AP8,\"\")","v":""},"Place:","with a ranking point total of:",{"$f":"IF(B23= \"x\", 'Rank Wkst'!AZ8, \"\")","v":""},{"$f":"IF(B23=\"x\",'Rank Wkst'!BD8, \"\")","v":""},":",null,{"$f":"IF(B23=\"x\",'Rank Wkst'!AU8, \"\")","v":""}]
["2nd","x",null,{"$f":"IF(B24=\"x\",'Rank Wkst'!AX9, \"\")","v":""},{"$f":"IF(B24=\"x\",'Rank Wkst'!AP9,\"\")","v":""},"Place:","with a ranking point total of:",{"$f":"IF(B24= \"x\", 'Rank Wkst'!AZ9, \"\")","v":""},{"$f":"IF(B24=\"x\",'Rank Wkst'!BD9, \"\")","v":""},":",null,{"$f":"IF(B24=\"x\",'Rank Wkst'!AU9, \"\")","v":""}]
["3rd","x",null,{"$f":"IF(B25=\"x\",'Rank Wkst'!AX10, \"\")","v":""},{"$f":"IF(B25=\"x\",'Rank Wkst'!AP10,\"\")","v":""},"Place:","with a ranking point total of:",{"$f":"IF(B25= \"x\", 'Rank Wkst'!AZ10, \"\")","v":""},{"$f":"IF(B25=\"x\",'Rank Wkst'!BD10, \"\")","v":""},":",null,{"$f":"IF(B25=\"x\",'Rank Wkst'!AU10, \"\")","v":""}]
["4th","x",null,{"$f":"IF(B26=\"x\",'Rank Wkst'!AX11, \"\")","v":""},{"$f":"IF(B26=\"x\",'Rank Wkst'!AP11,\"\")","v":""},"Place:","with a ranking point total of:",{"$f":"IF(B26= \"x\", 'Rank Wkst'!AZ11, \"\")","v":""},{"$f":"IF(B26=\"x\",'Rank Wkst'!BD11, \"\")","v":""},":",null,{"$f":"IF(B26=\"x\",'Rank Wkst'!AU11, \"\")","v":""}]
["5th","x",null,{"$f":"IF(B27=\"x\",'Rank Wkst'!AX12, \"\")","v":""},{"$f":"IF(B27=\"x\",'Rank Wkst'!AP12,\"\")","v":""},"Place:","with a ranking point total of:",{"$f":"IF(B27= \"x\", 'Rank Wkst'!AZ12, \"\")","v":""},{"$f":"IF(B27=\"x\",'Rank Wkst'!BD12, \"\")","v":""},":",null,{"$f":"IF(B27=\"x\",'Rank Wkst'!AU12, \"\")","v":""}]
["6th","x",null,{"$f":"IF(B28=\"x\",'Rank Wkst'!AX13, \"\")","v":""},{"$f":"IF(B28=\"x\",'Rank Wkst'!AP13,\"\")","v":""},"Place:","with a ranking point total of:",{"$f":"IF(B28= \"x\", 'Rank Wkst'!AZ13, \"\")","v":""},{"$f":"IF(B28=\"x\",'Rank Wkst'!BD13, \"\")","v":""},":",null,{"$f":"IF(B28=\"x\",'Rank Wkst'!AU13, \"\")","v":""}]
["7th","x",null,{"$f":"IF(B29=\"x\",'Rank Wkst'!AX14, \"\")","v":""},{"$f":"IF(B29=\"x\",'Rank Wkst'!AP14,\"\")","v":""},"Place:","with a ranking point total of:",{"$f":"IF(B29= \"x\", 'Rank Wkst'!AZ14, \"\")","v":""},{"$f":"IF(B29=\"x\",'Rank Wkst'!BD14, \"\")","v":""},":",null,{"$f":"IF(B29=\"x\",'Rank Wkst'!AU14, \"\")","v":""}]
["8th",null,null,{"$f":"IF(B30=\"x\",'Rank Wkst'!AX15, \"\")","v":""},{"$f":"IF(B30=\"x\",'Rank Wkst'!AP15,\"\")","v":""},"Place:","with a ranking point total of:",{"$f":"IF(B30= \"x\", 'Rank Wkst'!AZ15, \"\")","v":""},{"$f":"IF(B30=\"x\",'Rank Wkst'!BD15, \"\")","v":""},":",null,{"$f":"IF(B30=\"x\",'Rank Wkst'!AU15, \"\")","v":""}]
[null,null,null,null,"* = Tie-breaker was used"]
[]
[]
[null,null,null,null,"Superior Judge Signature"]
[]
[null,null,null,null,"Tabulator Signature"]
[]
[null,null,null,null,"Meet Site:",null,{"$f":"IF(Site=0, \"\", Site)","v":""},null,null,null,null,"Meet Date:",null,{"$f":"IF(DATE=0, \"\", DATE)","v":""}]

{"sheet":"Point Summary","index":4,"n_rows":35,"n_cols":25,"rows_kept":35,"cut":false,"hidden":false,"merged":[[10,0,10,1],[6,6,6,7],[1,0,1,21],[2,0,2,21],[20,2,20,3],[21,2,21,3],[10,2,10,3],[11,2,11,3],[12,2,12,3],[13,2,13,3],[9,4,9,5],[9,6,9,7],[9,8,9,10],[4,0,4,2],[4,6,4,7],[6,0,6,2],[32,2,32,3],[33,2,33,3],[22,2,22,3],[23,2,23,3],[24,2,24,3],[25,2,25,3],[26,2,26,3],[27,2,27,3],[28,2,28,3],[30,2,30,3],[10,20,10,21],[34,2,34,3],[4,8,4,16],[6,8,6,16],[8,4,8,13],[8,14,8,18],[8,19,8,21],[9,11,9,12],[29,2,29,3],[31,2,31,3],[16,2,16,3],[17,2,17,3],[18,2,18,3],[19,2,19,3],[10,17,10,18],[15,2,15,3],[14,2,14,3]]}
[]
["Minnesota State High School League Dance Team Competition"]
["Point and Rank Summary"]
[]
["MEET DATE:",null,null,{"$f":"IF(DATE=0, \"\", DATE)","v":""},null,null,"MEET SITE:",null,{"$f":"IF(Site=0, \"\", Site)","v":""}]
[]
["CLASS:",null,null,{"$f":"IF(Class=0, \"\", Class)","v":""},null,null,"CATEGORY:",null,{"$f":"CATEGORY","v":"High Kick Category"}]
[]
[null,null,null,null,"Category Points Breakdown",null,null,null,null,null,null,null,null,null,"Category Points Total",null,null,null,null,"Rank"]
[null,null,null,null,"Kicks",null,"Choreography",null,"Difficulty",null,null,"Execution",null,"Routine Eff."]
["Final Rank",null,"School",null,"Technique of Kicks","Kick Height","Creativity","Visual Effectiveness","Difficulty of Routine Choreography","Difficulty of Formations & Transitions","Difficulty of Kicks","Placement & Control","Degree of Accuracy","Routine Effectiveness","SubTotal Points","(Deductions)","Total Points","Out of Total Points Possible",null,"Rank Points","Final \nRank",null,null,null,"Website"]
[{"$f":"IF('Rank Wkst'!BG8=0, \"\", 'Rank Wkst'!BX8)","v":""},{"$f":"IF('Rank Wkst'!BG8=0, \"\", 'Rank Wkst'!BY8)","v":""},{"$f":"IF('Rank Wkst'!BG8=0, \"\", 'Rank Wkst'!BZ8)","v":""},null,{"$f":"IF('Rank Wkst'!BG8=0, \"\", 'Rank Wkst'!CA8)","v":""},{"$f":"IF('Rank Wkst'!BG8=0, \"\", 'Rank Wkst'!CB8)","v":""},{"$f":"IF('Rank Wkst'!BG8=0, \"\", 'Rank Wkst'!CC8)","v":""},{"$f":"IF('Rank Wkst'!BG8=0, \"\", 'Rank Wkst'!CD8)","v":""},{"$f":"IF('Rank Wkst'!BG8=0, \"\", 'Rank Wkst'!CE8)","v":""},{"$f":"IF('Rank Wkst'!BG8=0, \"\", 'Rank Wkst'!CF8)","v":""},{"$f":"IF('Rank Wkst'!BG8=0, \"\", 'Rank Wkst'!CG8)","v":""},{"$f":"IF('Rank Wkst'!BG8=0, \"\", 'Rank Wkst'!CH8)","v":""},{"$f":"IF('Rank Wkst'!BG8=0, \"\", 'Rank Wkst'!CI8)","v":""},{"$f":"IF('Rank Wkst'!BG8=0, \"\", 'Rank Wkst'!CJ8)","v":""},{"$f":"IF('Rank Wkst'!BG8=0, \"\", 'Rank Wkst'!CK8)","v":""},{"$f":"IF('Rank Wkst'!BG8=0, \"\", 'Rank Wkst'!CL8)","v":""},{"$f":"IF('Rank Wkst'!BG8=0, \"\", 'Rank Wkst'!CM8)","v":""},{"$f":"\"/\"","v":"/"},{"$f":"IF('Rank Wkst'!BG8=0, \"\", 'Rank Wkst'!CN8)","v":""},{"$f":"IF('Rank Wkst'!BG8=0, \"\", 'Rank Wkst'!CO8)","v":""},{"$f":"IF('Rank Wkst'!BG8=0, \"\", 'Rank Wkst'!BX8)","v":""},{"$f":"IF('Rank Wkst'!BG8=0, \"\", 'Rank Wkst'!BY8)","v":""},null,null,{"$f":"IF(E12=\"\",\" \",'Rank Wkst'!EK8)","v":" "}]
[{"$f":"IF('Rank Wkst'!BG9=0, \"\", 'Rank Wkst'!BX9)","v":""},{"$f":"IF('Rank Wkst'!BG9=0, \"\", 'Rank Wkst'!BY9)","v":""},{"$f":"IF('Rank Wkst'!BG9=0, \"\", 'Rank Wkst'!BZ9)","v":""},null,{"$f":"IF('Rank Wkst'!BG9=0, \"\", 'Rank Wkst'!CA9)","v":""},{"$f":"IF('Rank Wkst'!BG9=0, \"\", 'Rank Wkst'!CB9)","v":""},{"$f":"IF('Rank Wkst'!BG9=0, \"\", 'Rank Wkst'!CC9)","v":""},{"$f":"IF('Rank Wkst'!BG9=0, \"\", 'Rank Wkst'!CD9)","v":""},{"$f":"IF('Rank Wkst'!BG9=0, \"\", 'Rank Wkst'!CE9)","v":""},{"$f":"IF('Rank Wkst'!BG9=0, \"\", 'Rank Wkst'!CF9)","v":""},{"$f":"IF('Rank Wkst'!BG9=0, \"\", 'Rank Wkst'!CG9)","v":""},{"$f":"IF('Rank Wkst'!BG9=0, \"\", 'Rank Wkst'!CH9)","v":""},{"$f":"IF('Rank Wkst'!BG9=0, \"\", 'Rank Wkst'!CI9)","v":""},{"$f":"IF('Rank Wkst'!BG9=0, \"\", 'Rank Wkst'!CJ9)","v":""},{"$f":"IF('Rank Wkst'!BG9=0, \"\", 'Rank Wkst'!CK9)","v":""},{"$f":"IF('Rank Wkst'!BG9=0, \"\", 'Rank Wkst'!CL9)","v":""},{"$f":"IF('Rank Wkst'!BG9=0, \"\", 'Rank Wkst'!CM9)","v":""},{"$f":"\"/\"","v":"/"},{"$f":"IF('Rank Wkst'!BG9=0, \"\", 'Rank Wkst'!CN9)","v":""},{"$f":"IF('Rank Wkst'!BG9=0, \"\", 'Rank Wkst'!CO9)","v":""},{"$f":"IF('Rank Wkst'!BG9=0, \"\", 'Rank Wkst'!BX9)","v":""},{"$f":"IF('Rank Wkst'!BG9=0, \"\", 'Rank Wkst'!BY9)","v":""},null,null,{"$f":"IF(E13=\"\",\" \",'Rank Wkst'!EK9)","v":" "}]
[{"$f":"IF('Rank Wkst'!BG10=0, \"\", 'Rank Wkst'!BX10)","v":""},{"$f":"IF('Rank Wkst'!BG10=0, \"\", 'Rank Wkst'!BY10)","v":""},{"$f":"IF('Rank Wkst'!BG10=0, \"\", 'Rank Wkst'!BZ10)","v":""},null,{"$f":"IF('Rank Wkst'!BG10=0, \"\", 'Rank Wkst'!CA10)","v":""},{"$f":"IF('Rank Wkst'!BG10=0, \"\", 'Rank Wkst'!CB10)","v":""},{"$f":"IF('Rank Wkst'!BG10=0, \"\", 'Rank Wkst'!CC10)","v":""},{"$f":"IF('Rank Wkst'!BG10=0, \"\", 'Rank Wkst'!CD10)","v":""},{"$f":"IF('Rank Wkst'!BG10=0, \"\", 'Rank Wkst'!CE10)","v":""},{"$f":"IF('Rank Wkst'!BG10=0, \"\", 'Rank Wkst'!CF10)","v":""},{"$f":"IF('Rank Wkst'!BG10=0, \"\", 'Rank Wkst'!CG10)","v":""},{"$f":"IF('Rank Wkst'!BG10=0, \"\", 'Rank Wkst'!CH10)","v":""},{"$f":"IF('Rank Wkst'!BG10=0, \"\", 'Rank Wkst'!CI10)","v":""},{"$f":"IF('Rank Wkst'!BG10=0, \"\", 'Rank Wkst'!CJ10)","v":""},{"$f":"IF('Rank Wkst'!BG10=0, \"\", 'Rank Wkst'!CK10)","v":""},{"$f":"IF('Rank Wkst'!BG10=0, \"\", 'Rank Wkst'!CL10)","v":""},{"$f":"IF('Rank Wkst'!BG10=0, \"\", 'Rank Wkst'!CM10)","v":""},"/",{"$f":"IF('Rank Wkst'!BG10=0, \"\", 'Rank Wkst'!CN10)","v":""},{"$f":"IF('Rank Wkst'!BG10=0, \"\", 'Rank Wkst'!CO10)","v":""},{"$f":"IF('Rank Wkst'!BG10=0, \"\", 'Rank Wkst'!BX10)","v":""},{"$f":"IF('Rank Wkst'!BG10=0, \"\", 'Rank Wkst'!BY10)","v":""},null,null,{"$f":"IF(E14=\"\",\" \",'Rank Wkst'!EK10)","v":" "}]
[{"$f":"IF('Rank Wkst'!BG11=0, \"\", 'Rank Wkst'!BX11)","v":""},{"$f":"IF('Rank Wkst'!BG11=0, \"\", 'Rank Wkst'!BY11)","v":""},{"$f":"IF('Rank Wkst'!BG11=0, \"\", 'Rank Wkst'!BZ11)","v":""},null,{"$f":"IF('Rank Wkst'!BG11=0, \"\", 'Rank Wkst'!CA11)","v":""},{"$f":"IF('Rank Wkst'!BG11=0, \"\", 'Rank Wkst'!CB11)","v":""},{"$f":"IF('Rank Wkst'!BG11=0, \"\", 'Rank Wkst'!CC11)","v":""},{"$f":"IF('Rank Wkst'!BG11=0, \"\", 'Rank Wkst'!CD11)","v":""},{"$f":"IF('Rank Wkst'!BG11=0, \"\", 'Rank Wkst'!CE11)","v":""},{"$f":"IF('Rank Wkst'!BG11=0, \"\", 'Rank Wkst'!CF11)","v":""},{"$f":"IF('Rank Wkst'!BG11=0, \"\", 'Rank Wkst'!CG11)","v":""},{"$f":"IF('Rank Wkst'!BG11=0, \"\", 'Rank Wkst'!CH11)","v":""},{"$f":"IF('Rank Wkst'!BG11=0, \"\", 'Rank Wkst'!CI11)","v":""},{"$f":"IF('Rank Wkst'!BG11=0, \"\", 'Rank Wkst'!CJ11)","v":""},{"$f":"IF('Rank Wkst'!BG11=0, \"\", 'Rank Wkst'!CK11)","v":""},{"$f":"IF('Rank Wkst'!BG11=0, \"\", 'Rank Wkst'!CL11)","v":""},{"$f":"IF('Rank Wkst'!BG11=0, \"\", 'Rank Wkst'!CM11)","v":""},"/",{"$f":"IF('Rank Wkst'!BG11=0, \"\", 'Rank Wkst'!CN11)","v":""},{"$f":"IF('Rank Wkst'!BG11=0, \"\", 'Rank Wkst'!CO11)","v":""},{"$f":"IF('Rank Wkst'!BG11=0, \"\", 'Rank Wkst'!BX11)","v":""},{"$f":"IF('Rank Wkst'!BG11=0, \"\", 'Rank Wkst'!BY11)","v":""},null,null,{"$f":"IF(E15=\"\",\" \",'Rank Wkst'!EK11)","v":" "}]
[{"$f":"IF('Rank Wkst'!BG12=0, \"\", 'Rank Wkst'!BX12)","v":""},{"$f":"IF('Rank Wkst'!BG12=0, \"\", 'Rank Wkst'!BY12)","v":""},{"$f":"IF('Rank Wkst'!BG12=0, \"\", 'Rank Wkst'!BZ12)","v":""},null,{"$f":"IF('Rank Wkst'!BG12=0, \"\", 'Rank Wkst'!CA12)","v":""},{"$f":"IF('Rank Wkst'!BG12=0, \"\", 'Rank Wkst'!CB12)","v":""},{"$f":"IF('Rank Wkst'!BG12=0, \"\", 'Rank Wkst'!CC12)","v":""},{"$f":"IF('Rank Wkst'!BG12=0, \"\", 'Rank Wkst'!CD12)","v":""},{"$f":"IF('Rank Wkst'!BG12=0, \"\", 'Rank Wkst'!CE12)","v":""},{"$f":"IF('Rank Wkst'!BG12=0, \"\", 'Rank Wkst'!CF12)","v":""},{"$f":"IF('Rank Wkst'!BG12=0, \"\", 'Rank Wkst'!CG12)","v":""},{"$f":"IF('Rank Wkst'!BG12=0, \"\", 'Rank Wkst'!CH12)","v":""},{"$f":"IF('Rank Wkst'!BG12=0, \"\", 'Rank Wkst'!CI12)","v":""},{"$f":"IF('Rank Wkst'!BG12=0, \"\", 'Rank Wkst'!CJ12)","v":""},{"$f":"IF('Rank Wkst'!BG12=0, \"\", 'Rank Wkst'!CK12)","v":""},{"$f":"IF('Rank Wkst'!BG12=0, \"\", 'Rank Wkst'!CL12)","v":""},{"$f":"IF('Rank Wkst'!BG12=0, \"\", 'Rank Wkst'!CM12)","v":""},"/",{"$f":"IF('Rank Wkst'!BG12=0, \"\", 'Rank Wkst'!CN12)","v":""},{"$f":"IF('Rank Wkst'!BG12=0, \"\", 'Rank Wkst'!CO12)","v":""},{"$f":"IF('Rank Wkst'!BG12=0, \"\", 'Rank Wkst'!BX12)","v":""},{"$f":"IF('Rank Wkst'!BG12=0, \"\", 'Rank Wkst'!BY12)","v":""},null,null,{"$f":"IF(E16=\"\",\" \",'Rank Wkst'!EK12)","v":" "}]
[{"$f":"IF('Rank Wkst'!BG13=0, \"\", 'Rank Wkst'!BX13)","v":""},{"$f":"IF('Rank Wkst'!BG13=0, \"\", 'Rank Wkst'!BY13)","v":""},{"$f":"IF('Rank Wkst'!BG13=0, \"\", 'Rank Wkst'!BZ13)","v":""},null,{"$f":"IF('Rank Wkst'!BG13=0, \"\", 'Rank Wkst'!CA13)","v":""},{"$f":"IF('Rank Wkst'!BG13=0, \"\", 'Rank Wkst'!CB13)","v":""},{"$f":"IF('Rank Wkst'!BG13=0, \"\", 'Rank Wkst'!CC13)","v":""},{"$f":"IF('Rank Wkst'!BG13=0, \"\", 'Rank Wkst'!CD13)","v":""},{"$f":"IF('Rank Wkst'!BG13=0, \"\", 'Rank Wkst'!CE13)","v":""},{"$f":"IF('Rank Wkst'!BG13=0, \"\", 'Rank Wkst'!CF13)","v":""},{"$f":"IF('Rank Wkst'!BG13=0, \"\", 'Rank Wkst'!CG13)","v":""},{"$f":"IF('Rank Wkst'!BG13=0, \"\", 'Rank Wkst'!CH13)","v":""},{"$f":"IF('Rank Wkst'!BG13=0, \"\", 'Rank Wkst'!CI13)","v":""},{"$f":"IF('Rank Wkst'!BG13=0, \"\", 'Rank Wkst'!CJ13)","v":""},{"$f":"IF('Rank Wkst'!BG13=0, \"\", 'Rank Wkst'!CK13)","v":""},{"$f":"IF('Rank Wkst'!BG13=0, \"\", 'Rank Wkst'!CL13)","v":""},{"$f":"IF('Rank Wkst'!BG13=0, \"\", 'Rank Wkst'!CM13)","v":""},"/",{"$f":"IF('Rank Wkst'!BG13=0, \"\", 'Rank Wkst'!CN13)","v":""},{"$f":"IF('Rank Wkst'!BG13=0, \"\", 'Rank Wkst'!CO13)","v":""},{"$f":"IF('Rank Wkst'!BG13=0, \"\", 'Rank Wkst'!BX13)","v":""},{"$f":"IF('Rank Wkst'!BG13=0, \"\", 'Rank Wkst'!BY13)","v":""},null,null,{"$f":"IF(E17=\"\",\" \",'Rank Wkst'!EK13)","v":" "}]
[{"$f":"IF('Rank Wkst'!BG14=0, \"\", 'Rank Wkst'!BX14)","v":""},{"$f":"IF('Rank Wkst'!BG14=0, \"\", 'Rank Wkst'!BY14)","v":""},{"$f":"IF('Rank Wkst'!BG14=0, \"\", 'Rank Wkst'!BZ14)","v":""},null,{"$f":"IF('Rank Wkst'!BG14=0, \"\", 'Rank Wkst'!CA14)","v":""},{"$f":"IF('Rank Wkst'!BG14=0, \"\", 'Rank Wkst'!CB14)","v":""},{"$f":"IF('Rank Wkst'!BG14=0, \"\", 'Rank Wkst'!CC14)","v":""},{"$f":"IF('Rank Wkst'!BG14=0, \"\", 'Rank Wkst'!CD14)","v":""},{"$f":"IF('Rank Wkst'!BG14=0, \"\", 'Rank Wkst'!CE14)","v":""},{"$f":"IF('Rank Wkst'!BG14=0, \"\", 'Rank Wkst'!CF14)","v":""},{"$f":"IF('Rank Wkst'!BG14=0, \"\", 'Rank Wkst'!CG14)","v":""},{"$f":"IF('Rank Wkst'!BG14=0, \"\", 'Rank Wkst'!CH14)","v":""},{"$f":"IF('Rank Wkst'!BG14=0, \"\", 'Rank Wkst'!CI14)","v":""},{"$f":"IF('Rank Wkst'!BG14=0, \"\", 'Rank Wkst'!CJ14)","v":""},{"$f":"IF('Rank Wkst'!BG14=0, \"\", 'Rank Wkst'!CK14)","v":""},{"$f":"IF('Rank Wkst'!BG14=0, \"\", 'Rank Wkst'!CL14)","v":""},{"$f":"IF('Rank Wkst'!BG14=0, \"\", 'Rank Wkst'!CM14)","v":""},"/",{"$f":"IF('Rank Wkst'!BG14=0, \"\", 'Rank Wkst'!CN14)","v":""},{"$f":"IF('Rank Wkst'!BG14=0, \"\", 'Rank Wkst'!CO14)","v":""},{"$f":"IF('Rank Wkst'!BG14=0, \"\", 'Rank Wkst'!BX14)","v":""},{"$f":"IF('Rank Wkst'!BG14=0, \"\", 'Rank Wkst'!BY14)","v":""},null,null,{"$f":"IF(E18=\"\",\" \",'Rank Wkst'!EK14)","v":" "}]
[{"$f":"IF('Rank Wkst'!BG15=0, \"\", 'Rank Wkst'!BX15)","v":""},{"$f":"IF('Rank Wkst'!BG15=0, \"\", 'Rank Wkst'!BY15)","v":""},{"$f":"IF('Rank Wkst'!BG15=0, \"\", 'Rank Wkst'!BZ15)","v":""},null,{"$f":"IF('Rank Wkst'!BG15=0, \"\", 'Rank Wkst'!CA15)","v":""},{"$f":"IF('Rank Wkst'!BG15=0, \"\", 'Rank Wkst'!CB15)","v":""},{"$f":"IF('Rank Wkst'!BG15=0, \"\", 'Rank Wkst'!CC15)","v":""},{"$f":"IF('Rank Wkst'!BG15=0, \"\", 'Rank Wkst'!CD15)","v":""},{"$f":"IF('Rank Wkst'!BG15=0, \"\", 'Rank Wkst'!CE15)","v":""},{"$f":"IF('Rank Wkst'!BG15=0, \"\", 'Rank Wkst'!CF15)","v":""},{"$f":"IF('Rank Wkst'!BG15=0, \"\", 'Rank Wkst'!CG15)","v":""},{"$f":"IF('Rank Wkst'!BG15=0, \"\", 'Rank Wkst'!CH15)","v":""},{"$f":"IF('Rank Wkst'!BG15=0, \"\", 'Rank Wkst'!CI15)","v":""},{"$f":"IF('Rank Wkst'!BG15=0, \"\", 'Rank Wkst'!CJ15)","v":""},{"$f":"IF('Rank Wkst'!BG15=0, \"\", 'Rank Wkst'!CK15)","v":""},{"$f":"IF('Rank Wkst'!BG15=0, \"\", 'Rank Wkst'!CL15)","v":""},{"$f":"IF('Rank Wkst'!BG15=0, \"\", 'Rank Wkst'!CM15)","v":""},"/",{"$f":"IF('Rank Wkst'!BG15=0, \"\", 'Rank Wkst'!CN15)","v":""},{"$f":"IF('Rank Wkst'!BG15=0, \"\", 'Rank Wkst'!CO15)","v":""},{"$f":"IF('Rank Wkst'!BG15=0, \"\", 'Rank Wkst'!BX15)","v":""},{"$f":"IF('Rank Wkst'!BG15=0, \"\", 'Rank Wkst'!BY15)","v":""},null,null,{"$f":"IF(E19=\"\",\" \",'Rank Wkst'!EK15)","v":" "}]
[{"$f":"IF('Rank Wkst'!BG16=0, \"\", 'Rank Wkst'!BX16)","v":""},{"$f":"IF('Rank Wkst'!BG16=0, \"\", 'Rank Wkst'!BY16)","v":""},{"$f":"IF('Rank Wkst'!BG16=0, \"\", 'Rank Wkst'!BZ16)","v":""},null,{"$f":"IF('Rank Wkst'!BG16=0, \"\", 'Rank Wkst'!CA16)","v":""},{"$f":"IF('Rank Wkst'!BG16=0, \"\", 'Rank Wkst'!CB16)","v":""},{"$f":"IF('Rank Wkst'!BG16=0, \"\", 'Rank Wkst'!CC16)","v":""},{"$f":"IF('Rank Wkst'!BG16=0, \"\", 'Rank Wkst'!CD16)","v":""},{"$f":"IF('Rank Wkst'!BG16=0, \"\", 'Rank Wkst'!CE16)","v":""},{"$f":"IF('Rank Wkst'!BG16=0, \"\", 'Rank Wkst'!CF16)","v":""},{"$f":"IF('Rank Wkst'!BG16=0, \"\", 'Rank Wkst'!CG16)","v":""},{"$f":"IF('Rank Wkst'!BG16=0, \"\", 'Rank Wkst'!CH16)","v":""},{"$f":"IF('Rank Wkst'!BG16=0, \"\", 'Rank Wkst'!CI16)","v":""},{"$f":"IF('Rank Wkst'!BG16=0, \"\", 'Rank Wkst'!CJ16)","v":""},{"$f":"IF('Rank Wkst'!BG16=0, \"\", 'Rank Wkst'!CK16)","v":""},{"$f":"IF('Rank Wkst'!BG16=0, \"\", 'Rank Wkst'!CL16)","v":""},{"$f":"IF('Rank Wkst'!BG16=0, \"\", 'Rank Wkst'!CM16)","v":""},"/",{"$f":"IF('Rank Wkst'!BG16=0, \"\", 'Rank Wkst'!CN16)","v":""},{"$f":"IF('Rank Wkst'!BG16=0, \"\", 'Rank Wkst'!CO16)","v":""},{"$f":"IF('Rank Wkst'!BG16=0, \"\", 'Rank Wkst'!BX16)","v":""},{"$f":"IF('Rank Wkst'!BG16=0, \"\", 'Rank Wkst'!BY16)","v":""},null,null,{"$f":"IF(E20=\"\",\" \",'Rank Wkst'!EK16)","v":" "}]
[{"$f":"IF('Rank Wkst'!BG17=0, \"\", 'Rank Wkst'!BX17)","v":""},{"$f":"IF('Rank Wkst'!BG17=0, \"\", 'Rank Wkst'!BY17)","v":""},{"$f":"IF('Rank Wkst'!BG17=0, \"\", 'Rank Wkst'!BZ17)","v":""},null,{"$f":"IF('Rank Wkst'!BG17=0, \"\", 'Rank Wkst'!CA17)","v":""},{"$f":"IF('Rank Wkst'!BG17=0, \"\", 'Rank Wkst'!CB17)","v":""},{"$f":"IF('Rank Wkst'!BG17=0, \"\", 'Rank Wkst'!CC17)","v":""},{"$f":"IF('Rank Wkst'!BG17=0, \"\", 'Rank Wkst'!CD17)","v":""},{"$f":"IF('Rank Wkst'!BG17=0, \"\", 'Rank Wkst'!CE17)","v":""},{"$f":"IF('Rank Wkst'!BG17=0, \"\", 'Rank Wkst'!CF17)","v":""},{"$f":"IF('Rank Wkst'!BG17=0, \"\", 'Rank Wkst'!CG17)","v":""},{"$f":"IF('Rank Wkst'!BG17=0, \"\", 'Rank Wkst'!CH17)","v":""},{"$f":"IF('Rank Wkst'!BG17=0, \"\", 'Rank Wkst'!CI17)","v":""},{"$f":"IF('Rank Wkst'!BG17=0, \"\", 'Rank Wkst'!CJ17)","v":""},{"$f":"IF('Rank Wkst'!BG17=0, \"\", 'Rank Wkst'!CK17)","v":""},{"$f":"IF('Rank Wkst'!BG17=0, \"\", 'Rank Wkst'!CL17)","v":""},{"$f":"IF('Rank Wkst'!BG17=0, \"\", 'Rank Wkst'!CM17)","v":""},"/",{"$f":"IF('Rank Wkst'!BG17=0, \"\", 'Rank Wkst'!CN17)","v":""},{"$f":"IF('Rank Wkst'!BG17=0, \"\", 'Rank Wkst'!CO17)","v":""},{"$f":"IF('Rank Wkst'!BG17=0, \"\", 'Rank Wkst'!BX17)","v":""},{"$f":"IF('Rank Wkst'!BG17=0, \"\", 'Rank Wkst'!BY17)","v":""},null,null,{"$f":"IF(E21=\"\",\" \",'Rank Wkst'!EK17)","v":" "}]
[{"$f":"IF('Rank Wkst'!BG18=0, \"\", 'Rank Wkst'!BX18)","v":""},{"$f":"IF('Rank Wkst'!BG18=0, \"\", 'Rank Wkst'!BY18)","v":""},{"$f":"IF('Rank Wkst'!BG18=0, \"\", 'Rank Wkst'!BZ18)","v":""},null,{"$f":"IF('Rank Wkst'!BG18=0, \"\", 'Rank Wkst'!CA18)","v":""},{"$f":"IF('Rank Wkst'!BG18=0, \"\", 'Rank Wkst'!CB18)","v":""},{"$f":"IF('Rank Wkst'!BG18=0, \"\", 'Rank Wkst'!CC18)","v":""},{"$f":"IF('Rank Wkst'!BG18=0, \"\", 'Rank Wkst'!CD18)","v":""},{"$f":"IF('Rank Wkst'!BG18=0, \"\", 'Rank Wkst'!CE18)","v":""},{"$f":"IF('Rank Wkst'!BG18=0, \"\", 'Rank Wkst'!CF18)","v":""},{"$f":"IF('Rank Wkst'!BG18=0, \"\", 'Rank Wkst'!CG18)","v":""},{"$f":"IF('Rank Wkst'!BG18=0, \"\", 'Rank Wkst'!CH18)","v":""},{"$f":"IF('Rank Wkst'!BG18=0, \"\", 'Rank Wkst'!CI18)","v":""},{"$f":"IF('Rank Wkst'!BG18=0, \"\", 'Rank Wkst'!CJ18)","v":""},{"$f":"IF('Rank Wkst'!BG18=0, \"\", 'Rank Wkst'!CK18)","v":""},{"$f":"IF('Rank Wkst'!BG18=0, \"\", 'Rank Wkst'!CL18)","v":""},{"$f":"IF('Rank Wkst'!BG18=0, \"\", 'Rank Wkst'!CM18)","v":""},"/",{"$f":"IF('Rank Wkst'!BG18=0, \"\", 'Rank Wkst'!CN18)","v":""},{"$f":"IF('Rank Wkst'!BG18=0, \"\", 'Rank Wkst'!CO18)","v":""},{"$f":"IF('Rank Wkst'!BG18=0, \"\", 'Rank Wkst'!BX18)","v":""},{"$f":"IF('Rank Wkst'!BG18=0, \"\", 'Rank Wkst'!BY18)","v":""},null,null,{"$f":"IF(E22=\"\",\" \",'Rank Wkst'!EK18)","v":" "}]
[{"$f":"IF('Rank Wkst'!BG19=0, \"\", 'Rank Wkst'!BX19)","v":""},{"$f":"IF('Rank Wkst'!BG19=0, \"\", 'Rank Wkst'!BY19)","v":""},{"$f":"IF('Rank Wkst'!BG19=0, \"\", 'Rank Wkst'!BZ19)","v":""},null,{"$f":"IF('Rank Wkst'!BG19=0, \"\", 'Rank Wkst'!CA19)","v":""},{"$f":"IF('Rank Wkst'!BG19=0, \"\", 'Rank Wkst'!CB19)","v":""},{"$f":"IF('Rank Wkst'!BG19=0, \"\", 'Rank Wkst'!CC19)","v":""},{"$f":"IF('Rank Wkst'!BG19=0, \"\", 'Rank Wkst'!CD19)","v":""},{"$f":"IF('Rank Wkst'!BG19=0, \"\", 'Rank Wkst'!CE19)","v":""},{"$f":"IF('Rank Wkst'!BG19=0, \"\", 'Rank Wkst'!CF19)","v":""},{"$f":"IF('Rank Wkst'!BG19=0, \"\", 'Rank Wkst'!CG19)","v":""},{"$f":"IF('Rank Wkst'!BG19=0, \"\", 'Rank Wkst'!CH19)","v":""},{"$f":"IF('Rank Wkst'!BG19=0, \"\", 'Rank Wkst'!CI19)","v":""},{"$f":"IF('Rank Wkst'!BG19=0, \"\", 'Rank Wkst'!CJ19)","v":""},{"$f":"IF('Rank Wkst'!BG19=0, \"\", 'Rank Wkst'!CK19)","v":""},{"$f":"IF('Rank Wkst'!BG19=0, \"\", 'Rank Wkst'!CL19)","v":""},{"$f":"IF('Rank Wkst'!BG19=0, \"\", 'Rank Wkst'!CM19)","v":""},"/",{"$f":"IF('Rank Wkst'!BG19=0, \"\", 'Rank Wkst'!CN19)","v":""},{"$f":"IF('Rank Wkst'!BG19=0, \"\", 'Rank Wkst'!CO19)","v":""},{"$f":"IF('Rank Wkst'!BG19=0, \"\", 'Rank Wkst'!BX19)","v":""},{"$f":"IF('Rank Wkst'!BG19=0, \"\", 'Rank Wkst'!BY19)","v":""},null,null,{"$f":"IF(E23=\"\",\" \",'Rank Wkst'!EK19)","v":" "}]
[{"$f":"IF('Rank Wkst'!BG20=0, \"\", 'Rank Wkst'!BX20)","v":""},{"$f":"IF('Rank Wkst'!BG20=0, \"\", 'Rank Wkst'!BY20)","v":""},{"$f":"IF('Rank Wkst'!BG20=0, \"\", 'Rank Wkst'!BZ20)","v":""},null,{"$f":"IF('Rank Wkst'!BG20=0, \"\", 'Rank Wkst'!CA20)","v":""},{"$f":"IF('Rank Wkst'!BG20=0, \"\", 'Rank Wkst'!CB20)","v":""},{"$f":"IF('Rank Wkst'!BG20=0, \"\", 'Rank Wkst'!CC20)","v":""},{"$f":"IF('Rank Wkst'!BG20=0, \"\", 'Rank Wkst'!CD20)","v":""},{"$f":"IF('Rank Wkst'!BG20=0, \"\", 'Rank Wkst'!CE20)","v":""},{"$f":"IF('Rank Wkst'!BG20=0, \"\", 'Rank Wkst'!CF20)","v":""},{"$f":"IF('Rank Wkst'!BG20=0, \"\", 'Rank Wkst'!CG20)","v":""},{"$f":"IF('Rank Wkst'!BG20=0, \"\", 'Rank Wkst'!CH20)","v":""},{"$f":"IF('Rank Wkst'!BG20=0, \"\", 'Rank Wkst'!CI20)","v":""},{"$f":"IF('Rank Wkst'!BG20=0, \"\", 'Rank Wkst'!CJ20)","v":""},{"$f":"IF('Rank Wkst'!BG20=0, \"\", 'Rank Wkst'!CK20)","v":""},{"$f":"IF('Rank Wkst'!BG20=0, \"\", 'Rank Wkst'!CL20)","v":""},{"$f":"IF('Rank Wkst'!BG20=0, \"\", 'Rank Wkst'!CM20)","v":""},"/",{"$f":"IF('Rank Wkst'!BG20=0, \"\", 'Rank Wkst'!CN20)","v":""},{"$f":"IF('Rank Wkst'!BG20=0, \"\", 'Rank Wkst'!CO20)","v":""},{"$f":"IF('Rank Wkst'!BG20=0, \"\", 'Rank Wkst'!BX20)","v":""},{"$f":"IF('Rank Wkst'!BG20=0, \"\", 'Rank Wkst'!BY20)","v":""},null,null,{"$f":"IF(E24=\"\",\" \",'Rank Wkst'!EK20)","v":" "}]
[{"$f":"IF('Rank Wkst'!BG21=0, \"\", 'Rank Wkst'!BX21)","v":""},{"$f":"IF('Rank Wkst'!BG21=0, \"\", 'Rank Wkst'!BY21)","v":""},{"$f":"IF('Rank Wkst'!BG21=0, \"\", 'Rank Wkst'!BZ21)","v":""},null,{"$f":"IF('Rank Wkst'!BG21=0, \"\", 'Rank Wkst'!CA21)","v":""},{"$f":"IF('Rank Wkst'!BG21=0, \"\", 'Rank Wkst'!CB21)","v":""},{"$f":"IF('Rank Wkst'!BG21=0, \"\", 'Rank Wkst'!CC21)","v":""},{"$f":"IF('Rank Wkst'!BG21=0, \"\", 'Rank Wkst'!CD21)","v":""},{"$f":"IF('Rank Wkst'!BG21=0, \"\", 'Rank Wkst'!CE21)","v":""},{"$f":"IF('Rank Wkst'!BG21=0, \"\", 'Rank Wkst'!CF21)","v":""},{"$f":"IF('Rank Wkst'!BG21=0, \"\", 'Rank Wkst'!CG21)","v":""},{"$f":"IF('Rank Wkst'!BG21=0, \"\", 'Rank Wkst'!CH21)","v":""},{"$f":"IF('Rank Wkst'!BG21=0, \"\", 'Rank Wkst'!CI21)","v":""},{"$f":"IF('Rank Wkst'!BG21=0, \"\", 'Rank Wkst'!CJ21)","v":""},{"$f":"IF('Rank Wkst'!BG21=0, \"\", 'Rank Wkst'!CK21)","v":""},{"$f":"IF('Rank Wkst'!BG21=0, \"\", 'Rank Wkst'!CL21)","v":""},{"$f":"IF('Rank Wkst'!BG21=0, \"\", 'Rank Wkst'!CM21)","v":""},"/",{"$f":"IF('Rank Wkst'!BG21=0, \"\", 'Rank Wkst'!CN21)","v":""},{"$f":"IF('Rank Wkst'!BG21=0, \"\", 'Rank Wkst'!CO21)","v":""},{"$f":"IF('Rank Wkst'!BG21=0, \"\", 'Rank Wkst'!BX21)","v":""},{"$f":"IF('Rank Wkst'!BG21=0, \"\", 'Rank Wkst'!BY21)","v":""},null,null,{"$f":"IF(E25=\"\",\" \",'Rank Wkst'!EK21)","v":" "}]
[{"$f":"IF('Rank Wkst'!BG22=0, \"\", 'Rank Wkst'!BX22)","v":""},{"$f":"IF('Rank Wkst'!BG22=0, \"\", 'Rank Wkst'!BY22)","v":""},{"$f":"IF('Rank Wkst'!BG22=0, \"\", 'Rank Wkst'!BZ22)","v":""},null,{"$f":"IF('Rank Wkst'!BG22=0, \"\", 'Rank Wkst'!CA22)","v":""},{"$f":"IF('Rank Wkst'!BG22=0, \"\", 'Rank Wkst'!CB22)","v":""},{"$f":"IF('Rank Wkst'!BG22=0, \"\", 'Rank Wkst'!CC22)","v":""},{"$f":"IF('Rank Wkst'!BG22=0, \"\", 'Rank Wkst'!CD22)","v":""},{"$f":"IF('Rank Wkst'!BG22=0, \"\", 'Rank Wkst'!CE22)","v":""},{"$f":"IF('Rank Wkst'!BG22=0, \"\", 'Rank Wkst'!CF22)","v":""},{"$f":"IF('Rank Wkst'!BG22=0, \"\", 'Rank Wkst'!CG22)","v":""},{"$f":"IF('Rank Wkst'!BG22=0, \"\", 'Rank Wkst'!CH22)","v":""},{"$f":"IF('Rank Wkst'!BG22=0, \"\", 'Rank Wkst'!CI22)","v":""},{"$f":"IF('Rank Wkst'!BG22=0, \"\", 'Rank Wkst'!CJ22)","v":""},{"$f":"IF('Rank Wkst'!BG22=0, \"\", 'Rank Wkst'!CK22)","v":""},{"$f":"IF('Rank Wkst'!BG22=0, \"\", 'Rank Wkst'!CL22)","v":""},{"$f":"IF('Rank Wkst'!BG22=0, \"\", 'Rank Wkst'!CM22)","v":""},"/",{"$f":"IF('Rank Wkst'!BG22=0, \"\", 'Rank Wkst'!CN22)","v":""},{"$f":"IF('Rank Wkst'!BG22=0, \"\", 'Rank Wkst'!CO22)","v":""},{"$f":"IF('Rank Wkst'!BG22=0, \"\", 'Rank Wkst'!BX22)","v":""},{"$f":"IF('Rank Wkst'!BG22=0, \"\", 'Rank Wkst'!BY22)","v":""},null,null,{"$f":"IF(E26=\"\",\" \",'Rank Wkst'!EK22)","v":" "}]
[{"$f":"IF('Rank Wkst'!BG23=0, \"\", 'Rank Wkst'!BX23)","v":""},{"$f":"IF('Rank Wkst'!BG23=0, \"\", 'Rank Wkst'!BY23)","v":""},{"$f":"IF('Rank Wkst'!BG23=0, \"\", 'Rank Wkst'!BZ23)","v":""},null,{"$f":"IF('Rank Wkst'!BG23=0, \"\", 'Rank Wkst'!CA23)","v":""},{"$f":"IF('Rank Wkst'!BG23=0, \"\", 'Rank Wkst'!CB23)","v":""},{"$f":"IF('Rank Wkst'!BG23=0, \"\", 'Rank Wkst'!CC23)","v":""},{"$f":"IF('Rank Wkst'!BG23=0, \"\", 'Rank Wkst'!CD23)","v":""},{"$f":"IF('Rank Wkst'!BG23=0, \"\", 'Rank Wkst'!CE23)","v":""},{"$f":"IF('Rank Wkst'!BG23=0, \"\", 'Rank Wkst'!CF23)","v":""},{"$f":"IF('Rank Wkst'!BG23=0, \"\", 'Rank Wkst'!CG23)","v":""},{"$f":"IF('Rank Wkst'!BG23=0, \"\", 'Rank Wkst'!CH23)","v":""},{"$f":"IF('Rank Wkst'!BG23=0, \"\", 'Rank Wkst'!CI23)","v":""},{"$f":"IF('Rank Wkst'!BG23=0, \"\", 'Rank Wkst'!CJ23)","v":""},{"$f":"IF('Rank Wkst'!BG23=0, \"\", 'Rank Wkst'!CK23)","v":""},{"$f":"IF('Rank Wkst'!BG23=0, \"\", 'Rank Wkst'!CL23)","v":""},{"$f":"IF('Rank Wkst'!BG23=0, \"\", 'Rank Wkst'!CM23)","v":""},"/",{"$f":"IF('Rank Wkst'!BG23=0, \"\", 'Rank Wkst'!CN23)","v":""},{"$f":"IF('Rank Wkst'!BG23=0, \"\", 'Rank Wkst'!CO23)","v":""},{"$f":"IF('Rank Wkst'!BG23=0, \"\", 'Rank Wkst'!BX23)","v":""},{"$f":"IF('Rank Wkst'!BG23=0, \"\", 'Rank Wkst'!BY23)","v":""},null,null,{"$f":"IF(E27=\"\",\" \",'Rank Wkst'!EK23)","v":" "}]
[{"$f":"IF('Rank Wkst'!BG24=0, \"\", 'Rank Wkst'!BX24)","v":""},{"$f":"IF('Rank Wkst'!BG24=0, \"\", 'Rank Wkst'!BY24)","v":""},{"$f":"IF('Rank Wkst'!BG24=0, \"\", 'Rank Wkst'!BZ24)","v":""},null,{"$f":"IF('Rank Wkst'!BG24=0, \"\", 'Rank Wkst'!CA24)","v":""},{"$f":"IF('Rank Wkst'!BG24=0, \"\", 'Rank Wkst'!CB24)","v":""},{"$f":"IF('Rank Wkst'!BG24=0, \"\", 'Rank Wkst'!CC24)","v":""},{"$f":"IF('Rank Wkst'!BG24=0, \"\", 'Rank Wkst'!CD24)","v":""},{"$f":"IF('Rank Wkst'!BG24=0, \"\", 'Rank Wkst'!CE24)","v":""},{"$f":"IF('Rank Wkst'!BG24=0, \"\", 'Rank Wkst'!CF24)","v":""},{"$f":"IF('Rank Wkst'!BG24=0, \"\", 'Rank Wkst'!CG24)","v":""},{"$f":"IF('Rank Wkst'!BG24=0, \"\", 'Rank Wkst'!CH24)","v":""},{"$f":"IF('Rank Wkst'!BG24=0, \"\", 'Rank Wkst'!CI24)","v":""},{"$f":"IF('Rank Wkst'!BG24=0, \"\", 'Rank Wkst'!CJ24)","v":""},{"$f":"IF('Rank Wkst'!BG24=0, \"\", 'Rank Wkst'!CK24)","v":""},{"$f":"IF('Rank Wkst'!BG24=0, \"\", 'Rank Wkst'!CL24)","v":""},{"$f":"IF('Rank Wkst'!BG24=0, \"\", 'Rank Wkst'!CM24)","v":""},"/",{"$f":"IF('Rank Wkst'!BG24=0, \"\", 'Rank Wkst'!CN24)","v":""},{"$f":"IF('Rank Wkst'!BG24=0, \"\", 'Rank Wkst'!CO24)","v":""},{"$f":"IF('Rank Wkst'!BG24=0, \"\", 'Rank Wkst'!BX24)","v":""},{"$f":"IF('Rank Wkst'!BG24=0, \"\", 'Rank Wkst'!BY24)","v":""},null,null,{"$f":"IF(E28=\"\",\" \",'Rank Wkst'!EK24)","v":" "}]
[{"$f":"IF('Rank Wkst'!BG25=0, \"\", 'Rank Wkst'!BX25)","v":""},{"$f":"IF('Rank Wkst'!BG25=0, \"\", 'Rank Wkst'!BY25)","v":""},{"$f":"IF('Rank Wkst'!BG25=0, \"\", 'Rank Wkst'!BZ25)","v":""},null,{"$f":"IF('Rank Wkst'!BG25=0, \"\", 'Rank Wkst'!CA25)","v":""},{"$f":"IF('Rank Wkst'!BG25=0, \"\", 'Rank Wkst'!CB25)","v":""},{"$f":"IF('Rank Wkst'!BG25=0, \"\", 'Rank Wkst'!CC25)","v":""},{"$f":"IF('Rank Wkst'!BG25=0, \"\", 'Rank Wkst'!CD25)","v":""},{"$f":"IF('Rank Wkst'!BG25=0, \"\", 'Rank Wkst'!CE25)","v":""},{"$f":"IF('Rank Wkst'!BG25=0, \"\", 'Rank Wkst'!CF25)","v":""},{"$f":"IF('Rank Wkst'!BG25=0, \"\", 'Rank Wkst'!CG25)","v":""},{"$f":"IF('Rank Wkst'!BG25=0, \"\", 'Rank Wkst'!CH25)","v":""},{"$f":"IF('Rank Wkst'!BG25=0, \"\", 'Rank Wkst'!CI25)","v":""},{"$f":"IF('Rank Wkst'!BG25=0, \"\", 'Rank Wkst'!CJ25)","v":""},{"$f":"IF('Rank Wkst'!BG25=0, \"\", 'Rank Wkst'!CK25)","v":""},{"$f":"IF('Rank Wkst'!BG25=0, \"\", 'Rank Wkst'!CL25)","v":""},{"$f":"IF('Rank Wkst'!BG25=0, \"\", 'Rank Wkst'!CM25)","v":""},"/",{"$f":"IF('Rank Wkst'!BG25=0, \"\", 'Rank Wkst'!CN25)","v":""},{"$f":"IF('Rank Wkst'!BG25=0, \"\", 'Rank Wkst'!CO25)","v":""},{"$f":"IF('Rank Wkst'!BG25=0, \"\", 'Rank Wkst'!BX25)","v":""},{"$f":"IF('Rank Wkst'!BG25=0, \"\", 'Rank Wkst'!BY25)","v":""},null,null,{"$f":"IF(E29=\"\",\" \",'Rank Wkst'!EK25)","v":" "}]
[{"$f":"IF('Rank Wkst'!BG26=0, \"\", 'Rank Wkst'!BX26)","v":""},{"$f":"IF('Rank Wkst'!BG26=0, \"\", 'Rank Wkst'!BY26)","v":""},{"$f":"IF('Rank Wkst'!BG26=0, \"\", 'Rank Wkst'!BZ26)","v":""},null,{"$f":"IF('Rank Wkst'!BG26=0, \"\", 'Rank Wkst'!CA26)","v":""},{"$f":"IF('Rank Wkst'!BG26=0, \"\", 'Rank Wkst'!CB26)","v":""},{"$f":"IF('Rank Wkst'!BG26=0, \"\", 'Rank Wkst'!CC26)","v":""},{"$f":"IF('Rank Wkst'!BG26=0, \"\", 'Rank Wkst'!CD26)","v":""},{"$f":"IF('Rank Wkst'!BG26=0, \"\", 'Rank Wkst'!CE26)","v":""},{"$f":"IF('Rank Wkst'!BG26=0, \"\", 'Rank Wkst'!CF26)","v":""},{"$f":"IF('Rank Wkst'!BG26=0, \"\", 'Rank Wkst'!CG26)","v":""},{"$f":"IF('Rank Wkst'!BG26=0, \"\", 'Rank Wkst'!CH26)","v":""},{"$f":"IF('Rank Wkst'!BG26=0, \"\", 'Rank Wkst'!CI26)","v":""},{"$f":"IF('Rank Wkst'!BG26=0, \"\", 'Rank Wkst'!CJ26)","v":""},{"$f":"IF('Rank Wkst'!BG26=0, \"\", 'Rank Wkst'!CK26)","v":""},{"$f":"IF('Rank Wkst'!BG26=0, \"\", 'Rank Wkst'!CL26)","v":""},{"$f":"IF('Rank Wkst'!BG26=0, \"\", 'Rank Wkst'!CM26)","v":""},"/",{"$f":"IF('Rank Wkst'!BG26=0, \"\", 'Rank Wkst'!CN26)","v":""},{"$f":"IF('Rank Wkst'!BG26=0, \"\", 'Rank Wkst'!CO26)","v":""},{"$f":"IF('Rank Wkst'!BG26=0, \"\", 'Rank Wkst'!BX26)","v":""},{"$f":"IF('Rank Wkst'!BG26=0, \"\", 'Rank Wkst'!BY26)","v":""},null,null,{"$f":"IF(E30=\"\",\" \",'Rank Wkst'!EK26)","v":" "}]
[{"$f":"IF('Rank Wkst'!BG27=0, \"\", 'Rank Wkst'!BX27)","v":""},{"$f":"IF('Rank Wkst'!BG27=0, \"\", 'Rank Wkst'!BY27)","v":""},{"$f":"IF('Rank Wkst'!BG27=0, \"\", 'Rank Wkst'!BZ27)","v":""},null,{"$f":"IF('Rank Wkst'!BG27=0, \"\", 'Rank Wkst'!CA27)","v":""},{"$f":"IF('Rank Wkst'!BG27=0, \"\", 'Rank Wkst'!CB27)","v":""},{"$f":"IF('Rank Wkst'!BG27=0, \"\", 'Rank Wkst'!CC27)","v":""},{"$f":"IF('Rank Wkst'!BG27=0, \"\", 'Rank Wkst'!CD27)","v":""},{"$f":"IF('Rank Wkst'!BG27=0, \"\", 'Rank Wkst'!CE27)","v":""},{"$f":"IF('Rank Wkst'!BG27=0, \"\", 'Rank Wkst'!CF27)","v":""},{"$f":"IF('Rank Wkst'!BG27=0, \"\", 'Rank Wkst'!CG27)","v":""},{"$f":"IF('Rank Wkst'!BG27=0, \"\", 'Rank Wkst'!CH27)","v":""},{"$f":"IF('Rank Wkst'!BG27=0, \"\", 'Rank Wkst'!CI27)","v":""},{"$f":"IF('Rank Wkst'!BG27=0, \"\", 'Rank Wkst'!CJ27)","v":""},{"$f":"IF('Rank Wkst'!BG27=0, \"\", 'Rank Wkst'!CK27)","v":""},{"$f":"IF('Rank Wkst'!BG27=0, \"\", 'Rank Wkst'!CL27)","v":""},{"$f":"IF('Rank Wkst'!BG27=0, \"\", 'Rank Wkst'!CM27)","v":""},"/",{"$f":"IF('Rank Wkst'!BG27=0, \"\", 'Rank Wkst'!CN27)","v":""},{"$f":"IF('Rank Wkst'!BG27=0, \"\", 'Rank Wkst'!CO27)","v":""},{"$f":"IF('Rank Wkst'!BG27=0, \"\", 'Rank Wkst'!BX27)","v":""},{"$f":"IF('Rank Wkst'!BG27=0, \"\", 'Rank Wkst'!BY27)","v":""},null,null,{"$f":"IF(E31=\"\",\" \",'Rank Wkst'!EK27)","v":" "}]
[{"$f":"IF('Rank Wkst'!BG28=0, \"\", 'Rank Wkst'!BX28)","v":""},{"$f":"IF('Rank Wkst'!BG28=0, \"\", 'Rank Wkst'!BY28)","v":""},{"$f":"IF('Rank Wkst'!BG28=0, \"\", 'Rank Wkst'!BZ28)","v":""},null,{"$f":"IF('Rank Wkst'!BG28=0, \"\", 'Rank Wkst'!CA28)","v":""},{"$f":"IF('Rank Wkst'!BG28=0, \"\", 'Rank Wkst'!CB28)","v":""},{"$f":"IF('Rank Wkst'!BG28=0, \"\", 'Rank Wkst'!CC28)","v":""},{"$f":"IF('Rank Wkst'!BG28=0, \"\", 'Rank Wkst'!CD28)","v":""},{"$f":"IF('Rank Wkst'!BG28=0, \"\", 'Rank Wkst'!CE28)","v":""},{"$f":"IF('Rank Wkst'!BG28=0, \"\", 'Rank Wkst'!CF28)","v":""},{"$f":"IF('Rank Wkst'!BG28=0, \"\", 'Rank Wkst'!CG28)","v":""},{"$f":"IF('Rank Wkst'!BG28=0, \"\", 'Rank Wkst'!CH28)","v":""},{"$f":"IF('Rank Wkst'!BG28=0, \"\", 'Rank Wkst'!CI28)","v":""},{"$f":"IF('Rank Wkst'!BG28=0, \"\", 'Rank Wkst'!CJ28)","v":""},{"$f":"IF('Rank Wkst'!BG28=0, \"\", 'Rank Wkst'!CK28)","v":""},{"$f":"IF('Rank Wkst'!BG28=0, \"\", 'Rank Wkst'!CL28)","v":""},{"$f":"IF('Rank Wkst'!BG28=0, \"\", 'Rank Wkst'!CM28)","v":""},"/",{"$f":"IF('Rank Wkst'!BG28=0, \"\", 'Rank Wkst'!CN28)","v":""},{"$f":"IF('Rank Wkst'!BG28=0, \"\", 'Rank Wkst'!CO28)","v":""},{"$f":"IF('Rank Wkst'!BG28=0, \"\", 'Rank Wkst'!BX28)","v":""},{"$f":"IF('Rank Wkst'!BG28=0, \"\", 'Rank Wkst'!BY28)","v":""},null,null,{"$f":"IF(E32=\"\",\" \",'Rank Wkst'!EK28)","v":" "}]
[{"$f":"IF('Rank Wkst'!BG29=0, \"\", 'Rank Wkst'!BX29)","v":""},{"$f":"IF('Rank Wkst'!BG29=0, \"\", 'Rank Wkst'!BY29)","v":""},{"$f":"IF('Rank Wkst'!BG29=0, \"\", 'Rank Wkst'!BZ29)","v":""},null,{"$f":"IF('Rank Wkst'!BG29=0, \"\", 'Rank Wkst'!CA29)","v":""},{"$f":"IF('Rank Wkst'!BG29=0, \"\", 'Rank Wkst'!CB29)","v":""},{"$f":"IF('Rank Wkst'!BG29=0, \"\", 'Rank Wkst'!CC29)","v":""},{"$f":"IF('Rank Wkst'!BG29=0, \"\", 'Rank Wkst'!CD29)","v":""},{"$f":"IF('Rank Wkst'!BG29=0, \"\", 'Rank Wkst'!CE29)","v":""},{"$f":"IF('Rank Wkst'!BG29=0, \"\", 'Rank Wkst'!CF29)","v":""},{"$f":"IF('Rank Wkst'!BG29=0, \"\", 'Rank Wkst'!CG29)","v":""},{"$f":"IF('Rank Wkst'!BG29=0, \"\", 'Rank Wkst'!CH29)","v":""},{"$f":"IF('Rank Wkst'!BG29=0, \"\", 'Rank Wkst'!CI29)","v":""},{"$f":"IF('Rank Wkst'!BG29=0, \"\", 'Rank Wkst'!CJ29)","v":""},{"$f":"IF('Rank Wkst'!BG29=0, \"\", 'Rank Wkst'!CK29)","v":""},{"$f":"IF('Rank Wkst'!BG29=0, \"\", 'Rank Wkst'!CL29)","v":""},{"$f":"IF('Rank Wkst'!BG29=0, \"\", 'Rank Wkst'!CM29)","v":""},"/",{"$f":"IF('Rank Wkst'!BG29=0, \"\", 'Rank Wkst'!CN29)","v":""},{"$f":"IF('Rank Wkst'!BG29=0, \"\", 'Rank Wkst'!CO29)","v":""},{"$f":"IF('Rank Wkst'!BG29=0, \"\", 'Rank Wkst'!BX29)","v":""},{"$f":"IF('Rank Wkst'!BG29=0, \"\", 'Rank Wkst'!BY29)","v":""},null,null,{"$f":"IF(E33=\"\",\" \",'Rank Wkst'!EK29)","v":" "}]
[{"$f":"IF('Rank Wkst'!BG30=0, \"\", 'Rank Wkst'!BX30)","v":""},{"$f":"IF('Rank Wkst'!BG30=0, \"\", 'Rank Wkst'!BY30)","v":""},{"$f":"IF('Rank Wkst'!BG30=0, \"\", 'Rank Wkst'!BZ30)","v":""},null,{"$f":"IF('Rank Wkst'!BG30=0, \"\", 'Rank Wkst'!CA30)","v":""},{"$f":"IF('Rank Wkst'!BG30=0, \"\", 'Rank Wkst'!CB30)","v":""},{"$f":"IF('Rank Wkst'!BG30=0, \"\", 'Rank Wkst'!CC30)","v":""},{"$f":"IF('Rank Wkst'!BG30=0, \"\", 'Rank Wkst'!CD30)","v":""},{"$f":"IF('Rank Wkst'!BG30=0, \"\", 'Rank Wkst'!CE30)","v":""},{"$f":"IF('Rank Wkst'!BG30=0, \"\", 'Rank Wkst'!CF30)","v":""},{"$f":"IF('Rank Wkst'!BG30=0, \"\", 'Rank Wkst'!CG30)","v":""},{"$f":"IF('Rank Wkst'!BG30=0, \"\", 'Rank Wkst'!CH30)","v":""},{"$f":"IF('Rank Wkst'!BG30=0, \"\", 'Rank Wkst'!CI30)","v":""},{"$f":"IF('Rank Wkst'!BG30=0, \"\", 'Rank Wkst'!CJ30)","v":""},{"$f":"IF('Rank Wkst'!BG30=0, \"\", 'Rank Wkst'!CK30)","v":""},{"$f":"IF('Rank Wkst'!BG30=0, \"\", 'Rank Wkst'!CL30)","v":""},{"$f":"IF('Rank Wkst'!BG30=0, \"\", 'Rank Wkst'!CM30)","v":""},"/",{"$f":"IF('Rank Wkst'!BG30=0, \"\", 'Rank Wkst'!CN30)","v":""},{"$f":"IF('Rank Wkst'!BG30=0, \"\", 'Rank Wkst'!CO30)","v":""},{"$f":"IF('Rank Wkst'!BG30=0, \"\", 'Rank Wkst'!BX30)","v":""},{"$f":"IF('Rank Wkst'!BG30=0, \"\", 'Rank Wkst'!BY30)","v":""},null,null,{"$f":"IF(E34=\"\",\" \",'Rank Wkst'!EK30)","v":" "}]
[{"$f":"IF('Rank Wkst'!BG31=0, \"\", 'Rank Wkst'!BX31)","v":""},{"$f":"IF('Rank Wkst'!BG31=0, \"\", 'Rank Wkst'!BY31)","v":""},{"$f":"IF('Rank Wkst'!BG31=0, \"\", 'Rank Wkst'!BZ31)","v":""},null,{"$f":"IF('Rank Wkst'!BG31=0, \"\", 'Rank Wkst'!CA31)","v":""},{"$f":"IF('Rank Wkst'!BG31=0, \"\", 'Rank Wkst'!CB31)","v":""},{"$f":"IF('Rank Wkst'!BG31=0, \"\", 'Rank Wkst'!CC31)","v":""},{"$f":"IF('Rank Wkst'!BG31=0, \"\", 'Rank Wkst'!CD31)","v":""},{"$f":"IF('Rank Wkst'!BG31=0, \"\", 'Rank Wkst'!CE31)","v":""},{"$f":"IF('Rank Wkst'!BG31=0, \"\", 'Rank Wkst'!CF31)","v":""},{"$f":"IF('Rank Wkst'!BG31=0, \"\", 'Rank Wkst'!CG31)","v":""},{"$f":"IF('Rank Wkst'!BG31=0, \"\", 'Rank Wkst'!CH31)","v":""},{"$f":"IF('Rank Wkst'!BG31=0, \"\", 'Rank Wkst'!CI31)","v":""},{"$f":"IF('Rank Wkst'!BG31=0, \"\", 'Rank Wkst'!CJ31)","v":""},{"$f":"IF('Rank Wkst'!BG31=0, \"\", 'Rank Wkst'!CK31)","v":""},{"$f":"IF('Rank Wkst'!BG31=0, \"\", 'Rank Wkst'!CL31)","v":""},{"$f":"IF('Rank Wkst'!BG31=0, \"\", 'Rank Wkst'!CM31)","v":""},"/",{"$f":"IF('Rank Wkst'!BG31=0, \"\", 'Rank Wkst'!CN31)","v":""},{"$f":"IF('Rank Wkst'!BG31=0, \"\", 'Rank Wkst'!CO31)","v":""},{"$f":"IF('Rank Wkst'!BG31=0, \"\", 'Rank Wkst'!BX31)","v":""},{"$f":"IF('Rank Wkst'!BG31=0, \"\", 'Rank Wkst'!BY31)","v":""},null,null,{"$f":"IF(E35=\"\",\" \",'Rank Wkst'!EK31)","v":" "}]

{"sheet":"Team1","index":5,"n_rows":31,"n_cols":13,"rows_kept":31,"cut":false,"hidden":false,"merged":[[16,1,16,2],[0,0,0,12],[1,0,1,12],[3,2,3,6],[4,2,4,6],[6,7,7,7],[6,8,7,9],[3,10,3,12],[4,10,4,12],[6,11,7,12],[6,10,7,10],[10,0,11,0],[10,1,10,2],[11,1,11,2],[12,0,14,0],[8,0,9,0],[8,1,8,2],[9,1,9,2],[7,0,7,2],[17,1,17,2],[19,1,19,2],[4,7,4,9],[3,7,3,9],[12,1,12,2],[13,1,13,2],[14,1,14,2],[6,0,6,2],[15,0,16,0],[15,1,15,2],[20,1,20,2],[22,4,22,6],[23,4,23,6],[24,4,24,6],[22,7,22,8],[23,7,23,8],[24,7,24,8]]}
["Minnesota State High School League Dance Team Competition"]
["High Kick Judges Recap Sheet"]
[]
[null,"School:",{"$f":"IF('Ranking Sheet'!B12=0, \"\", 'Ranking Sheet'!B12)","v":""},null,null,null,null,"Class:",null,null,{"$f":"IF(Class=0, \"\", Class)","v":""}]
[null,"Meet Site:",{"$f":"IF(Site=0, \"\", Site)","v":""},null,null,null,null,"Meet Date:",null,null,{"$f":"IF(DATE=0, \"\", DATE)","v":""}]
[]
["Judge's Initials → ",null,null,{"$f":"IF('Ranking Sheet'!E10=0, \"\", 'Ranking Sheet'!E10)","v":""},{"$f":"IF('Ranking Sheet'!G10=0, \"\", 'Ranking Sheet'!G10)","v":""},{"$f":"IF('Ranking Sheet'!I10=0, \"\", 'Ranking Sheet'!I10)","v":""},{"$f":"IF('Ranking Sheet'!K10=0, \"\", 'Ranking Sheet'!K10)","v":""},"Category Total Points","Total Points Possible",null,"Subtotal Points","Subtotal Points Possible"]
["Category",null,null,1,2,3,4]
["KICKS","Technique of Kicks",null,null,null,null,null,{"$f":"IF(D9=0, \"\", SUM(D9:G9))","v":""},"/",{"$f":"IF(D9=\"\", \"\", IF(G9<>0, 40, IF(F9<>0, 30, 20)))","v":""}]
[null,"Kick Height",null,null,null,null,null,"","/","",{"$f":"IF(D9=0, \"\", SUM(D9:G10))","v":""},"/",{"$f":"IF(D9=\"\", \"\", IF(G9<>0, 80, IF(F9<>0, 60, 40)))","v":""}]
["CHOREOGRAPHY","Creativity",null,null,null,null,null,"","/",""]
[null,"Visual Effectiveness",null,null,null,null,null,"","/","",{"$f":"IF(D11=0, \"\", SUM(D11:G12))","v":""},"/",{"$f":"IF(D11=\"\", \"\", IF(G11<>0, 80, IF(F11<>0, 60, 40)))","v":""}]
["DIFFICULTY","Diffuculty of Routine Choreography",null,null,null,null,null,"","/",""]
[null,"Difficulty of Formations and Transitions",null,null,null,null,null,"","/",""]
[null,"Difficulty of Kicks",null,null,null,null,null,"","/","",{"$f":"IF(D13=0, \"\", SUM(D13:G15))","v":""},"/",{"$f":"IF(D13=\"\", \"\", IF(G13<>0, 120, IF(F13<>0, 90, 60)))","v":""}]
["EXECUTION","Placement & Control",null,null,null,null,null,"","/",""]
[null,"Degree of Accuracy",null,null,null,null,null,"","/","",{"$f":"IF(D16=0, \"\", SUM(D16:G17))","v":""},"/",{"$f":"IF(D17=\"\", \"\", IF(G17<>0, 80, IF(F17<>0, 60, 40)))","v":""}]
["R.E.","Routine Effectiveness",null,null,null,null,null,"","/","",{"$f":"IF(D18=0, \"\", SUM(D18:G18))","v":""},"/",{"$f":"IF(D18=\"\", \"\", IF(G18<>0, 40, IF(F18<>0, 30, 20)))","v":""}]
[null,"SUB TOTALS",null,{"$f":"D9+D10+D11+D12+D13+D14+D15+D16+D17+D18","v":0},{"$f":"E9+E10+E11+E12+E13+E14+E15+E16+E17+E18","v":0},{"$f":"F9+F10+F11+F12+F13+F14+F15+F16+F17+F18","v":0},{"$f":"G9+G10+G11+G12+G13+G14+G15+G16+G17+G18","v":0},{"$f":"IF(D9=0, \"\", SUM(D19:G19))","v":""},"/",{"$f":"IF(D9=\"\", \"\", SUM(J9:J18))","v":""},{"$f":"IF(D9=0, \"\", SUM(K9:K18))","v":""},"/",{"$f":"IF(D9=\"\", \"\", SUM(M9:M18))","v":""}]
[null,"DEDUCTIONS \nEnter as a negative number i.e. -3 or DQ",null,null,null,null,null,{"$f":"IF(D20=\"\", \"\", IF(D20=\"DQ\",\"DQ\",SUM(D20:G20)))","v":""},null,null,{"$f":"IF(D20=\"\", \"\", IF(D20=\"DQ\",\"DQ\",SUM(D20:G20)))","v":""}]
[null,"TOTALS",null,{"$f":"IF(D20=\"DQ\", \"DQ\",SUM(D19+D20))","v":0},{"$f":"IF(E20=\"DQ\", \"DQ\",SUM(E19+E20))","v":0},{"$f":"IF(F20=\"DQ\", \"DQ\",SUM(F19+F20))","v":0},{"$f":"IF(G20=\"DQ\", \"DQ\",SUM(G19+G20))","v":0},{"$f":"IF(D9=0, \"\", IF(D20=\"DQ\",\"DQ\",SUM(D21:G21)))","v":""},"/",{"$f":"IF(D9=\"\", \"\", SUM(J9:J18))","v":""},{"$f":"IF(D9=0, \"\", IF(D20=\"DQ\",\"DQ\",SUM(K19:K20)))","v":""},"/",{"$f":"IF(D9=\"\", \"\", SUM(M9:M18))","v":""}]
[]
[null,"KC/T #1","Time:",null,"Kick Count:",null,null,null,null,null,null,"# Comp:"]
[null,"KC/T #2","Time:",null,"Kick Count:",null,null,null,null,null,null,"# Comp:"]
[null,"KC/T #3","Time:",null,"Kick Count:",null,null,null,null,null,null,"# Comp:"]
[]
[]
[]
[]
[]
[null,null,null,null," "]

{"sheet":"Team2","index":6,"n_rows":25,"n_cols":13,"rows_kept":25,"cut":false,"hidden":false,"merged":[[4,2,4,6],[4,7,4,9],[4,10,4,12],[0,0,0,12],[1,0,1,12],[3,2,3,6],[3,7,3,9],[3,10,3,12],[6,0,6,2],[6,7,7,7],[6,8,7,9],[6,10,7,10],[6,11,7,12],[7,0,7,2],[8,0,9,0],[8,1,8,2],[9,1,9,2],[10,0,11,0],[10,1,10,2],[11,1,11,2],[17,1,17,2],[19,1,19,2],[20,1,20,2],[12,0,14,0],[12,1,12,2],[13,1,13,2],[14,1,14,2],[15,0,16,0],[15,1,15,2],[16,1,16,2],[22,4,22,6],[22,7,22,8],[23,4,23,6],[23,7,23,8],[24,4,24,6],[24,7,24,8]]}
["Minnesota State High School League Dance Team Competition"]
["High Kick Judges Recap Sheet"]
[]
[null,"School:",{"$f":"IF('Ranking Sheet'!B13=0, \"\", 'Ranking Sheet'!B13)","v":""},null,null,null,null,"Class:",null,null,{"$f":"IF(Class=0, \"\", Class)","v":""}]
[null,"Meet Site:",{"$f":"IF(Site=0, \"\", Site)","v":""},null,null,null,null,"Meet Date:",null,null,{"$f":"IF(DATE=0, \"\", DATE)","v":""}]
[]
["Judge's Initials → ",null,null,{"$f":"IF('Ranking Sheet'!E10=0, \"\", 'Ranking Sheet'!E10)","v":""},{"$f":"IF('Ranking Sheet'!G10=0, \"\", 'Ranking Sheet'!G10)","v":""},{"$f":"IF('Ranking Sheet'!I10=0, \"\", 'Ranking Sheet'!I10)","v":""},{"$f":"IF('Ranking Sheet'!K10=0, \"\", 'Ranking Sheet'!K10)","v":""},"Category Total Points","Total Points Possible",null,"Subtotal Points","Subtotal Points Possible"]
["Category",null,null,1,2,3,4]
["KICKS","Technique of Kicks",null,null,null,null,null,{"$f":"IF(D9=0, \"\", SUM(D9:G9))","v":""},"/",{"$f":"IF(D9=\"\", \"\", IF(G9<>0, 40, IF(F9<>0, 30, 20)))","v":""}]
[null,"Kick Height",null,null,null,null,null,{"$f":"IF(D10=0, \"\", SUM(D10:G10))","v":""},"/","",{"$f":"IF(D9=0, \"\", SUM(D9:G10))","v":""},"/",{"$f":"IF(D9=\"\", \"\", IF(G9<>0, 80, IF(F9<>0, 60, 40)))","v":""}]
["CHOREOGRAPHY","Creativity",null,null,null,null,null,{"$f":"IF(D11=0, \"\", SUM(D11:G11))","v":""},"/",""]
[null,"Visual Effectiveness",null,null,null,null,null,{"$f":"IF(D12=0, \"\", SUM(D12:G12))","v":""},"/","",{"$f":"IF(D11=0, \"\", SUM(D11:G12))","v":""},"/",{"$f":"IF(D11=\"\", \"\", IF(G11<>0, 80, IF(F11<>0, 60, 40)))","v":""}]
["DIFFICULTY","Diffuculty of Routine Choreography",null,null,null,null,null,{"$f":"IF(D13=0, \"\", SUM(D13:G13))","v":""},"/",""]
[null,"Difficulty of Formations and Transitions",null,null,null,null,null,{"$f":"IF(D14=0, \"\", SUM(D14:G14))","v":""},"/",""]
[null,"Difficulty of Kicks",null,null,null,null,null,{"$f":"IF(D15=0, \"\", SUM(D15:G15))","v":""},"/","",{"$f":"IF(D13=0, \"\", SUM(D13:G15))","v":""},"/",{"$f":"IF(D13=\"\", \"\", IF(G13<>0, 120, IF(F13<>0, 90, 60)))","v":""}]
["EXECUTION","Placement & Control",null,null,null,null,null,"","/",""]
[null,"Degree of Accuracy",null,null,null,null,null,"","/","",{"$f":"IF(D16=0, \"\", SUM(D16:G17))","v":""},"/",{"$f":"IF(D17=\"\", \"\", IF(G17<>0, 80, IF(F17<>0, 60, 40)))","v":""}]
["R.E.","Routine Effectiveness",null,null,null,null,null,"","/","",{"$f":"IF(D18=0, \"\", SUM(D18:G18))","v":""},"/",{"$f":"IF(D18=\"\", \"\", IF(G18<>0, 40, IF(F18<>0, 30, 20)))","v":""}]
[null,"SUB TOTALS",null,{"$f":"D9+D10+D11+D12+D13+D14+D15+D16+D17+D18","v":0},{"$f":"E9+E10+E11+E12+E13+E14+E15+E16+E17+E18","v":0},{"$f":"F9+F10+F11+F12+F13+F14+F15+F16+F17+F18","v":0},{"$f":"G9+G10+G11+G12+G13+G14+G15+G16+G17+G18","v":0},{"$f":"IF(D9=0, \"\", SUM(D19:G19))","v":""},"/",{"$f":"IF(D9=\"\", \"\", SUM(J9:J18))","v":""},{"$f":"IF(D9=0, \"\", SUM(K9:K18))","v":""},"/",{"$f":"IF(D9=\"\", \"\", SUM(M9:M18))","v":""}]
[null,"DEDUCTIONS \nEnter as a negative number i.e. -3 or DQ",null,null,null,null,null,{"$f":"IF(D20=\"\", \"\", IF(D20=\"DQ\",\"DQ\",SUM(D20:G20)))","v":""},null,null,{"$f":"IF(D20=\"\", \"\", IF(D20=\"DQ\",\"DQ\",SUM(D20:G20)))","v":""}]
[null,"TOTALS",null,{"$f":"IF(D20=\"DQ\", \"DQ\",SUM(D19+D20))","v":0},{"$f":"IF(E20=\"DQ\", \"DQ\",SUM(E19+E20))","v":0},{"$f":"IF(F20=\"DQ\", \"DQ\",SUM(F19+F20))","v":0},{"$f":"IF(G20=\"DQ\", \"DQ\",SUM(G19+G20))","v":0},{"$f":"IF(D9=0, \"\", IF(D20=\"DQ\",\"DQ\",SUM(D21:G21)))","v":""},"/",{"$f":"IF(D9=\"\", \"\", SUM(J9:J18))","v":""},{"$f":"IF(D9=0, \"\", IF(D20=\"DQ\",\"DQ\",SUM(K19:K20)))","v":""},"/",{"$f":"IF(D9=\"\", \"\", SUM(M9:M18))","v":""}]
[]
[null,"KC/T #1","Time:",null,"Kick Count:",null,null,null,null,null,null,"# Comp:"]
[null,"KC/T #2","Time:",null,"Kick Count:",null,null,null,null,null,null,"# Comp:"]
[null,"KC/T #3","Time:",null,"Kick Count:",null,null,null,null,null,null,"# Comp:"]

{"sheet":"Team3","index":7,"n_rows":25,"n_cols":13,"rows_kept":25,"cut":false,"hidden":false,"merged":[[0,0,0,12],[1,0,1,12],[3,2,3,6],[3,7,3,9],[3,10,3,12],[15,0,16,0],[15,1,15,2],[16,1,16,2],[6,8,7,9],[8,0,9,0],[4,10,4,12],[6,10,7,10],[6,11,7,12],[7,0,7,2],[20,1,20,2],[13,1,13,2],[14,1,14,2],[6,7,7,7],[12,1,12,2],[17,1,17,2],[12,0,14,0],[6,0,6,2],[22,4,22,6],[22,7,22,8],[4,2,4,6],[4,7,4,9],[19,1,19,2],[8,1,8,2],[9,1,9,2],[10,0,11,0],[23,4,23,6],[23,7,23,8],[24,4,24,6],[24,7,24,8],[10,1,10,2],[11,1,11,2]]}
["Minnesota State High School League Dance Team Competition"]
["High Kick Judges Recap Sheet"]
[]
[null,"School:",{"$f":"IF('Ranking Sheet'!B14=0, \"\", 'Ranking Sheet'!B14)","v":""},null,null,null,null,"Class:",null,null,{"$f":"IF(Class=0, \"\", Class)","v":""}]
[null,"Meet Site:",{"$f":"IF(Site=0, \"\", Site)","v":""},null,null,null,null,"Meet Date:",null,null,{"$f":"IF(DATE=0, \"\", DATE)","v":""}]
[]
["Judge's Initials → ",null,null,{"$f":"IF('Ranking Sheet'!E10=0, \"\", 'Ranking Sheet'!E10)","v":""},{"$f":"IF('Ranking Sheet'!G10=0, \"\", 'Ranking Sheet'!G10)","v":""},{"$f":"IF('Ranking Sheet'!I10=0, \"\", 'Ranking Sheet'!I10)","v":""},{"$f":"IF('Ranking Sheet'!K10=0, \"\", 'Ranking Sheet'!K10)","v":""},"Category Total Points","Total Points Possible",null,"Subtotal Points","Subtotal Points Possible"]
["Category",null,null,1,2,3,4]
["KICKS","Technique of Kicks",null,null,null,null,null,{"$f":"IF(D9=0, \"\", SUM(D9:G9))","v":""},"/",{"$f":"IF(D9=\"\", \"\", IF(G9<>0, 40, IF(F9<>0, 30, 20)))","v":""}]
[null,"Kick Height",null,null,null,null,null,{"$f":"IF(D10=0, \"\", SUM(D10:G10))","v":""},"/","",{"$f":"IF(D9=0, \"\", SUM(D9:G10))","v":""},"/",{"$f":"IF(D9=\"\", \"\", IF(G9<>0, 80, IF(F9<>0, 60, 40)))","v":""}]
["CHOREOGRAPHY","Creativity",null,null,null,null,null,{"$f":"IF(D11=0, \"\", SUM(D11:G11))","v":""},"/",""]
[null,"Visual Effectiveness",null,null,null,null,null,{"$f":"IF(D12=0, \"\", SUM(D12:G12))","v":""},"/","",{"$f":"IF(D11=0, \"\", SUM(D11:G12))","v":""},"/",{"$f":"IF(D11=\"\", \"\", IF(G11<>0, 80, IF(F11<>0, 60, 40)))","v":""}]
["DIFFICULTY","Diffuculty of Routine Choreography",null,null,null,null,null,{"$f":"IF(D13=0, \"\", SUM(D13:G13))","v":""},"/",""]
[null,"Difficulty of Formations and Transitions",null,null,null,null,null,{"$f":"IF(D14=0, \"\", SUM(D14:G14))","v":""},"/",""]
[null,"Difficulty of Kicks",null,null,null,null,null,{"$f":"IF(D15=0, \"\", SUM(D15:G15))","v":""},"/","",{"$f":"IF(D13=0, \"\", SUM(D13:G15))","v":""},"/",{"$f":"IF(D13=\"\", \"\", IF(G13<>0, 120, IF(F13<>0, 90, 60)))","v":""}]
["EXECUTION","Placement & Control",null,null,null,null,null,"","/",""]
[null,"Degree of Accuracy",null,null,null,null,null,"","/","",{"$f":"IF(D16=0, \"\", SUM(D16:G17))","v":""},"/",{"$f":"IF(D17=\"\", \"\", IF(G17<>0, 80, IF(F17<>0, 60, 40)))","v":""}]
["R.E.","Routine Effectiveness",null,null,null,null,null,"","/","",{"$f":"IF(D18=0, \"\", SUM(D18:G18))","v":""},"/",{"$f":"IF(D18=\"\", \"\", IF(G18<>0, 40, IF(F18<>0, 30, 20)))","v":""}]
[null,"SUB TOTALS",null,{"$f":"D9+D10+D11+D12+D13+D14+D15+D16+D17+D18","v":0},{"$f":"E9+E10+E11+E12+E13+E14+E15+E16+E17+E18","v":0},{"$f":"F9+F10+F11+F12+F13+F14+F15+F16+F17+F18","v":0},{"$f":"G9+G10+G11+G12+G13+G14+G15+G16+G17+G18","v":0},{"$f":"IF(D9=0, \"\", SUM(D19:G19))","v":""},"/",{"$f":"IF(D9=\"\", \"\", SUM(J9:J18))","v":""},{"$f":"IF(D9=0, \"\", SUM(K9:K18))","v":""},"/",{"$f":"IF(D9=\"\", \"\", SUM(M9:M18))","v":""}]
[null,"DEDUCTIONS \nEnter as a negative number i.e. -3 or DQ",null,null,null,null,null,{"$f":"IF(D20=\"\", \"\", IF(D20=\"DQ\",\"DQ\",SUM(D20:G20)))","v":""},null,null,{"$f":"IF(D20=\"\", \"\", IF(D20=\"DQ\",\"DQ\",SUM(D20:G20)))","v":""}]
[null,"TOTALS",null,{"$f":"IF(D20=\"DQ\", \"DQ\",SUM(D19+D20))","v":0},{"$f":"IF(E20=\"DQ\", \"DQ\",SUM(E19+E20))","v":0},{"$f":"IF(F20=\"DQ\", \"DQ\",SUM(F19+F20))","v":0},{"$f":"IF(G20=\"DQ\", \"DQ\",SUM(G19+G20))","v":0},{"$f":"IF(D9=0, \"\", IF(D20=\"DQ\",\"DQ\",SUM(D21:G21)))","v":""},"/",{"$f":"IF(D9=\"\", \"\", SUM(J9:J18))","v":""},{"$f":"IF(D9=0, \"\", IF(D20=\"DQ\",\"DQ\",SUM(K19:K20)))","v":""},"/",{"$f":"IF(D9=\"\", \"\", SUM(M9:M18))","v":""}]
[]
[null,"KC/T #1","Time:",null,"Kick Count:",null,null,null,null,null,null,"# Comp:"]
[null,"KC/T #2","Time:",null,"Kick Count:",null,null,null,null,null,null,"# Comp:"]
[null,"KC/T #3","Time:",null,"Kick Count:",null,null,null,null,null,null,"# Comp:"]

{"sheet":"Team4","index":8,"n_rows":25,"n_cols":13,"rows_kept":25,"cut":false,"hidden":false,"merged":[[0,0,0,12],[1,0,1,12],[3,2,3,6],[3,7,3,9],[3,10,3,12],[15,0,16,0],[15,1,15,2],[16,1,16,2],[6,8,7,9],[8,0,9,0],[4,10,4,12],[6,10,7,10],[6,11,7,12],[7,0,7,2],[20,1,20,2],[13,1,13,2],[14,1,14,2],[6,7,7,7],[12,1,12,2],[17,1,17,2],[12,0,14,0],[6,0,6,2],[22,4,22,6],[22,7,22,8],[4,2,4,6],[4,7,4,9],[19,1,19,2],[8,1,8,2],[9,1,9,2],[10,0,11,0],[23,4,23,6],[23,7,23,8],[24,4,24,6],[24,7,24,8],[10,1,10,2],[11,1,11,2]]}
["Minnesota State High School League Dance Team Competition"]
["High Kick Judges Recap Sheet"]
[]
[null,"School:",{"$f":"IF('Ranking Sheet'!B15=0, \"\", 'Ranking Sheet'!B15)","v":""},null,null,null,null,"Class:",null,null,{"$f":"IF(Class=0, \"\", Class)","v":""}]
[null,"Meet Site:",{"$f":"IF(Site=0, \"\", Site)","v":""},null,null,null,null,"Meet Date:",null,null,{"$f":"IF(DATE=0, \"\", DATE)","v":""}]
[]
["Judge's Initials → ",null,null,{"$f":"IF('Ranking Sheet'!E10=0, \"\", 'Ranking Sheet'!E10)","v":""},{"$f":"IF('Ranking Sheet'!G10=0, \"\", 'Ranking Sheet'!G10)","v":""},{"$f":"IF('Ranking Sheet'!I10=0, \"\", 'Ranking Sheet'!I10)","v":""},{"$f":"IF('Ranking Sheet'!K10=0, \"\", 'Ranking Sheet'!K10)","v":""},"Category Total Points","Total Points Possible",null,"Subtotal Points","Subtotal Points Possible"]
["Category",null,null,1,2,3,4]
["KICKS","Technique of Kicks",null,null,null,null,null,{"$f":"IF(D9=0, \"\", SUM(D9:G9))","v":""},"/",{"$f":"IF(D9=\"\", \"\", IF(G9<>0, 40, IF(F9<>0, 30, 20)))","v":""}]
[null,"Kick Height",null,null,null,null,null,{"$f":"IF(D10=0, \"\", SUM(D10:G10))","v":""},"/","",{"$f":"IF(D9=0, \"\", SUM(D9:G10))","v":""},"/",{"$f":"IF(D9=\"\", \"\", IF(G9<>0, 80, IF(F9<>0, 60, 40)))","v":""}]
["CHOREOGRAPHY","Creativity",null,null,null,null,null,{"$f":"IF(D11=0, \"\", SUM(D11:G11))","v":""},"/",""]
[null,"Visual Effectiveness",null,null,null,null,null,{"$f":"IF(D12=0, \"\", SUM(D12:G12))","v":""},"/","",{"$f":"IF(D11=0, \"\", SUM(D11:G12))","v":""},"/",{"$f":"IF(D11=\"\", \"\", IF(G11<>0, 80, IF(F11<>0, 60, 40)))","v":""}]
["DIFFICULTY","Diffuculty of Routine Choreography",null,null,null,null,null,{"$f":"IF(D13=0, \"\", SUM(D13:G13))","v":""},"/",""]
[null,"Difficulty of Formations and Transitions",null,null,null,null,null,{"$f":"IF(D14=0, \"\", SUM(D14:G14))","v":""},"/",""]
[null,"Difficulty of Kicks",null,null,null,null,null,{"$f":"IF(D15=0, \"\", SUM(D15:G15))","v":""},"/","",{"$f":"IF(D13=0, \"\", SUM(D13:G15))","v":""},"/",{"$f":"IF(D13=\"\", \"\", IF(G13<>0, 120, IF(F13<>0, 90, 60)))","v":""}]
["EXECUTION","Placement & Control",null,null,null,null,null,"","/",""]
[null,"Degree of Accuracy",null,null,null,null,null,"","/","",{"$f":"IF(D16=0, \"\", SUM(D16:G17))","v":""},"/",{"$f":"IF(D17=\"\", \"\", IF(G17<>0, 80, IF(F17<>0, 60, 40)))","v":""}]
["R.E.","Routine Effectiveness",null,null,null,null,null,"","/","",{"$f":"IF(D18=0, \"\", SUM(D18:G18))","v":""},"/",{"$f":"IF(D18=\"\", \"\", IF(G18<>0, 40, IF(F18<>0, 30, 20)))","v":""}]
[null,"SUB TOTALS",null,{"$f":"D9+D10+D11+D12+D13+D14+D15+D16+D17+D18","v":0},{"$f":"E9+E10+E11+E12+E13+E14+E15+E16+E17+E18","v":0},{"$f":"F9+F10+F11+F12+F13+F14+F15+F16+F17+F18","v":0},{"$f":"G9+G10+G11+G12+G13+G14+G15+G16+G17+G18","v":0},{"$f":"IF(D9=0, \"\", SUM(D19:G19))","v":""},"/",{"$f":"IF(D9=\"\", \"\", SUM(J9:J18))","v":""},{"$f":"IF(D9=0, \"\", SUM(K9:K18))","v":""},"/",{"$f":"IF(D9=\"\", \"\", SUM(M9:M18))","v":""}]
[null,"DEDUCTIONS \nEnter as a negative number i.e. -3 or DQ",null,null,null,null,null,{"$f":"IF(D20=\"\", \"\", IF(D20=\"DQ\",\"DQ\",SUM(D20:G20)))","v":""},null,null,{"$f":"IF(D20=\"\", \"\", IF(D20=\"DQ\",\"DQ\",SUM(D20:G20)))","v":""}]
[null,"TOTALS",null,{"$f":"IF(D20=\"DQ\", \"DQ\",SUM(D19+D20))","v":0},{"$f":"IF(E20=\"DQ\", \"DQ\",SUM(E19+E20))","v":0},{"$f":"IF(F20=\"DQ\", \"DQ\",SUM(F19+F20))","v":0},{"$f":"IF(G20=\"DQ\", \"DQ\",SUM(G19+G20))","v":0},{"$f":"IF(D9=0, \"\", IF(D20=\"DQ\",\"DQ\",SUM(D21:G21)))","v":""},"/",{"$f":"IF(D9=\"\", \"\", SUM(J9:J18))","v":""},{"$f":"IF(D9=0, \"\", IF(D20=\"DQ\",\"DQ\",SUM(K19:K20)))","v":""},"/",{"$f":"IF(D9=\"\", \"\", SUM(M9:M18))","v":""}]
[]
[null,"KC/T #1","Time:",null,"Kick Count:",null,null,null,null,null,null,"# Comp:"]
[null,"KC/T #2","Time:",null,"Kick Count:",null,null,null,null,null,null,"# Comp:"]
[null,"KC/T #3","Time:",null,"Kick Count:",null,null,null,null,null,null,"# Comp:"]

{"sheet":"Team5","index":9,"n_rows":25,"n_cols":13,"rows_kept":25,"cut":false,"hidden":false,"merged":[[0,0,0,12],[1,0,1,12],[3,2,3,6],[3,7,3,9],[3,10,3,12],[15,0,16,0],[15,1,15,2],[16,1,16,2],[6,8,7,9],[8,0,9,0],[4,10,4,12],[6,10,7,10],[6,11,7,12],[7,0,7,2],[20,1,20,2],[13,1,13,2],[14,1,14,2],[6,7,7,7],[12,1,12,2],[17,1,17,2],[12,0,14,0],[6,0,6,2],[22,4,22,6],[22,7,22,8],[4,2,4,6],[4,7,4,9],[19,1,19,2],[8,1,8,2],[9,1,9,2],[10,0,11,0],[23,4,23,6],[23,7,23,8],[24,4,24,6],[24,7,24,8],[10,1,10,2],[11,1,11,2]]}
["Minnesota State High School League Dance Team Competition"]
["High Kick Judges Recap Sheet"]
[]
[null,"School:",{"$f":"IF('Ranking Sheet'!B16=0, \"\", 'Ranking Sheet'!B16)","v":""},null,null,null,null,"Class:",null,null,{"$f":"IF(Class=0, \"\", Class)","v":""}]
[null,"Meet Site:",{"$f":"IF(Site=0, \"\", Site)","v":""},null,null,null,null,"Meet Date:",null,null,{"$f":"IF(DATE=0, \"\", DATE)","v":""}]
[]
["Judge's Initials → ",null,null,{"$f":"IF('Ranking Sheet'!E10=0, \"\", 'Ranking Sheet'!E10)","v":""},{"$f":"IF('Ranking Sheet'!G10=0, \"\", 'Ranking Sheet'!G10)","v":""},{"$f":"IF('Ranking Sheet'!I10=0, \"\", 'Ranking Sheet'!I10)","v":""},{"$f":"IF('Ranking Sheet'!K10=0, \"\", 'Ranking Sheet'!K10)","v":""},"Category Total Points","Total Points Possible",null,"Subtotal Points","Subtotal Points Possible"]
["Category",null,null,1,2,3,4]
["KICKS","Technique of Kicks",null,null,null,null,null,{"$f":"IF(D9=0, \"\", SUM(D9:G9))","v":""},"/",{"$f":"IF(D9=\"\", \"\", IF(G9<>0, 40, IF(F9<>0, 30, 20)))","v":""}]
[null,"Kick Height",null,null,null,null,null,{"$f":"IF(D10=0, \"\", SUM(D10:G10))","v":""},"/","",{"$f":"IF(D9=0, \"\", SUM(D9:G10))","v":""},"/",{"$f":"IF(D9=\"\", \"\", IF(G9<>0, 80, IF(F9<>0, 60, 40)))","v":""}]
["CHOREOGRAPHY","Creativity",null,null,null,null,null,{"$f":"IF(D11=0, \"\", SUM(D11:G11))","v":""},"/",""]
[null,"Visual Effectiveness",null,null,null,null,null,{"$f":"IF(D12=0, \"\", SUM(D12:G12))","v":""},"/","",{"$f":"IF(D11=0, \"\", SUM(D11:G12))","v":""},"/",{"$f":"IF(D11=\"\", \"\", IF(G11<>0, 80, IF(F11<>0, 60, 40)))","v":""}]
["DIFFICULTY","Diffuculty of Routine Choreography",null,null,null,null,null,{"$f":"IF(D13=0, \"\", SUM(D13:G13))","v":""},"/",""]
[null,"Difficulty of Formations and Transitions",null,null,null,null,null,{"$f":"IF(D14=0, \"\", SUM(D14:G14))","v":""},"/",""]
[null,"Difficulty of Kicks",null,null,null,null,null,{"$f":"IF(D15=0, \"\", SUM(D15:G15))","v":""},"/","",{"$f":"IF(D13=0, \"\", SUM(D13:G15))","v":""},"/",{"$f":"IF(D13=\"\", \"\", IF(G13<>0, 120, IF(F13<>0, 90, 60)))","v":""}]
["EXECUTION","Placement & Control",null,null,null,null,null,"","/",""]
[null,"Degree of Accuracy",null,null,null,null,null,"","/","",{"$f":"IF(D16=0, \"\", SUM(D16:G17))","v":""},"/",{"$f":"IF(D17=\"\", \"\", IF(G17<>0, 80, IF(F17<>0, 60, 40)))","v":""}]
["R.E.","Routine Effectiveness",null,null,null,null,null,"","/","",{"$f":"IF(D18=0, \"\", SUM(D18:G18))","v":""},"/",{"$f":"IF(D18=\"\", \"\", IF(G18<>0, 40, IF(F18<>0, 30, 20)))","v":""}]
[null,"SUB TOTALS",null,{"$f":"D9+D10+D11+D12+D13+D14+D15+D16+D17+D18","v":0},{"$f":"E9+E10+E11+E12+E13+E14+E15+E16+E17+E18","v":0},{"$f":"F9+F10+F11+F12+F13+F14+F15+F16+F17+F18","v":0},{"$f":"G9+G10+G11+G12+G13+G14+G15+G16+G17+G18","v":0},{"$f":"IF(D9=0, \"\", SUM(D19:G19))","v":""},"/",{"$f":"IF(D9=\"\", \"\", SUM(J9:J18))","v":""},{"$f":"IF(D9=0, \"\", SUM(K9:K18))","v":""},"/",{"$f":"IF(D9=\"\", \"\", SUM(M9:M18))","v":""}]
[null,"DEDUCTIONS \nEnter as a negative number i.e. -3 or DQ",null,null,null,null,null,{"$f":"IF(D20=\"\", \"\", IF(D20=\"DQ\",\"DQ\",SUM(D20:G20)))","v":""},null,null,{"$f":"IF(D20=\"\", \"\", IF(D20=\"DQ\",\"DQ\",SUM(D20:G20)))","v":""}]
[null,"TOTALS",null,{"$f":"IF(D20=\"DQ\", \"DQ\",SUM(D19+D20))","v":0},{"$f":"IF(E20=\"DQ\", \"DQ\",SUM(E19+E20))","v":0},{"$f":"IF(F20=\"DQ\", \"DQ\",SUM(F19+F20))","v":0},{"$f":"IF(G20=\"DQ\", \"DQ\",SUM(G19+G20))","v":0},{"$f":"IF(D9=0, \"\", IF(D20=\"DQ\",\"DQ\",SUM(D21:G21)))","v":""},"/",{"$f":"IF(D9=\"\", \"\", SUM(J9:J18))","v":""},{"$f":"IF(D9=0, \"\", IF(D20=\"DQ\",\"DQ\",SUM(K19:K20)))","v":""},"/",{"$f":"IF(D9=\"\", \"\", SUM(M9:M18))","v":""}]
[]
[null,"KC/T #1","Time:",null,"Kick Count:",null,null,null,null,null,null,"# Comp:"]
[null,"KC/T #2","Time:",null,"Kick Count:",null,null,null,null,null,null,"# Comp:"]
[null,"KC/T #3","Time:",null,"Kick Count:",null,null,null,null,null,null,"# Comp:"]

{"sheet":"Team6","index":10,"n_rows":25,"n_cols":13,"rows_kept":25,"cut":false,"hidden":false,"merged":[[0,0,0,12],[1,0,1,12],[3,2,3,6],[3,7,3,9],[3,10,3,12],[15,0,16,0],[15,1,15,2],[16,1,16,2],[6,8,7,9],[8,0,9,0],[4,10,4,12],[6,10,7,10],[6,11,7,12],[7,0,7,2],[20,1,20,2],[13,1,13,2],[14,1,14,2],[6,7,7,7],[12,1,12,2],[17,1,17,2],[12,0,14,0],[6,0,6,2],[22,4,22,6],[22,7,22,8],[4,2,4,6],[4,7,4,9],[19,1,19,2],[8,1,8,2],[9,1,9,2],[10,0,11,0],[23,4,23,6],[23,7,23,8],[24,4,24,6],[24,7,24,8],[10,1,10,2],[11,1,11,2]]}
["Minnesota State High School League Dance Team Competition"]
["High Kick Judges Recap Sheet"]
[]
[null,"School:",{"$f":"IF('Ranking Sheet'!B17=0, \"\", 'Ranking Sheet'!B17)","v":""},null,null,null,null,"Class:",null,null,{"$f":"IF(Class=0, \"\", Class)","v":""}]
[null,"Meet Site:",{"$f":"IF(Site=0, \"\", Site)","v":""},null,null,null,null,"Meet Date:",null,null,{"$f":"IF(DATE=0, \"\", DATE)","v":""}]
[]
["Judge's Initials → ",null,null,{"$f":"IF('Ranking Sheet'!E10=0, \"\", 'Ranking Sheet'!E10)","v":""},{"$f":"IF('Ranking Sheet'!G10=0, \"\", 'Ranking Sheet'!G10)","v":""},{"$f":"IF('Ranking Sheet'!I10=0, \"\", 'Ranking Sheet'!I10)","v":""},{"$f":"IF('Ranking Sheet'!K10=0, \"\", 'Ranking Sheet'!K10)","v":""},"Category Total Points","Total Points Possible",null,"Subtotal Points","Subtotal Points Possible"]
["Category",null,null,1,2,3,4]
["KICKS","Technique of Kicks",null,null,null,null,null,{"$f":"IF(D9=0, \"\", SUM(D9:G9))","v":""},"/",{"$f":"IF(D9=\"\", \"\", IF(G9<>0, 40, IF(F9<>0, 30, 20)))","v":""}]
[null,"Kick Height",null,null,null,null,null,{"$f":"IF(D10=0, \"\", SUM(D10:G10))","v":""},"/","",{"$f":"IF(D9=0, \"\", SUM(D9:G10))","v":""},"/",{"$f":"IF(D9=\"\", \"\", IF(G9<>0, 80, IF(F9<>0, 60, 40)))","v":""}]
["CHOREOGRAPHY","Creativity",null,null,null,null,null,{"$f":"IF(D11=0, \"\", SUM(D11:G11))","v":""},"/",""]
[null,"Visual Effectiveness",null,null,null,null,null,{"$f":"IF(D12=0, \"\", SUM(D12:G12))","v":""},"/","",{"$f":"IF(D11=0, \"\", SUM(D11:G12))","v":""},"/",{"$f":"IF(D11=\"\", \"\", IF(G11<>0, 80, IF(F11<>0, 60, 40)))","v":""}]
["DIFFICULTY","Diffuculty of Routine Choreography",null,null,null,null,null,{"$f":"IF(D13=0, \"\", SUM(D13:G13))","v":""},"/",""]
[null,"Difficulty of Formations and Transitions",null,null,null,null,null,{"$f":"IF(D14=0, \"\", SUM(D14:G14))","v":""},"/",""]
[null,"Difficulty of Kicks",null,null,null,null,null,{"$f":"IF(D15=0, \"\", SUM(D15:G15))","v":""},"/","",{"$f":"IF(D13=0, \"\", SUM(D13:G15))","v":""},"/",{"$f":"IF(D13=\"\", \"\", IF(G13<>0, 120, IF(F13<>0, 90, 60)))","v":""}]
["EXECUTION","Placement & Control",null,null,null,null,null,"","/",""]
[null,"Degree of Accuracy",null,null,null,null,null,"","/","",{"$f":"IF(D16=0, \"\", SUM(D16:G17))","v":""},"/",{"$f":"IF(D17=\"\", \"\", IF(G17<>0, 80, IF(F17<>0, 60, 40)))","v":""}]
["R.E.","Routine Effectiveness",null,null,null,null,null,"","/","",{"$f":"IF(D18=0, \"\", SUM(D18:G18))","v":""},"/",{"$f":"IF(D18=\"\", \"\", IF(G18<>0, 40, IF(F18<>0, 30, 20)))","v":""}]
[null,"SUB TOTALS",null,{"$f":"D9+D10+D11+D12+D13+D14+D15+D16+D17+D18","v":0},{"$f":"E9+E10+E11+E12+E13+E14+E15+E16+E17+E18","v":0},{"$f":"F9+F10+F11+F12+F13+F14+F15+F16+F17+F18","v":0},{"$f":"G9+G10+G11+G12+G13+G14+G15+G16+G17+G18","v":0},{"$f":"IF(D9=0, \"\", SUM(D19:G19))","v":""},"/",{"$f":"IF(D9=\"\", \"\", SUM(J9:J18))","v":""},{"$f":"IF(D9=0, \"\", SUM(K9:K18))","v":""},"/",{"$f":"IF(D9=\"\", \"\", SUM(M9:M18))","v":""}]
[null,"DEDUCTIONS \nEnter as a negative number i.e. -3 or DQ",null,null,null,null,null,{"$f":"IF(D20=\"\", \"\", IF(D20=\"DQ\",\"DQ\",SUM(D20:G20)))","v":""},null,null,{"$f":"IF(D20=\"\", \"\", IF(D20=\"DQ\",\"DQ\",SUM(D20:G20)))","v":""}]
[null,"TOTALS",null,{"$f":"IF(D20=\"DQ\", \"DQ\",SUM(D19+D20))","v":0},{"$f":"IF(E20=\"DQ\", \"DQ\",SUM(E19+E20))","v":0},{"$f":"IF(F20=\"DQ\", \"DQ\",SUM(F19+F20))","v":0},{"$f":"IF(G20=\"DQ\", \"DQ\",SUM(G19+G20))","v":0},{"$f":"IF(D9=0, \"\", IF(D20=\"DQ\",\"DQ\",SUM(D21:G21)))","v":""},"/",{"$f":"IF(D9=\"\", \"\", SUM(J9:J18))","v":""},{"$f":"IF(D9=0, \"\", IF(D20=\"DQ\",\"DQ\",SUM(K19:K20)))","v":""},"/",{"$f":"IF(D9=\"\", \"\", SUM(M9:M18))","v":""}]
[]
[null,"KC/T #1","Time:",null,"Kick Count:",null,null,null,null,null,null,"# Comp:"]
[null,"KC/T #2","Time:",null,"Kick Count:",null,null,null,null,null,null,"# Comp:"]
[null,"KC/T #3","Time:",null,"Kick Count:",null,null,null,null,null,null,"# Comp:"]

{"sheet":"Team7","index":11,"n_rows":25,"n_cols":13,"rows_kept":25,"cut":false,"hidden":false,"merged":[[0,0,0,12],[1,0,1,12],[3,2,3,6],[3,7,3,9],[3,10,3,12],[15,0,16,0],[15,1,15,2],[16,1,16,2],[6,8,7,9],[8,0,9,0],[4,10,4,12],[6,10,7,10],[6,11,7,12],[7,0,7,2],[20,1,20,2],[13,1,13,2],[14,1,14,2],[6,7,7,7],[12,1,12,2],[17,1,17,2],[12,0,14,0],[6,0,6,2],[22,4,22,6],[22,7,22,8],[4,2,4,6],[4,7,4,9],[19,1,19,2],[8,1,8,2],[9,1,9,2],[10,0,11,0],[23,4,23,6],[23,7,23,8],[24,4,24,6],[24,7,24,8],[10,1,10,2],[11,1,11,2]]}
["Minnesota State High School League Dance Team Competition"]
["High Kick Judges Recap Sheet"]
[]
[null,"School:",{"$f":"IF('Ranking Sheet'!B18=0, \"\", 'Ranking Sheet'!B18)","v":""},null,null,null,null,"Class:",null,null,{"$f":"IF(Class=0, \"\", Class)","v":""}]
[null,"Meet Site:",{"$f":"IF(Site=0, \"\", Site)","v":""},null,null,null,null,"Meet Date:",null,null,{"$f":"IF(DATE=0, \"\", DATE)","v":""}]
[]
["Judge's Initials → ",null,null,{"$f":"IF('Ranking Sheet'!E10=0, \"\", 'Ranking Sheet'!E10)","v":""},{"$f":"IF('Ranking Sheet'!G10=0, \"\", 'Ranking Sheet'!G10)","v":""},{"$f":"IF('Ranking Sheet'!I10=0, \"\", 'Ranking Sheet'!I10)","v":""},{"$f":"IF('Ranking Sheet'!K10=0, \"\", 'Ranking Sheet'!K10)","v":""},"Category Total Points","Total Points Possible",null,"Subtotal Points","Subtotal Points Possible"]
["Category",null,null,1,2,3,4]
["KICKS","Technique of Kicks",null,null,null,null,null,{"$f":"IF(D9=0, \"\", SUM(D9:G9))","v":""},"/",{"$f":"IF(D9=\"\", \"\", IF(G9<>0, 40, IF(F9<>0, 30, 20)))","v":""}]
[null,"Kick Height",null,null,null,null,null,{"$f":"IF(D10=0, \"\", SUM(D10:G10))","v":""},"/","",{"$f":"IF(D9=0, \"\", SUM(D9:G10))","v":""},"/",{"$f":"IF(D9=\"\", \"\", IF(G9<>0, 80, IF(F9<>0, 60, 40)))","v":""}]
["CHOREOGRAPHY","Creativity",null,null,null,null,null,{"$f":"IF(D11=0, \"\", SUM(D11:G11))","v":""},"/",""]
[null,"Visual Effectiveness",null,null,null,null,null,{"$f":"IF(D12=0, \"\", SUM(D12:G12))","v":""},"/","",{"$f":"IF(D11=0, \"\", SUM(D11:G12))","v":""},"/",{"$f":"IF(D11=\"\", \"\", IF(G11<>0, 80, IF(F11<>0, 60, 40)))","v":""}]
["DIFFICULTY","Diffuculty of Routine Choreography",null,null,null,null,null,{"$f":"IF(D13=0, \"\", SUM(D13:G13))","v":""},"/",""]
[null,"Difficulty of Formations and Transitions",null,null,null,null,null,{"$f":"IF(D14=0, \"\", SUM(D14:G14))","v":""},"/",""]
[null,"Difficulty of Kicks",null,null,null,null,null,{"$f":"IF(D15=0, \"\", SUM(D15:G15))","v":""},"/","",{"$f":"IF(D13=0, \"\", SUM(D13:G15))","v":""},"/",{"$f":"IF(D13=\"\", \"\", IF(G13<>0, 120, IF(F13<>0, 90, 60)))","v":""}]
["EXECUTION","Placement & Control",null,null,null,null,null,"","/",""]
[null,"Degree of Accuracy",null,null,null,null,null,"","/","",{"$f":"IF(D16=0, \"\", SUM(D16:G17))","v":""},"/",{"$f":"IF(D17=\"\", \"\", IF(G17<>0, 80, IF(F17<>0, 60, 40)))","v":""}]
["R.E.","Routine Effectiveness",null,null,null,null,null,"","/","",{"$f":"IF(D18=0, \"\", SUM(D18:G18))","v":""},"/",{"$f":"IF(D18=\"\", \"\", IF(G18<>0, 40, IF(F18<>0, 30, 20)))","v":""}]
[null,"SUB TOTALS",null,{"$f":"D9+D10+D11+D12+D13+D14+D15+D16+D17+D18","v":0},{"$f":"E9+E10+E11+E12+E13+E14+E15+E16+E17+E18","v":0},{"$f":"F9+F10+F11+F12+F13+F14+F15+F16+F17+F18","v":0},{"$f":"G9+G10+G11+G12+G13+G14+G15+G16+G17+G18","v":0},{"$f":"IF(D9=0, \"\", SUM(D19:G19))","v":""},"/",{"$f":"IF(D9=\"\", \"\", SUM(J9:J18))","v":""},{"$f":"IF(D9=0, \"\", SUM(K9:K18))","v":""},"/",{"$f":"IF(D9=\"\", \"\", SUM(M9:M18))","v":""}]
[null,"DEDUCTIONS \nEnter as a negative number i.e. -3 or DQ",null,null,null,null,null,{"$f":"IF(D20=\"\", \"\", IF(D20=\"DQ\",\"DQ\",SUM(D20:G20)))","v":""},null,null,{"$f":"IF(D20=\"\", \"\", IF(D20=\"DQ\",\"DQ\",SUM(D20:G20)))","v":""}]
[null,"TOTALS",null,{"$f":"IF(D20=\"DQ\", \"DQ\",SUM(D19+D20))","v":0},{"$f":"IF(E20=\"DQ\", \"DQ\",SUM(E19+E20))","v":0},{"$f":"IF(F20=\"DQ\", \"DQ\",SUM(F19+F20))","v":0},{"$f":"IF(G20=\"DQ\", \"DQ\",SUM(G19+G20))","v":0},{"$f":"IF(D9=0, \"\", IF(D20=\"DQ\",\"DQ\",SUM(D21:G21)))","v":""},"/",{"$f":"IF(D9=\"\", \"\", SUM(J9:J18))","v":""},{"$f":"IF(D9=0, \"\", IF(D20=\"DQ\",\"DQ\",SUM(K19:K20)))","v":""},"/",{"$f":"IF(D9=\"\", \"\", SUM(M9:M18))","v":""}]
[]
[null,"KC/T #1","Time:",null,"Kick Count:",null,null,null,null,null,null,"# Comp:"]
[null,"KC/T #2","Time:",null,"Kick Count:",null,null,null,null,null,null,"# Comp:"]
[null,"KC/T #3","Time:",null,"Kick Count:",null,null,null,null,null,null,"# Comp:"]

{"sheet":"Team8","index":12,"n_rows":25,"n_cols":13,"rows_kept":25,"cut":false,"hidden":false,"merged":[[0,0,0,12],[1,0,1,12],[3,2,3,6],[3,7,3,9],[3,10,3,12],[15,0,16,0],[15,1,15,2],[16,1,16,2],[6,8,7,9],[8,0,9,0],[4,10,4,12],[6,10,7,10],[6,11,7,12],[7,0,7,2],[20,1,20,2],[13,1,13,2],[14,1,14,2],[6,7,7,7],[12,1,12,2],[17,1,17,2],[12,0,14,0],[6,0,6,2],[22,4,22,6],[22,7,22,8],[4,2,4,6],[4,7,4,9],[19,1,19,2],[8,1,8,2],[9,1,9,2],[10,0,11,0],[23,4,23,6],[23,7,23,8],[24,4,24,6],[24,7,24,8],[10,1,10,2],[11,1,11,2]]}
["Minnesota State High School League Dance Team Competition"]
["High Kick Judges Recap Sheet"]
[]
[null,"School:",{"$f":"IF('Ranking Sheet'!B19=0, \"\", 'Ranking Sheet'!B19)","v":""},null,null,null,null,"Class:",null,null,{"$f":"IF(Class=0, \"\", Class)","v":""}]
[null,"Meet Site:",{"$f":"IF(Site=0, \"\", Site)","v":""},null,null,null,null,"Meet Date:",null,null,{"$f":"IF(DATE=0, \"\", DATE)","v":""}]
[]
["Judge's Initials → ",null,null,{"$f":"IF('Ranking Sheet'!E10=0, \"\", 'Ranking Sheet'!E10)","v":""},{"$f":"IF('Ranking Sheet'!G10=0, \"\", 'Ranking Sheet'!G10)","v":""},{"$f":"IF('Ranking Sheet'!I10=0, \"\", 'Ranking Sheet'!I10)","v":""},{"$f":"IF('Ranking Sheet'!K10=0, \"\", 'Ranking Sheet'!K10)","v":""},"Category Total Points","Total Points Possible",null,"Subtotal Points","Subtotal Points Possible"]
["Category",null,null,1,2,3,4]
["KICKS","Technique of Kicks",null,null,null,null,null,{"$f":"IF(D9=0, \"\", SUM(D9:G9))","v":""},"/",{"$f":"IF(D9=\"\", \"\", IF(G9<>0, 40, IF(F9<>0, 30, 20)))","v":""}]
[null,"Kick Height",null,null,null,null,null,{"$f":"IF(D10=0, \"\", SUM(D10:G10))","v":""},"/","",{"$f":"IF(D9=0, \"\", SUM(D9:G10))","v":""},"/",{"$f":"IF(D9=\"\", \"\", IF(G9<>0, 80, IF(F9<>0, 60, 40)))","v":""}]
["CHOREOGRAPHY","Creativity",null,null,null,null,null,{"$f":"IF(D11=0, \"\", SUM(D11:G11))","v":""},"/",""]
[null,"Visual Effectiveness",null,null,null,null,null,{"$f":"IF(D12=0, \"\", SUM(D12:G12))","v":""},"/","",{"$f":"IF(D11=0, \"\", SUM(D11:G12))","v":""},"/",{"$f":"IF(D11=\"\", \"\", IF(G11<>0, 80, IF(F11<>0, 60, 40)))","v":""}]
["DIFFICULTY","Diffuculty of Routine Choreography",null,null,null,null,null,{"$f":"IF(D13=0, \"\", SUM(D13:G13))","v":""},"/",""]
[null,"Difficulty of Formations and Transitions",null,null,null,null,null,{"$f":"IF(D14=0, \"\", SUM(D14:G14))","v":""},"/",""]
[null,"Difficulty of Kicks",null,null,null,null,null,{"$f":"IF(D15=0, \"\", SUM(D15:G15))","v":""},"/","",{"$f":"IF(D13=0, \"\", SUM(D13:G15))","v":""},"/",{"$f":"IF(D13=\"\", \"\", IF(G13<>0, 120, IF(F13<>0, 90, 60)))","v":""}]
["EXECUTION","Placement & Control",null,null,null,null,null,"","/",""]
[null,"Degree of Accuracy",null,null,null,null,null,"","/","",{"$f":"IF(D16=0, \"\", SUM(D16:G17))","v":""},"/",{"$f":"IF(D17=\"\", \"\", IF(G17<>0, 80, IF(F17<>0, 60, 40)))","v":""}]
["R.E.","Routine Effectiveness",null,null,null,null,null,"","/","",{"$f":"IF(D18=0, \"\", SUM(D18:G18))","v":""},"/",{"$f":"IF(D18=\"\", \"\", IF(G18<>0, 40, IF(F18<>0, 30, 20)))","v":""}]
[null,"SUB TOTALS",null,{"$f":"D9+D10+D11+D12+D13+D14+D15+D16+D17+D18","v":0},{"$f":"E9+E10+E11+E12+E13+E14+E15+E16+E17+E18","v":0},{"$f":"F9+F10+F11+F12+F13+F14+F15+F16+F17+F18","v":0},{"$f":"G9+G10+G11+G12+G13+G14+G15+G16+G17+G18","v":0},{"$f":"IF(D9=0, \"\", SUM(D19:G19))","v":""},"/",{"$f":"IF(D9=\"\", \"\", SUM(J9:J18))","v":""},{"$f":"IF(D9=0, \"\", SUM(K9:K18))","v":""},"/",{"$f":"IF(D9=\"\", \"\", SUM(M9:M18))","v":""}]
[null,"DEDUCTIONS \nEnter as a negative number i.e. -3 or DQ",null,null,null,null,null,{"$f":"IF(D20=\"\", \"\", IF(D20=\"DQ\",\"DQ\",SUM(D20:G20)))","v":""},null,null,{"$f":"IF(D20=\"\", \"\", IF(D20=\"DQ\",\"DQ\",SUM(D20:G20)))","v":""}]
[null,"TOTALS",null,{"$f":"IF(D20=\"DQ\", \"DQ\",SUM(D19+D20))","v":0},{"$f":"IF(E20=\"DQ\", \"DQ\",SUM(E19+E20))","v":0},{"$f":"IF(F20=\"DQ\", \"DQ\",SUM(F19+F20))","v":0},{"$f":"IF(G20=\"DQ\", \"DQ\",SUM(G19+G20))","v":0},{"$f":"IF(D9=0, \"\", IF(D20=\"DQ\",\"DQ\",SUM(D21:G21)))","v":""},"/",{"$f":"IF(D9=\"\", \"\", SUM(J9:J18))","v":""},{"$f":"IF(D9=0, \"\", IF(D20=\"DQ\",\"DQ\",SUM(K19:K20)))","v":""},"/",{"$f":"IF(D9=\"\", \"\", SUM(M9:M18))","v":""}]
[]
[null,"KC/T #1","Time:",null,"Kick Count:",null,null,null,null,null,null,"# Comp:"]
[null,"KC/T #2","Time:",null,"Kick Count:",null,null,null,null,null,null,"# Comp:"]
[null,"KC/T #3","Time:",null,"Kick Count:",null,null,null,null,null,null,"# Comp:"]

{"sheet":"Team9","index":13,"n_rows":25,"n_cols":13,"rows_kept":25,"cut":false,"hidden":false,"merged":[[0,0,0,12],[1,0,1,12],[3,2,3,6],[3,7,3,9],[3,10,3,12],[15,0,16,0],[15,1,15,2],[16,1,16,2],[6,8,7,9],[8,0,9,0],[4,10,4,12],[6,10,7,10],[6,11,7,12],[7,0,7,2],[20,1,20,2],[13,1,13,2],[14,1,14,2],[6,7,7,7],[12,1,12,2],[17,1,17,2],[12,0,14,0],[6,0,6,2],[22,4,22,6],[22,7,22,8],[4,2,4,6],[4,7,4,9],[19,1,19,2],[8,1,8,2],[9,1,9,2],[10,0,11,0],[23,4,23,6],[23,7,23,8],[24,4,24,6],[24,7,24,8],[10,1,10,2],[11,1,11,2]]}
["Minnesota State High School League Dance Team Competition"]
["High Kick Judges Recap Sheet"]
[]
[null,"School:",{"$f":"IF('Ranking Sheet'!B20=0, \"\", 'Ranking Sheet'!B20)","v":""},null,null,null,null,"Class:",null,null,{"$f":"IF(Class=0, \"\", Class)","v":""}]
[null,"Meet Site:",{"$f":"IF(Site=0, \"\", Site)","v":""},null,null,null,null,"Meet Date:",null,null,{"$f":"IF(DATE=0, \"\", DATE)","v":""}]
[]
["Judge's Initials → ",null,null,{"$f":"IF('Ranking Sheet'!E10=0, \"\", 'Ranking Sheet'!E10)","v":""},{"$f":"IF('Ranking Sheet'!G10=0, \"\", 'Ranking Sheet'!G10)","v":""},{"$f":"IF('Ranking Sheet'!I10=0, \"\", 'Ranking Sheet'!I10)","v":""},{"$f":"IF('Ranking Sheet'!K10=0, \"\", 'Ranking Sheet'!K10)","v":""},"Category Total Points","Total Points Possible",null,"Subtotal Points","Subtotal Points Possible"]
["Category",null,null,1,2,3,4]
["KICKS","Technique of Kicks",null,null,null,null,null,{"$f":"IF(D9=0, \"\", SUM(D9:G9))","v":""},"/",{"$f":"IF(D9=\"\", \"\", IF(G9<>0, 40, IF(F9<>0, 30, 20)))","v":""}]
[null,"Kick Height",null,null,null,null,null,{"$f":"IF(D10=0, \"\", SUM(D10:G10))","v":""},"/","",{"$f":"IF(D9=0, \"\", SUM(D9:G10))","v":""},"/",{"$f":"IF(D9=\"\", \"\", IF(G9<>0, 80, IF(F9<>0, 60, 40)))","v":""}]
["CHOREOGRAPHY","Creativity",null,null,null,null,null,{"$f":"IF(D11=0, \"\", SUM(D11:G11))","v":""},"/",""]
[null,"Visual Effectiveness",null,null,null,null,null,{"$f":"IF(D12=0, \"\", SUM(D12:G12))","v":""},"/","",{"$f":"IF(D11=0, \"\", SUM(D11:G12))","v":""},"/",{"$f":"IF(D11=\"\", \"\", IF(G11<>0, 80, IF(F11<>0, 60, 40)))","v":""}]
["DIFFICULTY","Diffuculty of Routine Choreography",null,null,null,null,null,{"$f":"IF(D13=0, \"\", SUM(D13:G13))","v":""},"/",""]
[null,"Difficulty of Formations and Transitions",null,null,null,null,null,{"$f":"IF(D14=0, \"\", SUM(D14:G14))","v":""},"/",""]
[null,"Difficulty of Kicks",null,null,null,null,null,{"$f":"IF(D15=0, \"\", SUM(D15:G15))","v":""},"/","",{"$f":"IF(D13=0, \"\", SUM(D13:G15))","v":""},"/",{"$f":"IF(D13=\"\", \"\", IF(G13<>0, 120, IF(F13<>0, 90, 60)))","v":""}]
["EXECUTION","Placement & Control",null,null,null,null,null,"","/",""]
[null,"Degree of Accuracy",null,null,null,null,null,"","/","",{"$f":"IF(D16=0, \"\", SUM(D16:G17))","v":""},"/",{"$f":"IF(D17=\"\", \"\", IF(G17<>0, 80, IF(F17<>0, 60, 40)))","v":""}]
["R.E.","Routine Effectiveness",null,null,null,null,null,"","/","",{"$f":"IF(D18=0, \"\", SUM(D18:G18))","v":""},"/",{"$f":"IF(D18=\"\", \"\", IF(G18<>0, 40, IF(F18<>0, 30, 20)))","v":""}]
[null,"SUB TOTALS",null,{"$f":"D9+D10+D11+D12+D13+D14+D15+D16+D17+D18","v":0},{"$f":"E9+E10+E11+E12+E13+E14+E15+E16+E17+E18","v":0},{"$f":"F9+F10+F11+F12+F13+F14+F15+F16+F17+F18","v":0},{"$f":"G9+G10+G11+G12+G13+G14+G15+G16+G17+G18","v":0},{"$f":"IF(D9=0, \"\", SUM(D19:G19))","v":""},"/",{"$f":"IF(D9=\"\", \"\", SUM(J9:J18))","v":""},{"$f":"IF(D9=0, \"\", SUM(K9:K18))","v":""},"/",{"$f":"IF(D9=\"\", \"\", SUM(M9:M18))","v":""}]
[null,"DEDUCTIONS \nEnter as a negative number i.e. -3 or DQ",null,null,null,null,null,{"$f":"IF(D20=\"\", \"\", IF(D20=\"DQ\",\"DQ\",SUM(D20:G20)))","v":""},null,null,{"$f":"IF(D20=\"\", \"\", IF(D20=\"DQ\",\"DQ\",SUM(D20:G20)))","v":""}]
[null,"TOTALS",null,{"$f":"IF(D20=\"DQ\", \"DQ\",SUM(D19+D20))","v":0},{"$f":"IF(E20=\"DQ\", \"DQ\",SUM(E19+E20))","v":0},{"$f":"IF(F20=\"DQ\", \"DQ\",SUM(F19+F20))","v":0},{"$f":"IF(G20=\"DQ\", \"DQ\",SUM(G19+G20))","v":0},{"$f":"IF(D9=0, \"\", IF(D20=\"DQ\",\"DQ\",SUM(D21:G21)))","v":""},"/",{"$f":"IF(D9=\"\", \"\", SUM(J9:J18))","v":""},{"$f":"IF(D9=0, \"\", IF(D20=\"DQ\",\"DQ\",SUM(K19:K20)))","v":""},"/",{"$f":"IF(D9=\"\", \"\", SUM(M9:M18))","v":""}]
[]
[null,"KC/T #1","Time:",null,"Kick Count:",null,null,null,null,null,null,"# Comp:"]
[null,"KC/T #2","Time:",null,"Kick Count:",null,null,null,null,null,null,"# Comp:"]
[null,"KC/T #3","Time:",null,"Kick Count:",null,null,null,null,null,null,"# Comp:"]

{"sheet":"Team10","index":14,"n_rows":25,"n_cols":13,"rows_kept":25,"cut":false,"hidden":false,"merged":[[0,0,0,12],[1,0,1,12],[3,2,3,6],[3,7,3,9],[3,10,3,12],[15,0,16,0],[15,1,15,2],[16,1,16,2],[6,8,7,9],[8,0,9,0],[4,10,4,12],[6,10,7,10],[6,11,7,12],[7,0,7,2],[20,1,20,2],[13,1,13,2],[14,1,14,2],[6,7,7,7],[12,1,12,2],[17,1,17,2],[12,0,14,0],[6,0,6,2],[22,4,22,6],[22,7,22,8],[4,2,4,6],[4,7,4,9],[19,1,19,2],[8,1,8,2],[9,1,9,2],[10,0,11,0],[23,4,23,6],[23,7,23,8],[24,4,24,6],[24,7,24,8],[10,1,10,2],[11,1,11,2]]}
["Minnesota State High School League Dance Team Competition"]
["High Kick Judges Recap Sheet"]
[]
[null,"School:",{"$f":"IF('Ranking Sheet'!B21=0, \"\", 'Ranking Sheet'!B21)","v":""},null,null,null,null,"Class:",null,null,{"$f":"IF(Class=0, \"\", Class)","v":""}]
[null,"Meet Site:",{"$f":"IF(Site=0, \"\", Site)","v":""},null,null,null,null,"Meet Date:",null,null,{"$f":"IF(DATE=0, \"\", DATE)","v":""}]
[]
["Judge's Initials → ",null,null,{"$f":"IF('Ranking Sheet'!E10=0, \"\", 'Ranking Sheet'!E10)","v":""},{"$f":"IF('Ranking Sheet'!G10=0, \"\", 'Ranking Sheet'!G10)","v":""},{"$f":"IF('Ranking Sheet'!I10=0, \"\", 'Ranking Sheet'!I10)","v":""},{"$f":"IF('Ranking Sheet'!K10=0, \"\", 'Ranking Sheet'!K10)","v":""},"Category Total Points","Total Points Possible",null,"Subtotal Points","Subtotal Points Possible"]
["Category",null,null,1,2,3,4]
["KICKS","Technique of Kicks",null,null,null,null,null,{"$f":"IF(D9=0, \"\", SUM(D9:G9))","v":""},"/",{"$f":"IF(D9=\"\", \"\", IF(G9<>0, 40, IF(F9<>0, 30, 20)))","v":""}]
[null,"Kick Height",null,null,null,null,null,{"$f":"IF(D10=0, \"\", SUM(D10:G10))","v":""},"/","",{"$f":"IF(D9=0, \"\", SUM(D9:G10))","v":""},"/",{"$f":"IF(D9=\"\", \"\", IF(G9<>0, 80, IF(F9<>0, 60, 40)))","v":""}]
["CHOREOGRAPHY","Creativity",null,null,null,null,null,{"$f":"IF(D11=0, \"\", SUM(D11:G11))","v":""},"/",""]
[null,"Visual Effectiveness",null,null,null,null,null,{"$f":"IF(D12=0, \"\", SUM(D12:G12))","v":""},"/","",{"$f":"IF(D11=0, \"\", SUM(D11:G12))","v":""},"/",{"$f":"IF(D11=\"\", \"\", IF(G11<>0, 80, IF(F11<>0, 60, 40)))","v":""}]
["DIFFICULTY","Diffuculty of Routine Choreography",null,null,null,null,null,{"$f":"IF(D13=0, \"\", SUM(D13:G13))","v":""},"/",""]
[null,"Difficulty of Formations and Transitions",null,null,null,null,null,{"$f":"IF(D14=0, \"\", SUM(D14:G14))","v":""},"/",""]
[null,"Difficulty of Kicks",null,null,null,null,null,{"$f":"IF(D15=0, \"\", SUM(D15:G15))","v":""},"/","",{"$f":"IF(D13=0, \"\", SUM(D13:G15))","v":""},"/",{"$f":"IF(D13=\"\", \"\", IF(G13<>0, 120, IF(F13<>0, 90, 60)))","v":""}]
["EXECUTION","Placement & Control",null,null,null,null,null,"","/",""]
[null,"Degree of Accuracy",null,null,null,null,null,"","/","",{"$f":"IF(D16=0, \"\", SUM(D16:G17))","v":""},"/",{"$f":"IF(D17=\"\", \"\", IF(G17<>0, 80, IF(F17<>0, 60, 40)))","v":""}]
["R.E.","Routine Effectiveness",null,null,null,null,null,"","/","",{"$f":"IF(D18=0, \"\", SUM(D18:G18))","v":""},"/",{"$f":"IF(D18=\"\", \"\", IF(G18<>0, 40, IF(F18<>0, 30, 20)))","v":""}]
[null,"SUB TOTALS",null,{"$f":"D9+D10+D11+D12+D13+D14+D15+D16+D17+D18","v":0},{"$f":"E9+E10+E11+E12+E13+E14+E15+E16+E17+E18","v":0},{"$f":"F9+F10+F11+F12+F13+F14+F15+F16+F17+F18","v":0},{"$f":"G9+G10+G11+G12+G13+G14+G15+G16+G17+G18","v":0},{"$f":"IF(D9=0, \"\", SUM(D19:G19))","v":""},"/",{"$f":"IF(D9=\"\", \"\", SUM(J9:J18))","v":""},{"$f":"IF(D9=0, \"\", SUM(K9:K18))","v":""},"/",{"$f":"IF(D9=\"\", \"\", SUM(M9:M18))","v":""}]
[null,"DEDUCTIONS \nEnter as a negative number i.e. -3 or DQ",null,null,null,null,null,{"$f":"IF(D20=\"\", \"\", IF(D20=\"DQ\",\"DQ\",SUM(D20:G20)))","v":""},null,null,{"$f":"IF(D20=\"\", \"\", IF(D20=\"DQ\",\"DQ\",SUM(D20:G20)))","v":""}]
[null,"TOTALS",null,{"$f":"IF(D20=\"DQ\", \"DQ\",SUM(D19+D20))","v":0},{"$f":"IF(E20=\"DQ\", \"DQ\",SUM(E19+E20))","v":0},{"$f":"IF(F20=\"DQ\", \"DQ\",SUM(F19+F20))","v":0},{"$f":"IF(G20=\"DQ\", \"DQ\",SUM(G19+G20))","v":0},{"$f":"IF(D9=0, \"\", IF(D20=\"DQ\",\"DQ\",SUM(D21:G21)))","v":""},"/",{"$f":"IF(D9=\"\", \"\", SUM(J9:J18))","v":""},{"$f":"IF(D9=0, \"\", IF(D20=\"DQ\",\"DQ\",SUM(K19:K20)))","v":""},"/",{"$f":"IF(D9=\"\", \"\", SUM(M9:M18))","v":""}]
[]
[null,"KC/T #1","Time:",null,"Kick Count:",null,null,null,null,null,null,"# Comp:"]
[null,"KC/T #2","Time:",null,"Kick Count:",null,null,null,null,null,null,"# Comp:"]
[null,"KC/T #3","Time:",null,"Kick Count:",null,null,null,null,null,null,"# Comp:"]

{"sheet":"Team11","index":15,"n_rows":25,"n_cols":13,"rows_kept":25,"cut":false,"hidden":false,"merged":[[0,0,0,12],[1,0,1,12],[3,2,3,6],[3,7,3,9],[3,10,3,12],[15,0,16,0],[15,1,15,2],[16,1,16,2],[6,8,7,9],[8,0,9,0],[4,10,4,12],[6,10,7,10],[6,11,7,12],[7,0,7,2],[20,1,20,2],[13,1,13,2],[14,1,14,2],[6,7,7,7],[12,1,12,2],[17,1,17,2],[12,0,14,0],[6,0,6,2],[22,4,22,6],[22,7,22,8],[4,2,4,6],[4,7,4,9],[19,1,19,2],[8,1,8,2],[9,1,9,2],[10,0,11,0],[23,4,23,6],[23,7,23,8],[24,4,24,6],[24,7,24,8],[10,1,10,2],[11,1,11,2]]}
["Minnesota State High School League Dance Team Competition"]
["High Kick Judges Recap Sheet"]
[]
[null,"School:",{"$f":"IF('Ranking Sheet'!B22=0, \"\", 'Ranking Sheet'!B22)","v":""},null,null,null,null,"Class:",null,null,{"$f":"IF(Class=0, \"\", Class)","v":""}]
[null,"Meet Site:",{"$f":"IF(Site=0, \"\", Site)","v":""},null,null,null,null,"Meet Date:",null,null,{"$f":"IF(DATE=0, \"\", DATE)","v":""}]
[]
["Judge's Initials → ",null,null,{"$f":"IF('Ranking Sheet'!E10=0, \"\", 'Ranking Sheet'!E10)","v":""},{"$f":"IF('Ranking Sheet'!G10=0, \"\", 'Ranking Sheet'!G10)","v":""},{"$f":"IF('Ranking Sheet'!I10=0, \"\", 'Ranking Sheet'!I10)","v":""},{"$f":"IF('Ranking Sheet'!K10=0, \"\", 'Ranking Sheet'!K10)","v":""},"Category Total Points","Total Points Possible",null,"Subtotal Points","Subtotal Points Possible"]
["Category",null,null,1,2,3,4]
["KICKS","Technique of Kicks",null,null,null,null,null,{"$f":"IF(D9=0, \"\", SUM(D9:G9))","v":""},"/",{"$f":"IF(D9=\"\", \"\", IF(G9<>0, 40, IF(F9<>0, 30, 20)))","v":""}]
[null,"Kick Height",null,null,null,null,null,{"$f":"IF(D10=0, \"\", SUM(D10:G10))","v":""},"/","",{"$f":"IF(D9=0, \"\", SUM(D9:G10))","v":""},"/",{"$f":"IF(D9=\"\", \"\", IF(G9<>0, 80, IF(F9<>0, 60, 40)))","v":""}]
["CHOREOGRAPHY","Creativity",null,null,null,null,null,{"$f":"IF(D11=0, \"\", SUM(D11:G11))","v":""},"/",""]
[null,"Visual Effectiveness",null,null,null,null,null,{"$f":"IF(D12=0, \"\", SUM(D12:G12))","v":""},"/","",{"$f":"IF(D11=0, \"\", SUM(D11:G12))","v":""},"/",{"$f":"IF(D11=\"\", \"\", IF(G11<>0, 80, IF(F11<>0, 60, 40)))","v":""}]
["DIFFICULTY","Diffuculty of Routine Choreography",null,null,null,null,null,{"$f":"IF(D13=0, \"\", SUM(D13:G13))","v":""},"/",""]
[null,"Difficulty of Formations and Transitions",null,null,null,null,null,{"$f":"IF(D14=0, \"\", SUM(D14:G14))","v":""},"/",""]
[null,"Difficulty of Kicks",null,null,null,null,null,{"$f":"IF(D15=0, \"\", SUM(D15:G15))","v":""},"/","",{"$f":"IF(D13=0, \"\", SUM(D13:G15))","v":""},"/",{"$f":"IF(D13=\"\", \"\", IF(G13<>0, 120, IF(F13<>0, 90, 60)))","v":""}]
["EXECUTION","Placement & Control",null,null,null,null,null,"","/",""]
[null,"Degree of Accuracy",null,null,null,null,null,"","/","",{"$f":"IF(D16=0, \"\", SUM(D16:G17))","v":""},"/",{"$f":"IF(D17=\"\", \"\", IF(G17<>0, 80, IF(F17<>0, 60, 40)))","v":""}]
["R.E.","Routine Effectiveness",null,null,null,null,null,"","/","",{"$f":"IF(D18=0, \"\", SUM(D18:G18))","v":""},"/",{"$f":"IF(D18=\"\", \"\", IF(G18<>0, 40, IF(F18<>0, 30, 20)))","v":""}]
[null,"SUB TOTALS",null,{"$f":"D9+D10+D11+D12+D13+D14+D15+D16+D17+D18","v":0},{"$f":"E9+E10+E11+E12+E13+E14+E15+E16+E17+E18","v":0},{"$f":"F9+F10+F11+F12+F13+F14+F15+F16+F17+F18","v":0},{"$f":"G9+G10+G11+G12+G13+G14+G15+G16+G17+G18","v":0},{"$f":"IF(D9=0, \"\", SUM(D19:G19))","v":""},"/",{"$f":"IF(D9=\"\", \"\", SUM(J9:J18))","v":""},{"$f":"IF(D9=0, \"\", SUM(K9:K18))","v":""},"/",{"$f":"IF(D9=\"\", \"\", SUM(M9:M18))","v":""}]
[null,"DEDUCTIONS \nEnter as a negative number i.e. -3 or DQ",null,null,null,null,null,{"$f":"IF(D20=\"\", \"\", IF(D20=\"DQ\",\"DQ\",SUM(D20:G20)))","v":""},null,null,{"$f":"IF(D20=\"\", \"\", IF(D20=\"DQ\",\"DQ\",SUM(D20:G20)))","v":""}]
[null,"TOTALS",null,{"$f":"IF(D20=\"DQ\", \"DQ\",SUM(D19+D20))","v":0},{"$f":"IF(E20=\"DQ\", \"DQ\",SUM(E19+E20))","v":0},{"$f":"IF(F20=\"DQ\", \"DQ\",SUM(F19+F20))","v":0},{"$f":"IF(G20=\"DQ\", \"DQ\",SUM(G19+G20))","v":0},{"$f":"IF(D9=0, \"\", IF(D20=\"DQ\",\"DQ\",SUM(D21:G21)))","v":""},"/",{"$f":"IF(D9=\"\", \"\", SUM(J9:J18))","v":""},{"$f":"IF(D9=0, \"\", IF(D20=\"DQ\",\"DQ\",SUM(K19:K20)))","v":""},"/",{"$f":"IF(D9=\"\", \"\", SUM(M9:M18))","v":""}]
[]
[null,"KC/T #1","Time:",null,"Kick Count:",null,null,null,null,null,null,"# Comp:"]
[null,"KC/T #2","Time:",null,"Kick Count:",null,null,null,null,null,null,"# Comp:"]
[null,"KC/T #3","Time:",null,"Kick Count:",null,null,null,null,null,null,"# Comp:"]

{"sheet":"Team12","index":16,"n_rows":25,"n_cols":13,"rows_kept":25,"cut":false,"hidden":false,"merged":[[0,0,0,12],[1,0,1,12],[3,2,3,6],[3,7,3,9],[3,10,3,12],[15,0,16,0],[15,1,15,2],[16,1,16,2],[6,8,7,9],[8,0,9,0],[4,10,4,12],[6,10,7,10],[6,11,7,12],[7,0,7,2],[20,1,20,2],[13,1,13,2],[14,1,14,2],[6,7,7,7],[12,1,12,2],[17,1,17,2],[12,0,14,0],[6,0,6,2],[22,4,22,6],[22,7,22,8],[4,2,4,6],[4,7,4,9],[19,1,19,2],[8,1,8,2],[9,1,9,2],[10,0,11,0],[23,4,23,6],[23,7,23,8],[24,4,24,6],[24,7,24,8],[10,1,10,2],[11,1,11,2]]}
["Minnesota State High School League Dance Team Competition"]
["High Kick Judges Recap Sheet"]
[]
[null,"School:",{"$f":"IF('Ranking Sheet'!B23=0, \"\", 'Ranking Sheet'!B23)","v":""},null,null,null,null,"Class:",null,null,{"$f":"IF(Class=0, \"\", Class)","v":""}]
[null,"Meet Site:",{"$f":"IF(Site=0, \"\", Site)","v":""},null,null,null,null,"Meet Date:",null,null,{"$f":"IF(DATE=0, \"\", DATE)","v":""}]
[]
["Judge's Initials → ",null,null,{"$f":"IF('Ranking Sheet'!E10=0, \"\", 'Ranking Sheet'!E10)","v":""},{"$f":"IF('Ranking Sheet'!G10=0, \"\", 'Ranking Sheet'!G10)","v":""},{"$f":"IF('Ranking Sheet'!I10=0, \"\", 'Ranking Sheet'!I10)","v":""},{"$f":"IF('Ranking Sheet'!K10=0, \"\", 'Ranking Sheet'!K10)","v":""},"Category Total Points","Total Points Possible",null,"Subtotal Points","Subtotal Points Possible"]
["Category",null,null,1,2,3,4]
["KICKS","Technique of Kicks",null,null,null,null,null,{"$f":"IF(D9=0, \"\", SUM(D9:G9))","v":""},"/",{"$f":"IF(D9=\"\", \"\", IF(G9<>0, 40, IF(F9<>0, 30, 20)))","v":""}]
[null,"Kick Height",null,null,null,null,null,{"$f":"IF(D10=0, \"\", SUM(D10:G10))","v":""},"/","",{"$f":"IF(D9=0, \"\", SUM(D9:G10))","v":""},"/",{"$f":"IF(D9=\"\", \"\", IF(G9<>0, 80, IF(F9<>0, 60, 40)))","v":""}]
["CHOREOGRAPHY","Creativity",null,null,null,null,null,{"$f":"IF(D11=0, \"\", SUM(D11:G11))","v":""},"/",""]
[null,"Visual Effectiveness",null,null,null,null,null,{"$f":"IF(D12=0, \"\", SUM(D12:G12))","v":""},"/","",{"$f":"IF(D11=0, \"\", SUM(D11:G12))","v":""},"/",{"$f":"IF(D11=\"\", \"\", IF(G11<>0, 80, IF(F11<>0, 60, 40)))","v":""}]
["DIFFICULTY","Diffuculty of Routine Choreography",null,null,null,null,null,{"$f":"IF(D13=0, \"\", SUM(D13:G13))","v":""},"/",""]
[null,"Difficulty of Formations and Transitions",null,null,null,null,null,{"$f":"IF(D14=0, \"\", SUM(D14:G14))","v":""},"/",""]
[null,"Difficulty of Kicks",null,null,null,null,null,{"$f":"IF(D15=0, \"\", SUM(D15:G15))","v":""},"/","",{"$f":"IF(D13=0, \"\", SUM(D13:G15))","v":""},"/",{"$f":"IF(D13=\"\", \"\", IF(G13<>0, 120, IF(F13<>0, 90, 60)))","v":""}]
["EXECUTION","Placement & Control",null,null,null,null,null,"","/",""]
[null,"Degree of Accuracy",null,null,null,null,null,"","/","",{"$f":"IF(D16=0, \"\", SUM(D16:G17))","v":""},"/",{"$f":"IF(D17=\"\", \"\", IF(G17<>0, 80, IF(F17<>0, 60, 40)))","v":""}]
["R.E.","Routine Effectiveness",null,null,null,null,null,"","/","",{"$f":"IF(D18=0, \"\", SUM(D18:G18))","v":""},"/",{"$f":"IF(D18=\"\", \"\", IF(G18<>0, 40, IF(F18<>0, 30, 20)))","v":""}]
[null,"SUB TOTALS",null,{"$f":"D9+D10+D11+D12+D13+D14+D15+D16+D17+D18","v":0},{"$f":"E9+E10+E11+E12+E13+E14+E15+E16+E17+E18","v":0},{"$f":"F9+F10+F11+F12+F13+F14+F15+F16+F17+F18","v":0},{"$f":"G9+G10+G11+G12+G13+G14+G15+G16+G17+G18","v":0},{"$f":"IF(D9=0, \"\", SUM(D19:G19))","v":""},"/",{"$f":"IF(D9=\"\", \"\", SUM(J9:J18))","v":""},{"$f":"IF(D9=0, \"\", SUM(K9:K18))","v":""},"/",{"$f":"IF(D9=\"\", \"\", SUM(M9:M18))","v":""}]
[null,"DEDUCTIONS \nEnter as a negative number i.e. -3 or DQ",null,null,null,null,null,{"$f":"IF(D20=\"\", \"\", IF(D20=\"DQ\",\"DQ\",SUM(D20:G20)))","v":""},null,null,{"$f":"IF(D20=\"\", \"\", IF(D20=\"DQ\",\"DQ\",SUM(D20:G20)))","v":""}]
[null,"TOTALS",null,{"$f":"IF(D20=\"DQ\", \"DQ\",SUM(D19+D20))","v":0},{"$f":"IF(E20=\"DQ\", \"DQ\",SUM(E19+E20))","v":0},{"$f":"IF(F20=\"DQ\", \"DQ\",SUM(F19+F20))","v":0},{"$f":"IF(G20=\"DQ\", \"DQ\",SUM(G19+G20))","v":0},{"$f":"IF(D9=0, \"\", IF(D20=\"DQ\",\"DQ\",SUM(D21:G21)))","v":""},"/",{"$f":"IF(D9=\"\", \"\", SUM(J9:J18))","v":""},{"$f":"IF(D9=0, \"\", IF(D20=\"DQ\",\"DQ\",SUM(K19:K20)))","v":""},"/",{"$f":"IF(D9=\"\", \"\", SUM(M9:M18))","v":""}]
[]
[null,"KC/T #1","Time:",null,"Kick Count:",null,null,null,null,null,null,"# Comp:"]
[null,"KC/T #2","Time:",null,"Kick Count:",null,null,null,null,null,null,"# Comp:"]
[null,"KC/T #3","Time:",null,"Kick Count:",null,null,null,null,null,null,"# Comp:"]

{"sheet":"Team13","index":17,"n_rows":25,"n_cols":13,"rows_kept":25,"cut":false,"hidden":false,"merged":[[0,0,0,12],[1,0,1,12],[3,2,3,6],[3,7,3,9],[3,10,3,12],[15,0,16,0],[15,1,15,2],[16,1,16,2],[6,8,7,9],[8,0,9,0],[4,10,4,12],[6,10,7,10],[6,11,7,12],[7,0,7,2],[20,1,20,2],[13,1,13,2],[14,1,14,2],[6,7,7,7],[12,1,12,2],[17,1,17,2],[12,0,14,0],[6,0,6,2],[22,4,22,6],[22,7,22,8],[4,2,4,6],[4,7,4,9],[19,1,19,2],[8,1,8,2],[9,1,9,2],[10,0,11,0],[23,4,23,6],[23,7,23,8],[24,4,24,6],[24,7,24,8],[10,1,10,2],[11,1,11,2]]}
["Minnesota State High School League Dance Team Competition"]
["High Kick Judges Recap Sheet"]
[]
[null,"School:",{"$f":"IF('Ranking Sheet'!B24=0, \"\", 'Ranking Sheet'!B24)","v":""},null,null,null,null,"Class:",null,null,{"$f":"IF(Class=0, \"\", Class)","v":""}]
[null,"Meet Site:",{"$f":"IF(Site=0, \"\", Site)","v":""},null,null,null,null,"Meet Date:",null,null,{"$f":"IF(DATE=0, \"\", DATE)","v":""}]
[]
["Judge's Initials → ",null,null,{"$f":"IF('Ranking Sheet'!E10=0, \"\", 'Ranking Sheet'!E10)","v":""},{"$f":"IF('Ranking Sheet'!G10=0, \"\", 'Ranking Sheet'!G10)","v":""},{"$f":"IF('Ranking Sheet'!I10=0, \"\", 'Ranking Sheet'!I10)","v":""},{"$f":"IF('Ranking Sheet'!K10=0, \"\", 'Ranking Sheet'!K10)","v":""},"Category Total Points","Total Points Possible",null,"Subtotal Points","Subtotal Points Possible"]
["Category",null,null,1,2,3,4]
["KICKS","Technique of Kicks",null,null,null,null,null,{"$f":"IF(D9=0, \"\", SUM(D9:G9))","v":""},"/",{"$f":"IF(D9=\"\", \"\", IF(G9<>0, 40, IF(F9<>0, 30, 20)))","v":""}]
[null,"Kick Height",null,null,null,null,null,{"$f":"IF(D10=0, \"\", SUM(D10:G10))","v":""},"/","",{"$f":"IF(D9=0, \"\", SUM(D9:G10))","v":""},"/",{"$f":"IF(D9=\"\", \"\", IF(G9<>0, 80, IF(F9<>0, 60, 40)))","v":""}]
["CHOREOGRAPHY","Creativity",null,null,null,null,null,{"$f":"IF(D11=0, \"\", SUM(D11:G11))","v":""},"/",""]
[null,"Visual Effectiveness",null,null,null,null,null,{"$f":"IF(D12=0, \"\", SUM(D12:G12))","v":""},"/","",{"$f":"IF(D11=0, \"\", SUM(D11:G12))","v":""},"/",{"$f":"IF(D11=\"\", \"\", IF(G11<>0, 80, IF(F11<>0, 60, 40)))","v":""}]
["DIFFICULTY","Diffuculty of Routine Choreography",null,null,null,null,null,{"$f":"IF(D13=0, \"\", SUM(D13:G13))","v":""},"/",""]
[null,"Difficulty of Formations and Transitions",null,null,null,null,null,{"$f":"IF(D14=0, \"\", SUM(D14:G14))","v":""},"/",""]
[null,"Difficulty of Kicks",null,null,null,null,null,{"$f":"IF(D15=0, \"\", SUM(D15:G15))","v":""},"/","",{"$f":"IF(D13=0, \"\", SUM(D13:G15))","v":""},"/",{"$f":"IF(D13=\"\", \"\", IF(G13<>0, 120, IF(F13<>0, 90, 60)))","v":""}]
["EXECUTION","Placement & Control",null,null,null,null,null,"","/",""]
[null,"Degree of Accuracy",null,null,null,null,null,"","/","",{"$f":"IF(D16=0, \"\", SUM(D16:G17))","v":""},"/",{"$f":"IF(D17=\"\", \"\", IF(G17<>0, 80, IF(F17<>0, 60, 40)))","v":""}]
["R.E.","Routine Effectiveness",null,null,null,null,null,"","/","",{"$f":"IF(D18=0, \"\", SUM(D18:G18))","v":""},"/",{"$f":"IF(D18=\"\", \"\", IF(G18<>0, 40, IF(F18<>0, 30, 20)))","v":""}]
[null,"SUB TOTALS",null,{"$f":"D9+D10+D11+D12+D13+D14+D15+D16+D17+D18","v":0},{"$f":"E9+E10+E11+E12+E13+E14+E15+E16+E17+E18","v":0},{"$f":"F9+F10+F11+F12+F13+F14+F15+F16+F17+F18","v":0},{"$f":"G9+G10+G11+G12+G13+G14+G15+G16+G17+G18","v":0},{"$f":"IF(D9=0, \"\", SUM(D19:G19))","v":""},"/",{"$f":"IF(D9=\"\", \"\", SUM(J9:J18))","v":""},{"$f":"IF(D9=0, \"\", SUM(K9:K18))","v":""},"/",{"$f":"IF(D9=\"\", \"\", SUM(M9:M18))","v":""}]
[null,"DEDUCTIONS \nEnter as a negative number i.e. -3 or DQ",null,null,null,null,null,{"$f":"IF(D20=\"\", \"\", IF(D20=\"DQ\",\"DQ\",SUM(D20:G20)))","v":""},null,null,{"$f":"IF(D20=\"\", \"\", IF(D20=\"DQ\",\"DQ\",SUM(D20:G20)))","v":""}]
[null,"TOTALS",null,{"$f":"IF(D20=\"DQ\", \"DQ\",SUM(D19+D20))","v":0},{"$f":"IF(E20=\"DQ\", \"DQ\",SUM(E19+E20))","v":0},{"$f":"IF(F20=\"DQ\", \"DQ\",SUM(F19+F20))","v":0},{"$f":"IF(G20=\"DQ\", \"DQ\",SUM(G19+G20))","v":0},{"$f":"IF(D9=0, \"\", IF(D20=\"DQ\",\"DQ\",SUM(D21:G21)))","v":""},"/",{"$f":"IF(D9=\"\", \"\", SUM(J9:J18))","v":""},{"$f":"IF(D9=0, \"\", IF(D20=\"DQ\",\"DQ\",SUM(K19:K20)))","v":""},"/",{"$f":"IF(D9=\"\", \"\", SUM(M9:M18))","v":""}]
[]
[null,"KC/T #1","Time:",null,"Kick Count:",null,null,null,null,null,null,"# Comp:"]
[null,"KC/T #2","Time:",null,"Kick Count:",null,null,null,null,null,null,"# Comp:"]
[null,"KC/T #3","Time:",null,"Kick Count:",null,null,null,null,null,null,"# Comp:"]

{"sheet":"Team14","index":18,"n_rows":25,"n_cols":13,"rows_kept":25,"cut":false,"hidden":false,"merged":[[0,0,0,12],[1,0,1,12],[3,2,3,6],[3,7,3,9],[3,10,3,12],[15,0,16,0],[15,1,15,2],[16,1,16,2],[6,8,7,9],[8,0,9,0],[4,10,4,12],[6,10,7,10],[6,11,7,12],[7,0,7,2],[20,1,20,2],[13,1,13,2],[14,1,14,2],[6,7,7,7],[12,1,12,2],[17,1,17,2],[12,0,14,0],[6,0,6,2],[22,4,22,6],[22,7,22,8],[4,2,4,6],[4,7,4,9],[19,1,19,2],[8,1,8,2],[9,1,9,2],[10,0,11,0],[23,4,23,6],[23,7,23,8],[24,4,24,6],[24,7,24,8],[10,1,10,2],[11,1,11,2]]}
["Minnesota State High School League Dance Team Competition"]
["High Kick Judges Recap Sheet"]
[]
[null,"School:",{"$f":"IF('Ranking Sheet'!B25=0, \"\", 'Ranking Sheet'!B25)","v":""},null,null,null,null,"Class:",null,null,{"$f":"IF(Class=0, \"\", Class)","v":""}]
[null,"Meet Site:",{"$f":"IF(Site=0, \"\", Site)","v":""},null,null,null,null,"Meet Date:",null,null,{"$f":"IF(DATE=0, \"\", DATE)","v":""}]
[]
["Judge's Initials → ",null,null,{"$f":"IF('Ranking Sheet'!E10=0, \"\", 'Ranking Sheet'!E10)","v":""},{"$f":"IF('Ranking Sheet'!G10=0, \"\", 'Ranking Sheet'!G10)","v":""},{"$f":"IF('Ranking Sheet'!I10=0, \"\", 'Ranking Sheet'!I10)","v":""},{"$f":"IF('Ranking Sheet'!K10=0, \"\", 'Ranking Sheet'!K10)","v":""},"Category Total Points","Total Points Possible",null,"Subtotal Points","Subtotal Points Possible"]
["Category",null,null,1,2,3,4]
["KICKS","Technique of Kicks",null,null,null,null,null,{"$f":"IF(D9=0, \"\", SUM(D9:G9))","v":""},"/",{"$f":"IF(D9=\"\", \"\", IF(G9<>0, 40, IF(F9<>0, 30, 20)))","v":""}]
[null,"Kick Height",null,null,null,null,null,{"$f":"IF(D10=0, \"\", SUM(D10:G10))","v":""},"/","",{"$f":"IF(D9=0, \"\", SUM(D9:G10))","v":""},"/",{"$f":"IF(D9=\"\", \"\", IF(G9<>0, 80, IF(F9<>0, 60, 40)))","v":""}]
["CHOREOGRAPHY","Creativity",null,null,null,null,null,{"$f":"IF(D11=0, \"\", SUM(D11:G11))","v":""},"/",""]
[null,"Visual Effectiveness",null,null,null,null,null,{"$f":"IF(D12=0, \"\", SUM(D12:G12))","v":""},"/","",{"$f":"IF(D11=0, \"\", SUM(D11:G12))","v":""},"/",{"$f":"IF(D11=\"\", \"\", IF(G11<>0, 80, IF(F11<>0, 60, 40)))","v":""}]
["DIFFICULTY","Diffuculty of Routine Choreography",null,null,null,null,null,{"$f":"IF(D13=0, \"\", SUM(D13:G13))","v":""},"/",""]
[null,"Difficulty of Formations and Transitions",null,null,null,null,null,{"$f":"IF(D14=0, \"\", SUM(D14:G14))","v":""},"/",""]
[null,"Difficulty of Kicks",null,null,null,null,null,{"$f":"IF(D15=0, \"\", SUM(D15:G15))","v":""},"/","",{"$f":"IF(D13=0, \"\", SUM(D13:G15))","v":""},"/",{"$f":"IF(D13=\"\", \"\", IF(G13<>0, 120, IF(F13<>0, 90, 60)))","v":""}]
["EXECUTION","Placement & Control",null,null,null,null,null,"","/",""]
[null,"Degree of Accuracy",null,null,null,null,null,"","/","",{"$f":"IF(D16=0, \"\", SUM(D16:G17))","v":""},"/",{"$f":"IF(D17=\"\", \"\", IF(G17<>0, 80, IF(F17<>0, 60, 40)))","v":""}]
["R.E.","Routine Effectiveness",null,null,null,null,null,"","/","",{"$f":"IF(D18=0, \"\", SUM(D18:G18))","v":""},"/",{"$f":"IF(D18=\"\", \"\", IF(G18<>0, 40, IF(F18<>0, 30, 20)))","v":""}]
[null,"SUB TOTALS",null,{"$f":"D9+D10+D11+D12+D13+D14+D15+D16+D17+D18","v":0},{"$f":"E9+E10+E11+E12+E13+E14+E15+E16+E17+E18","v":0},{"$f":"F9+F10+F11+F12+F13+F14+F15+F16+F17+F18","v":0},{"$f":"G9+G10+G11+G12+G13+G14+G15+G16+G17+G18","v":0},{"$f":"IF(D9=0, \"\", SUM(D19:G19))","v":""},"/",{"$f":"IF(D9=\"\", \"\", SUM(J9:J18))","v":""},{"$f":"IF(D9=0, \"\", SUM(K9:K18))","v":""},"/",{"$f":"IF(D9=\"\", \"\", SUM(M9:M18))","v":""}]
[null,"DEDUCTIONS \nEnter as a negative number i.e. -3 or DQ",null,null,null,null,null,{"$f":"IF(D20=\"\", \"\", IF(D20=\"DQ\",\"DQ\",SUM(D20:G20)))","v":""},null,null,{"$f":"IF(D20=\"\", \"\", IF(D20=\"DQ\",\"DQ\",SUM(D20:G20)))","v":""}]
[null,"TOTALS",null,{"$f":"IF(D20=\"DQ\", \"DQ\",SUM(D19+D20))","v":0},{"$f":"IF(E20=\"DQ\", \"DQ\",SUM(E19+E20))","v":0},{"$f":"IF(F20=\"DQ\", \"DQ\",SUM(F19+F20))","v":0},{"$f":"IF(G20=\"DQ\", \"DQ\",SUM(G19+G20))","v":0},{"$f":"IF(D9=0, \"\", IF(D20=\"DQ\",\"DQ\",SUM(D21:G21)))","v":""},"/",{"$f":"IF(D9=\"\", \"\", SUM(J9:J18))","v":""},{"$f":"IF(D9=0, \"\", IF(D20=\"DQ\",\"DQ\",SUM(K19:K20)))","v":""},"/",{"$f":"IF(D9=\"\", \"\", SUM(M9:M18))","v":""}]
[]
[null,"KC/T #1","Time:",null,"Kick Count:",null,null,null,null,null,null,"# Comp:"]
[null,"KC/T #2","Time:",null,"Kick Count:",null,null,null,null,null,null,"# Comp:"]
[null,"KC/T #3","Time:",null,"Kick Count:",null,null,null,null,null,null,"# Comp:"]

{"sheet":"Team15","index":19,"n_rows":25,"n_cols":13,"rows_kept":25,"cut":false,"hidden":false,"merged":[[0,0,0,12],[1,0,1,12],[3,2,3,6],[3,7,3,9],[3,10,3,12],[15,0,16,0],[15,1,15,2],[16,1,16,2],[6,8,7,9],[8,0,9,0],[4,10,4,12],[6,10,7,10],[6,11,7,12],[7,0,7,2],[20,1,20,2],[13,1,13,2],[14,1,14,2],[6,7,7,7],[12,1,12,2],[17,1,17,2],[12,0,14,0],[6,0,6,2],[22,4,22,6],[22,7,22,8],[4,2,4,6],[4,7,4,9],[19,1,19,2],[8,1,8,2],[9,1,9,2],[10,0,11,0],[23,4,23,6],[23,7,23,8],[24,4,24,6],[24,7,24,8],[10,1,10,2],[11,1,11,2]]}
["Minnesota State High School League Dance Team Competition"]
["High Kick Judges Recap Sheet"]
[]
[null,"School:",{"$f":"IF('Ranking Sheet'!B26=0, \"\", 'Ranking Sheet'!B26)","v":""},null,null,null,null,"Class:",null,null,{"$f":"IF(Class=0, \"\", Class)","v":""}]
[null,"Meet Site:",{"$f":"IF(Site=0, \"\", Site)","v":""},null,null,null,null,"Meet Date:",null,null,{"$f":"IF(DATE=0, \"\", DATE)","v":""}]
[]
["Judge's Initials → ",null,null,{"$f":"IF('Ranking Sheet'!E10=0, \"\", 'Ranking Sheet'!E10)","v":""},{"$f":"IF('Ranking Sheet'!G10=0, \"\", 'Ranking Sheet'!G10)","v":""},{"$f":"IF('Ranking Sheet'!I10=0, \"\", 'Ranking Sheet'!I10)","v":""},{"$f":"IF('Ranking Sheet'!K10=0, \"\", 'Ranking Sheet'!K10)","v":""},"Category Total Points","Total Points Possible",null,"Subtotal Points","Subtotal Points Possible"]
["Category",null,null,1,2,3,4]
["KICKS","Technique of Kicks",null,null,null,null,null,{"$f":"IF(D9=0, \"\", SUM(D9:G9))","v":""},"/",{"$f":"IF(D9=\"\", \"\", IF(G9<>0, 40, IF(F9<>0, 30, 20)))","v":""}]
[null,"Kick Height",null,null,null,null,null,{"$f":"IF(D10=0, \"\", SUM(D10:G10))","v":""},"/","",{"$f":"IF(D9=0, \"\", SUM(D9:G10))","v":""},"/",{"$f":"IF(D9=\"\", \"\", IF(G9<>0, 80, IF(F9<>0, 60, 40)))","v":""}]
["CHOREOGRAPHY","Creativity",null,null,null,null,null,{"$f":"IF(D11=0, \"\", SUM(D11:G11))","v":""},"/",""]
[null,"Visual Effectiveness",null,null,null,null,null,{"$f":"IF(D12=0, \"\", SUM(D12:G12))","v":""},"/","",{"$f":"IF(D11=0, \"\", SUM(D11:G12))","v":""},"/",{"$f":"IF(D11=\"\", \"\", IF(G11<>0, 80, IF(F11<>0, 60, 40)))","v":""}]
["DIFFICULTY","Diffuculty of Routine Choreography",null,null,null,null,null,{"$f":"IF(D13=0, \"\", SUM(D13:G13))","v":""},"/",""]
[null,"Difficulty of Formations and Transitions",null,null,null,null,null,{"$f":"IF(D14=0, \"\", SUM(D14:G14))","v":""},"/",""]
[null,"Difficulty of Kicks",null,null,null,null,null,{"$f":"IF(D15=0, \"\", SUM(D15:G15))","v":""},"/","",{"$f":"IF(D13=0, \"\", SUM(D13:G15))","v":""},"/",{"$f":"IF(D13=\"\", \"\", IF(G13<>0, 120, IF(F13<>0, 90, 60)))","v":""}]
["EXECUTION","Placement & Control",null,null,null,null,null,"","/",""]
[null,"Degree of Accuracy",null,null,null,null,null,"","/","",{"$f":"IF(D16=0, \"\", SUM(D16:G17))","v":""},"/",{"$f":"IF(D17=\"\", \"\", IF(G17<>0, 80, IF(F17<>0, 60, 40)))","v":""}]
["R.E.","Routine Effectiveness",null,null,null,null,null,"","/","",{"$f":"IF(D18=0, \"\", SUM(D18:G18))","v":""},"/",{"$f":"IF(D18=\"\", \"\", IF(G18<>0, 40, IF(F18<>0, 30, 20)))","v":""}]
[null,"SUB TOTALS",null,{"$f":"D9+D10+D11+D12+D13+D14+D15+D16+D17+D18","v":0},{"$f":"E9+E10+E11+E12+E13+E14+E15+E16+E17+E18","v":0},{"$f":"F9+F10+F11+F12+F13+F14+F15+F16+F17+F18","v":0},{"$f":"G9+G10+G11+G12+G13+G14+G15+G16+G17+G18","v":0},{"$f":"IF(D9=0, \"\", SUM(D19:G19))","v":""},"/",{"$f":"IF(D9=\"\", \"\", SUM(J9:J18))","v":""},{"$f":"IF(D9=0, \"\", SUM(K9:K18))","v":""},"/",{"$f":"IF(D9=\"\", \"\", SUM(M9:M18))","v":""}]
[null,"DEDUCTIONS \nEnter as a negative number i.e. -3 or DQ",null,null,null,null,null,{"$f":"IF(D20=\"\", \"\", IF(D20=\"DQ\",\"DQ\",SUM(D20:G20)))","v":""},null,null,{"$f":"IF(D20=\"\", \"\", IF(D20=\"DQ\",\"DQ\",SUM(D20:G20)))","v":""}]
[null,"TOTALS",null,{"$f":"IF(D20=\"DQ\", \"DQ\",SUM(D19+D20))","v":0},{"$f":"IF(E20=\"DQ\", \"DQ\",SUM(E19+E20))","v":0},{"$f":"IF(F20=\"DQ\", \"DQ\",SUM(F19+F20))","v":0},{"$f":"IF(G20=\"DQ\", \"DQ\",SUM(G19+G20))","v":0},{"$f":"IF(D9=0, \"\", IF(D20=\"DQ\",\"DQ\",SUM(D21:G21)))","v":""},"/",{"$f":"IF(D9=\"\", \"\", SUM(J9:J18))","v":""},{"$f":"IF(D9=0, \"\", IF(D20=\"DQ\",\"DQ\",SUM(K19:K20)))","v":""},"/",{"$f":"IF(D9=\"\", \"\", SUM(M9:M18))","v":""}]
[]
[null,"KC/T #1","Time:",null,"Kick Count:",null,null,null,null,null,null,"# Comp:"]
[null,"KC/T #2","Time:",null,"Kick Count:",null,null,null,null,null,null,"# Comp:"]
[null,"KC/T #3","Time:",null,"Kick Count:",null,null,null,null,null,null,"# Comp:"]

{"sheet":"Team16","index":20,"n_rows":25,"n_cols":13,"rows_kept":25,"cut":false,"hidden":false,"merged":[[0,0,0,12],[1,0,1,12],[3,2,3,6],[3,7,3,9],[3,10,3,12],[15,0,16,0],[15,1,15,2],[16,1,16,2],[6,8,7,9],[8,0,9,0],[4,10,4,12],[6,10,7,10],[6,11,7,12],[7,0,7,2],[20,1,20,2],[13,1,13,2],[14,1,14,2],[6,7,7,7],[12,1,12,2],[17,1,17,2],[12,0,14,0],[6,0,6,2],[22,4,22,6],[22,7,22,8],[4,2,4,6],[4,7,4,9],[19,1,19,2],[8,1,8,2],[9,1,9,2],[10,0,11,0],[23,4,23,6],[23,7,23,8],[24,4,24,6],[24,7,24,8],[10,1,10,2],[11,1,11,2]]}
["Minnesota State High School League Dance Team Competition"]
["High Kick Judges Recap Sheet"]
[]
[null,"School:",{"$f":"IF('Ranking Sheet'!B27=0, \"\", 'Ranking Sheet'!B27)","v":""},null,null,null,null,"Class:",null,null,{"$f":"IF(Class=0, \"\", Class)","v":""}]
[null,"Meet Site:",{"$f":"IF(Site=0, \"\", Site)","v":""},null,null,null,null,"Meet Date:",null,null,{"$f":"IF(DATE=0, \"\", DATE)","v":""}]
[]
["Judge's Initials → ",null,null,{"$f":"IF('Ranking Sheet'!E10=0, \"\", 'Ranking Sheet'!E10)","v":""},{"$f":"IF('Ranking Sheet'!G10=0, \"\", 'Ranking Sheet'!G10)","v":""},{"$f":"IF('Ranking Sheet'!I10=0, \"\", 'Ranking Sheet'!I10)","v":""},{"$f":"IF('Ranking Sheet'!K10=0, \"\", 'Ranking Sheet'!K10)","v":""},"Category Total Points","Total Points Possible",null,"Subtotal Points","Subtotal Points Possible"]
["Category",null,null,1,2,3,4]
["KICKS","Technique of Kicks",null,null,null,null,null,{"$f":"IF(D9=0, \"\", SUM(D9:G9))","v":""},"/",{"$f":"IF(D9=\"\", \"\", IF(G9<>0, 40, IF(F9<>0, 30, 20)))","v":""}]
[null,"Kick Height",null,null,null,null,null,{"$f":"IF(D10=0, \"\", SUM(D10:G10))","v":""},"/","",{"$f":"IF(D9=0, \"\", SUM(D9:G10))","v":""},"/",{"$f":"IF(D9=\"\", \"\", IF(G9<>0, 80, IF(F9<>0, 60, 40)))","v":""}]
["CHOREOGRAPHY","Creativity",null,null,null,null,null,{"$f":"IF(D11=0, \"\", SUM(D11:G11))","v":""},"/",""]
[null,"Visual Effectiveness",null,null,null,null,null,{"$f":"IF(D12=0, \"\", SUM(D12:G12))","v":""},"/","",{"$f":"IF(D11=0, \"\", SUM(D11:G12))","v":""},"/",{"$f":"IF(D11=\"\", \"\", IF(G11<>0, 80, IF(F11<>0, 60, 40)))","v":""}]
["DIFFICULTY","Diffuculty of Routine Choreography",null,null,null,null,null,{"$f":"IF(D13=0, \"\", SUM(D13:G13))","v":""},"/",""]
[null,"Difficulty of Formations and Transitions",null,null,null,null,null,{"$f":"IF(D14=0, \"\", SUM(D14:G14))","v":""},"/",""]
[null,"Difficulty of Kicks",null,null,null,null,null,{"$f":"IF(D15=0, \"\", SUM(D15:G15))","v":""},"/","",{"$f":"IF(D13=0, \"\", SUM(D13:G15))","v":""},"/",{"$f":"IF(D13=\"\", \"\", IF(G13<>0, 120, IF(F13<>0, 90, 60)))","v":""}]
["EXECUTION","Placement & Control",null,null,null,null,null,"","/",""]
[null,"Degree of Accuracy",null,null,null,null,null,"","/","",{"$f":"IF(D16=0, \"\", SUM(D16:G17))","v":""},"/",{"$f":"IF(D17=\"\", \"\", IF(G17<>0, 80, IF(F17<>0, 60, 40)))","v":""}]
["R.E.","Routine Effectiveness",null,null,null,null,null,"","/","",{"$f":"IF(D18=0, \"\", SUM(D18:G18))","v":""},"/",{"$f":"IF(D18=\"\", \"\", IF(G18<>0, 40, IF(F18<>0, 30, 20)))","v":""}]
[null,"SUB TOTALS",null,{"$f":"D9+D10+D11+D12+D13+D14+D15+D16+D17+D18","v":0},{"$f":"E9+E10+E11+E12+E13+E14+E15+E16+E17+E18","v":0},{"$f":"F9+F10+F11+F12+F13+F14+F15+F16+F17+F18","v":0},{"$f":"G9+G10+G11+G12+G13+G14+G15+G16+G17+G18","v":0},{"$f":"IF(D9=0, \"\", SUM(D19:G19))","v":""},"/",{"$f":"IF(D9=\"\", \"\", SUM(J9:J18))","v":""},{"$f":"IF(D9=0, \"\", SUM(K9:K18))","v":""},"/",{"$f":"IF(D9=\"\", \"\", SUM(M9:M18))","v":""}]
[null,"DEDUCTIONS \nEnter as a negative number i.e. -3 or DQ",null,null,null,null,null,{"$f":"IF(D20=\"\", \"\", IF(D20=\"DQ\",\"DQ\",SUM(D20:G20)))","v":""},null,null,{"$f":"IF(D20=\"\", \"\", IF(D20=\"DQ\",\"DQ\",SUM(D20:G20)))","v":""}]
[null,"TOTALS",null,{"$f":"IF(D20=\"DQ\", \"DQ\",SUM(D19+D20))","v":0},{"$f":"IF(E20=\"DQ\", \"DQ\",SUM(E19+E20))","v":0},{"$f":"IF(F20=\"DQ\", \"DQ\",SUM(F19+F20))","v":0},{"$f":"IF(G20=\"DQ\", \"DQ\",SUM(G19+G20))","v":0},{"$f":"IF(D9=0, \"\", IF(D20=\"DQ\",\"DQ\",SUM(D21:G21)))","v":""},"/",{"$f":"IF(D9=\"\", \"\", SUM(J9:J18))","v":""},{"$f":"IF(D9=0, \"\", IF(D20=\"DQ\",\"DQ\",SUM(K19:K20)))","v":""},"/",{"$f":"IF(D9=\"\", \"\", SUM(M9:M18))","v":""}]
[]
[null,"KC/T #1","Time:",null,"Kick Count:",null,null,null,null,null,null,"# Comp:"]
[null,"KC/T #2","Time:",null,"Kick Count:",null,null,null,null,null,null,"# Comp:"]
[null,"KC/T #3","Time:",null,"Kick Count:",null,null,null,null,null,null,"# Comp:"]

{"sheet":"Team17","index":21,"n_rows":25,"n_cols":13,"rows_kept":25,"cut":false,"hidden":false,"merged":[[0,0,0,12],[1,0,1,12],[3,2,3,6],[3,7,3,9],[3,10,3,12],[15,0,16,0],[15,1,15,2],[16,1,16,2],[6,8,7,9],[8,0,9,0],[4,10,4,12],[6,10,7,10],[6,11,7,12],[7,0,7,2],[20,1,20,2],[13,1,13,2],[14,1,14,2],[6,7,7,7],[12,1,12,2],[17,1,17,2],[12,0,14,0],[6,0,6,2],[22,4,22,6],[22,7,22,8],[4,2,4,6],[4,7,4,9],[19,1,19,2],[8,1,8,2],[9,1,9,2],[10,0,11,0],[23,4,23,6],[23,7,23,8],[24,4,24,6],[24,7,24,8],[10,1,10,2],[11,1,11,2]]}
["Minnesota State High School League Dance Team Competition"]
["High Kick Judges Recap Sheet"]
[]
[null,"School:",{"$f":"IF('Ranking Sheet'!B28=0, \"\", 'Ranking Sheet'!B28)","v":""},null,null,null,null,"Class:",null,null,{"$f":"IF(Class=0, \"\", Class)","v":""}]
[null,"Meet Site:",{"$f":"IF(Site=0, \"\", Site)","v":""},null,null,null,null,"Meet Date:",null,null,{"$f":"IF(DATE=0, \"\", DATE)","v":""}]
[]
["Judge's Initials → ",null,null,{"$f":"IF('Ranking Sheet'!E10=0, \"\", 'Ranking Sheet'!E10)","v":""},{"$f":"IF('Ranking Sheet'!G10=0, \"\", 'Ranking Sheet'!G10)","v":""},{"$f":"IF('Ranking Sheet'!I10=0, \"\", 'Ranking Sheet'!I10)","v":""},{"$f":"IF('Ranking Sheet'!K10=0, \"\", 'Ranking Sheet'!K10)","v":""},"Category Total Points","Total Points Possible",null,"Subtotal Points","Subtotal Points Possible"]
["Category",null,null,1,2,3,4]
["KICKS","Technique of Kicks",null,null,null,null,null,{"$f":"IF(D9=0, \"\", SUM(D9:G9))","v":""},"/",{"$f":"IF(D9=\"\", \"\", IF(G9<>0, 40, IF(F9<>0, 30, 20)))","v":""}]
[null,"Kick Height",null,null,null,null,null,{"$f":"IF(D10=0, \"\", SUM(D10:G10))","v":""},"/","",{"$f":"IF(D9=0, \"\", SUM(D9:G10))","v":""},"/",{"$f":"IF(D9=\"\", \"\", IF(G9<>0, 80, IF(F9<>0, 60, 40)))","v":""}]
["CHOREOGRAPHY","Creativity",null,null,null,null,null,{"$f":"IF(D11=0, \"\", SUM(D11:G11))","v":""},"/",""]
[null,"Visual Effectiveness",null,null,null,null,null,{"$f":"IF(D12=0, \"\", SUM(D12:G12))","v":""},"/","",{"$f":"IF(D11=0, \"\", SUM(D11:G12))","v":""},"/",{"$f":"IF(D11=\"\", \"\", IF(G11<>0, 80, IF(F11<>0, 60, 40)))","v":""}]
["DIFFICULTY","Diffuculty of Routine Choreography",null,null,null,null,null,{"$f":"IF(D13=0, \"\", SUM(D13:G13))","v":""},"/",""]
[null,"Difficulty of Formations and Transitions",null,null,null,null,null,{"$f":"IF(D14=0, \"\", SUM(D14:G14))","v":""},"/",""]
[null,"Difficulty of Kicks",null,null,null,null,null,{"$f":"IF(D15=0, \"\", SUM(D15:G15))","v":""},"/","",{"$f":"IF(D13=0, \"\", SUM(D13:G15))","v":""},"/",{"$f":"IF(D13=\"\", \"\", IF(G13<>0, 120, IF(F13<>0, 90, 60)))","v":""}]
["EXECUTION","Placement & Control",null,null,null,null,null,"","/",""]
[null,"Degree of Accuracy",null,null,null,null,null,"","/","",{"$f":"IF(D16=0, \"\", SUM(D16:G17))","v":""},"/",{"$f":"IF(D17=\"\", \"\", IF(G17<>0, 80, IF(F17<>0, 60, 40)))","v":""}]
["R.E.","Routine Effectiveness",null,null,null,null,null,"","/","",{"$f":"IF(D18=0, \"\", SUM(D18:G18))","v":""},"/",{"$f":"IF(D18=\"\", \"\", IF(G18<>0, 40, IF(F18<>0, 30, 20)))","v":""}]
[null,"SUB TOTALS",null,{"$f":"D9+D10+D11+D12+D13+D14+D15+D16+D17+D18","v":0},{"$f":"E9+E10+E11+E12+E13+E14+E15+E16+E17+E18","v":0},{"$f":"F9+F10+F11+F12+F13+F14+F15+F16+F17+F18","v":0},{"$f":"G9+G10+G11+G12+G13+G14+G15+G16+G17+G18","v":0},{"$f":"IF(D9=0, \"\", SUM(D19:G19))","v":""},"/",{"$f":"IF(D9=\"\", \"\", SUM(J9:J18))","v":""},{"$f":"IF(D9=0, \"\", SUM(K9:K18))","v":""},"/",{"$f":"IF(D9=\"\", \"\", SUM(M9:M18))","v":""}]
[null,"DEDUCTIONS \nEnter as a negative number i.e. -3 or DQ",null,null,null,null,null,{"$f":"IF(D20=\"\", \"\", IF(D20=\"DQ\",\"DQ\",SUM(D20:G20)))","v":""},null,null,{"$f":"IF(D20=\"\", \"\", IF(D20=\"DQ\",\"DQ\",SUM(D20:G20)))","v":""}]
[null,"TOTALS",null,{"$f":"IF(D20=\"DQ\", \"DQ\",SUM(D19+D20))","v":0},{"$f":"IF(E20=\"DQ\", \"DQ\",SUM(E19+E20))","v":0},{"$f":"IF(F20=\"DQ\", \"DQ\",SUM(F19+F20))","v":0},{"$f":"IF(G20=\"DQ\", \"DQ\",SUM(G19+G20))","v":0},{"$f":"IF(D9=0, \"\", IF(D20=\"DQ\",\"DQ\",SUM(D21:G21)))","v":""},"/",{"$f":"IF(D9=\"\", \"\", SUM(J9:J18))","v":""},{"$f":"IF(D9=0, \"\", IF(D20=\"DQ\",\"DQ\",SUM(K19:K20)))","v":""},"/",{"$f":"IF(D9=\"\", \"\", SUM(M9:M18))","v":""}]
[]
[null,"KC/T #1","Time:",null,"Kick Count:",null,null,null,null,null,null,"# Comp:"]
[null,"KC/T #2","Time:",null,"Kick Count:",null,null,null,null,null,null,"# Comp:"]
[null,"KC/T #3","Time:",null,"Kick Count:",null,null,null,null,null,null,"# Comp:"]

{"sheet":"Team18","index":22,"n_rows":25,"n_cols":13,"rows_kept":25,"cut":false,"hidden":false,"merged":[[0,0,0,12],[1,0,1,12],[3,2,3,6],[3,7,3,9],[3,10,3,12],[15,0,16,0],[15,1,15,2],[16,1,16,2],[6,8,7,9],[8,0,9,0],[4,10,4,12],[6,10,7,10],[6,11,7,12],[7,0,7,2],[20,1,20,2],[13,1,13,2],[14,1,14,2],[6,7,7,7],[12,1,12,2],[17,1,17,2],[12,0,14,0],[6,0,6,2],[22,4,22,6],[22,7,22,8],[4,2,4,6],[4,7,4,9],[19,1,19,2],[8,1,8,2],[9,1,9,2],[10,0,11,0],[23,4,23,6],[23,7,23,8],[24,4,24,6],[24,7,24,8],[10,1,10,2],[11,1,11,2]]}
["Minnesota State High School League Dance Team Competition"]
["High Kick Judges Recap Sheet"]
[]
[null,"School:",{"$f":"IF('Ranking Sheet'!B29=0, \"\", 'Ranking Sheet'!B29)","v":""},null,null,null,null,"Class:",null,null,{"$f":"IF(Class=0, \"\", Class)","v":""}]
[null,"Meet Site:",{"$f":"IF(Site=0, \"\", Site)","v":""},null,null,null,null,"Meet Date:",null,null,{"$f":"IF(DATE=0, \"\", DATE)","v":""}]
[]
["Judge's Initials → ",null,null,{"$f":"IF('Ranking Sheet'!E10=0, \"\", 'Ranking Sheet'!E10)","v":""},{"$f":"IF('Ranking Sheet'!G10=0, \"\", 'Ranking Sheet'!G10)","v":""},{"$f":"IF('Ranking Sheet'!I10=0, \"\", 'Ranking Sheet'!I10)","v":""},{"$f":"IF('Ranking Sheet'!K10=0, \"\", 'Ranking Sheet'!K10)","v":""},"Category Total Points","Total Points Possible",null,"Subtotal Points","Subtotal Points Possible"]
["Category",null,null,1,2,3,4]
["KICKS","Technique of Kicks",null,null,null,null,null,{"$f":"IF(D9=0, \"\", SUM(D9:G9))","v":""},"/",{"$f":"IF(D9=\"\", \"\", IF(G9<>0, 40, IF(F9<>0, 30, 20)))","v":""}]
[null,"Kick Height",null,null,null,null,null,{"$f":"IF(D10=0, \"\", SUM(D10:G10))","v":""},"/","",{"$f":"IF(D9=0, \"\", SUM(D9:G10))","v":""},"/",{"$f":"IF(D9=\"\", \"\", IF(G9<>0, 80, IF(F9<>0, 60, 40)))","v":""}]
["CHOREOGRAPHY","Creativity",null,null,null,null,null,{"$f":"IF(D11=0, \"\", SUM(D11:G11))","v":""},"/",""]
[null,"Visual Effectiveness",null,null,null,null,null,{"$f":"IF(D12=0, \"\", SUM(D12:G12))","v":""},"/","",{"$f":"IF(D11=0, \"\", SUM(D11:G12))","v":""},"/",{"$f":"IF(D11=\"\", \"\", IF(G11<>0, 80, IF(F11<>0, 60, 40)))","v":""}]
["DIFFICULTY","Diffuculty of Routine Choreography",null,null,null,null,null,{"$f":"IF(D13=0, \"\", SUM(D13:G13))","v":""},"/",""]
[null,"Difficulty of Formations and Transitions",null,null,null,null,null,{"$f":"IF(D14=0, \"\", SUM(D14:G14))","v":""},"/",""]
[null,"Difficulty of Kicks",null,null,null,null,null,{"$f":"IF(D15=0, \"\", SUM(D15:G15))","v":""},"/","",{"$f":"IF(D13=0, \"\", SUM(D13:G15))","v":""},"/",{"$f":"IF(D13=\"\", \"\", IF(G13<>0, 120, IF(F13<>0, 90, 60)))","v":""}]
["EXECUTION","Placement & Control",null,null,null,null,null,"","/",""]
[null,"Degree of Accuracy",null,null,null,null,null,"","/","",{"$f":"IF(D16=0, \"\", SUM(D16:G17))","v":""},"/",{"$f":"IF(D17=\"\", \"\", IF(G17<>0, 80, IF(F17<>0, 60, 40)))","v":""}]
["R.E.","Routine Effectiveness",null,null,null,null,null,"","/","",{"$f":"IF(D18=0, \"\", SUM(D18:G18))","v":""},"/",{"$f":"IF(D18=\"\", \"\", IF(G18<>0, 40, IF(F18<>0, 30, 20)))","v":""}]
[null,"SUB TOTALS",null,{"$f":"D9+D10+D11+D12+D13+D14+D15+D16+D17+D18","v":0},{"$f":"E9+E10+E11+E12+E13+E14+E15+E16+E17+E18","v":0},{"$f":"F9+F10+F11+F12+F13+F14+F15+F16+F17+F18","v":0},{"$f":"G9+G10+G11+G12+G13+G14+G15+G16+G17+G18","v":0},{"$f":"IF(D9=0, \"\", SUM(D19:G19))","v":""},"/",{"$f":"IF(D9=\"\", \"\", SUM(J9:J18))","v":""},{"$f":"IF(D9=0, \"\", SUM(K9:K18))","v":""},"/",{"$f":"IF(D9=\"\", \"\", SUM(M9:M18))","v":""}]
[null,"DEDUCTIONS \nEnter as a negative number i.e. -3 or DQ",null,null,null,null,null,{"$f":"IF(D20=\"\", \"\", IF(D20=\"DQ\",\"DQ\",SUM(D20:G20)))","v":""},null,null,{"$f":"IF(D20=\"\", \"\", IF(D20=\"DQ\",\"DQ\",SUM(D20:G20)))","v":""}]
[null,"TOTALS",null,{"$f":"IF(D20=\"DQ\", \"DQ\",SUM(D19+D20))","v":0},{"$f":"IF(E20=\"DQ\", \"DQ\",SUM(E19+E20))","v":0},{"$f":"IF(F20=\"DQ\", \"DQ\",SUM(F19+F20))","v":0},{"$f":"IF(G20=\"DQ\", \"DQ\",SUM(G19+G20))","v":0},{"$f":"IF(D9=0, \"\", IF(D20=\"DQ\",\"DQ\",SUM(D21:G21)))","v":""},"/",{"$f":"IF(D9=\"\", \"\", SUM(J9:J18))","v":""},{"$f":"IF(D9=0, \"\", IF(D20=\"DQ\",\"DQ\",SUM(K19:K20)))","v":""},"/",{"$f":"IF(D9=\"\", \"\", SUM(M9:M18))","v":""}]
[]
[null,"KC/T #1","Time:",null,"Kick Count:",null,null,null,null,null,null,"# Comp:"]
[null,"KC/T #2","Time:",null,"Kick Count:",null,null,null,null,null,null,"# Comp:"]
[null,"KC/T #3","Time:",null,"Kick Count:",null,null,null,null,null,null,"# Comp:"]

{"sheet":"Team19","index":23,"n_rows":25,"n_cols":13,"rows_kept":25,"cut":false,"hidden":false,"merged":[[0,0,0,12],[1,0,1,12],[3,2,3,6],[3,7,3,9],[3,10,3,12],[15,0,16,0],[15,1,15,2],[16,1,16,2],[6,8,7,9],[8,0,9,0],[4,10,4,12],[6,10,7,10],[6,11,7,12],[7,0,7,2],[20,1,20,2],[13,1,13,2],[14,1,14,2],[6,7,7,7],[12,1,12,2],[17,1,17,2],[12,0,14,0],[6,0,6,2],[22,4,22,6],[22,7,22,8],[4,2,4,6],[4,7,4,9],[19,1,19,2],[8,1,8,2],[9,1,9,2],[10,0,11,0],[23,4,23,6],[23,7,23,8],[24,4,24,6],[24,7,24,8],[10,1,10,2],[11,1,11,2]]}
["Minnesota State High School League Dance Team Competition"]
["High Kick Judges Recap Sheet"]
[]
[null,"School:",{"$f":"IF('Ranking Sheet'!B30=0, \"\", 'Ranking Sheet'!B30)","v":""},null,null,null,null,"Class:",null,null,{"$f":"IF(Class=0, \"\", Class)","v":""}]
[null,"Meet Site:",{"$f":"IF(Site=0, \"\", Site)","v":""},null,null,null,null,"Meet Date:",null,null,{"$f":"IF(DATE=0, \"\", DATE)","v":""}]
[]
["Judge's Initials → ",null,null,{"$f":"IF('Ranking Sheet'!E10=0, \"\", 'Ranking Sheet'!E10)","v":""},{"$f":"IF('Ranking Sheet'!G10=0, \"\", 'Ranking Sheet'!G10)","v":""},{"$f":"IF('Ranking Sheet'!I10=0, \"\", 'Ranking Sheet'!I10)","v":""},{"$f":"IF('Ranking Sheet'!K10=0, \"\", 'Ranking Sheet'!K10)","v":""},"Category Total Points","Total Points Possible",null,"Subtotal Points","Subtotal Points Possible"]
["Category",null,null,1,2,3,4]
["KICKS","Technique of Kicks",null,null,null,null,null,{"$f":"IF(D9=0, \"\", SUM(D9:G9))","v":""},"/",{"$f":"IF(D9=\"\", \"\", IF(G9<>0, 40, IF(F9<>0, 30, 20)))","v":""}]
[null,"Kick Height",null,null,null,null,null,{"$f":"IF(D10=0, \"\", SUM(D10:G10))","v":""},"/","",{"$f":"IF(D9=0, \"\", SUM(D9:G10))","v":""},"/",{"$f":"IF(D9=\"\", \"\", IF(G9<>0, 80, IF(F9<>0, 60, 40)))","v":""}]
["CHOREOGRAPHY","Creativity",null,null,null,null,null,{"$f":"IF(D11=0, \"\", SUM(D11:G11))","v":""},"/",""]
[null,"Visual Effectiveness",null,null,null,null,null,{"$f":"IF(D12=0, \"\", SUM(D12:G12))","v":""},"/","",{"$f":"IF(D11=0, \"\", SUM(D11:G12))","v":""},"/",{"$f":"IF(D11=\"\", \"\", IF(G11<>0, 80, IF(F11<>0, 60, 40)))","v":""}]
["DIFFICULTY","Diffuculty of Routine Choreography",null,null,null,null,null,{"$f":"IF(D13=0, \"\", SUM(D13:G13))","v":""},"/",""]
[null,"Difficulty of Formations and Transitions",null,null,null,null,null,{"$f":"IF(D14=0, \"\", SUM(D14:G14))","v":""},"/",""]
[null,"Difficulty of Kicks",null,null,null,null,null,{"$f":"IF(D15=0, \"\", SUM(D15:G15))","v":""},"/","",{"$f":"IF(D13=0, \"\", SUM(D13:G15))","v":""},"/",{"$f":"IF(D13=\"\", \"\", IF(G13<>0, 120, IF(F13<>0, 90, 60)))","v":""}]
["EXECUTION","Placement & Control",null,null,null,null,null,"","/",""]
[null,"Degree of Accuracy",null,null,null,null,null,"","/","",{"$f":"IF(D16=0, \"\", SUM(D16:G17))","v":""},"/",{"$f":"IF(D17=\"\", \"\", IF(G17<>0, 80, IF(F17<>0, 60, 40)))","v":""}]
["R.E.","Routine Effectiveness",null,null,null,null,null,"","/","",{"$f":"IF(D18=0, \"\", SUM(D18:G18))","v":""},"/",{"$f":"IF(D18=\"\", \"\", IF(G18<>0, 40, IF(F18<>0, 30, 20)))","v":""}]
[null,"SUB TOTALS",null,{"$f":"D9+D10+D11+D12+D13+D14+D15+D16+D17+D18","v":0},{"$f":"E9+E10+E11+E12+E13+E14+E15+E16+E17+E18","v":0},{"$f":"F9+F10+F11+F12+F13+F14+F15+F16+F17+F18","v":0},{"$f":"G9+G10+G11+G12+G13+G14+G15+G16+G17+G18","v":0},{"$f":"IF(D9=0, \"\", SUM(D19:G19))","v":""},"/",{"$f":"IF(D9=\"\", \"\", SUM(J9:J18))","v":""},{"$f":"IF(D9=0, \"\", SUM(K9:K18))","v":""},"/",{"$f":"IF(D9=\"\", \"\", SUM(M9:M18))","v":""}]
[null,"DEDUCTIONS \nEnter as a negative number i.e. -3 or DQ",null,null,null,null,null,{"$f":"IF(D20=\"\", \"\", IF(D20=\"DQ\",\"DQ\",SUM(D20:G20)))","v":""},null,null,{"$f":"IF(D20=\"\", \"\", IF(D20=\"DQ\",\"DQ\",SUM(D20:G20)))","v":""}]
[null,"TOTALS",null,{"$f":"IF(D20=\"DQ\", \"DQ\",SUM(D19+D20))","v":0},{"$f":"IF(E20=\"DQ\", \"DQ\",SUM(E19+E20))","v":0},{"$f":"IF(F20=\"DQ\", \"DQ\",SUM(F19+F20))","v":0},{"$f":"IF(G20=\"DQ\", \"DQ\",SUM(G19+G20))","v":0},{"$f":"IF(D9=0, \"\", IF(D20=\"DQ\",\"DQ\",SUM(D21:G21)))","v":""},"/",{"$f":"IF(D9=\"\", \"\", SUM(J9:J18))","v":""},{"$f":"IF(D9=0, \"\", IF(D20=\"DQ\",\"DQ\",SUM(K19:K20)))","v":""},"/",{"$f":"IF(D9=\"\", \"\", SUM(M9:M18))","v":""}]
[]
[null,"KC/T #1","Time:",null,"Kick Count:",null,null,null,null,null,null,"# Comp:"]
[null,"KC/T #2","Time:",null,"Kick Count:",null,null,null,null,null,null,"# Comp:"]
[null,"KC/T #3","Time:",null,"Kick Count:",null,null,null,null,null,null,"# Comp:"]

{"sheet":"Team20","index":24,"n_rows":25,"n_cols":13,"rows_kept":25,"cut":false,"hidden":false,"merged":[[0,0,0,12],[1,0,1,12],[3,2,3,6],[3,7,3,9],[3,10,3,12],[15,0,16,0],[15,1,15,2],[16,1,16,2],[6,8,7,9],[8,0,9,0],[4,10,4,12],[6,10,7,10],[6,11,7,12],[7,0,7,2],[20,1,20,2],[13,1,13,2],[14,1,14,2],[6,7,7,7],[12,1,12,2],[17,1,17,2],[12,0,14,0],[6,0,6,2],[22,4,22,6],[22,7,22,8],[4,2,4,6],[4,7,4,9],[19,1,19,2],[8,1,8,2],[9,1,9,2],[10,0,11,0],[23,4,23,6],[23,7,23,8],[24,4,24,6],[24,7,24,8],[10,1,10,2],[11,1,11,2]]}
["Minnesota State High School League Dance Team Competition"]
["High Kick Judges Recap Sheet"]
[]
[null,"School:",{"$f":"IF('Ranking Sheet'!B31=0, \"\", 'Ranking Sheet'!B31)","v":""},null,null,null,null,"Class:",null,null,{"$f":"IF(Class=0, \"\", Class)","v":""}]
[null,"Meet Site:",{"$f":"IF(Site=0, \"\", Site)","v":""},null,null,null,null,"Meet Date:",null,null,{"$f":"IF(DATE=0, \"\", DATE)","v":""}]
[]
["Judge's Initials → ",null,null,{"$f":"IF('Ranking Sheet'!E10=0, \"\", 'Ranking Sheet'!E10)","v":""},{"$f":"IF('Ranking Sheet'!G10=0, \"\", 'Ranking Sheet'!G10)","v":""},{"$f":"IF('Ranking Sheet'!I10=0, \"\", 'Ranking Sheet'!I10)","v":""},{"$f":"IF('Ranking Sheet'!K10=0, \"\", 'Ranking Sheet'!K10)","v":""},"Category Total Points","Total Points Possible",null,"Subtotal Points","Subtotal Points Possible"]
["Category",null,null,1,2,3,4]
["KICKS","Technique of Kicks",null,null,null,null,null,{"$f":"IF(D9=0, \"\", SUM(D9:G9))","v":""},"/",{"$f":"IF(D9=\"\", \"\", IF(G9<>0, 40, IF(F9<>0, 30, 20)))","v":""}]
[null,"Kick Height",null,null,null,null,null,{"$f":"IF(D10=0, \"\", SUM(D10:G10))","v":""},"/","",{"$f":"IF(D9=0, \"\", SUM(D9:G10))","v":""},"/",{"$f":"IF(D9=\"\", \"\", IF(G9<>0, 80, IF(F9<>0, 60, 40)))","v":""}]
["CHOREOGRAPHY","Creativity",null,null,null,null,null,{"$f":"IF(D11=0, \"\", SUM(D11:G11))","v":""},"/",""]
[null,"Visual Effectiveness",null,null,null,null,null,{"$f":"IF(D12=0, \"\", SUM(D12:G12))","v":""},"/","",{"$f":"IF(D11=0, \"\", SUM(D11:G12))","v":""},"/",{"$f":"IF(D11=\"\", \"\", IF(G11<>0, 80, IF(F11<>0, 60, 40)))","v":""}]
["DIFFICULTY","Diffuculty of Routine Choreography",null,null,null,null,null,{"$f":"IF(D13=0, \"\", SUM(D13:G13))","v":""},"/",""]
[null,"Difficulty of Formations and Transitions",null,null,null,null,null,{"$f":"IF(D14=0, \"\", SUM(D14:G14))","v":""},"/",""]
[null,"Difficulty of Kicks",null,null,null,null,null,{"$f":"IF(D15=0, \"\", SUM(D15:G15))","v":""},"/","",{"$f":"IF(D13=0, \"\", SUM(D13:G15))","v":""},"/",{"$f":"IF(D13=\"\", \"\", IF(G13<>0, 120, IF(F13<>0, 90, 60)))","v":""}]
["EXECUTION","Placement & Control",null,null,null,null,null,"","/",""]
[null,"Degree of Accuracy",null,null,null,null,null,"","/","",{"$f":"IF(D16=0, \"\", SUM(D16:G17))","v":""},"/",{"$f":"IF(D17=\"\", \"\", IF(G17<>0, 80, IF(F17<>0, 60, 40)))","v":""}]
["R.E.","Routine Effectiveness",null,null,null,null,null,"","/","",{"$f":"IF(D18=0, \"\", SUM(D18:G18))","v":""},"/",{"$f":"IF(D18=\"\", \"\", IF(G18<>0, 40, IF(F18<>0, 30, 20)))","v":""}]
[null,"SUB TOTALS",null,{"$f":"D9+D10+D11+D12+D13+D14+D15+D16+D17+D18","v":0},{"$f":"E9+E10+E11+E12+E13+E14+E15+E16+E17+E18","v":0},{"$f":"F9+F10+F11+F12+F13+F14+F15+F16+F17+F18","v":0},{"$f":"G9+G10+G11+G12+G13+G14+G15+G16+G17+G18","v":0},{"$f":"IF(D9=0, \"\", SUM(D19:G19))","v":""},"/",{"$f":"IF(D9=\"\", \"\", SUM(J9:J18))","v":""},{"$f":"IF(D9=0, \"\", SUM(K9:K18))","v":""},"/",{"$f":"IF(D9=\"\", \"\", SUM(M9:M18))","v":""}]
[null,"DEDUCTIONS \nEnter as a negative number i.e. -3 or DQ",null,null,null,null,null,{"$f":"IF(D20=\"\", \"\", IF(D20=\"DQ\",\"DQ\",SUM(D20:G20)))","v":""},null,null,{"$f":"IF(D20=\"\", \"\", IF(D20=\"DQ\",\"DQ\",SUM(D20:G20)))","v":""}]
[null,"TOTALS",null,{"$f":"IF(D20=\"DQ\", \"DQ\",SUM(D19+D20))","v":0},{"$f":"IF(E20=\"DQ\", \"DQ\",SUM(E19+E20))","v":0},{"$f":"IF(F20=\"DQ\", \"DQ\",SUM(F19+F20))","v":0},{"$f":"IF(G20=\"DQ\", \"DQ\",SUM(G19+G20))","v":0},{"$f":"IF(D9=0, \"\", IF(D20=\"DQ\",\"DQ\",SUM(D21:G21)))","v":""},"/",{"$f":"IF(D9=\"\", \"\", SUM(J9:J18))","v":""},{"$f":"IF(D9=0, \"\", IF(D20=\"DQ\",\"DQ\",SUM(K19:K20)))","v":""},"/",{"$f":"IF(D9=\"\", \"\", SUM(M9:M18))","v":""}]
[]
[null,"KC/T #1","Time:",null,"Kick Count:",null,null,null,null,null,null,"# Comp:"]
[null,"KC/T #2","Time:",null,"Kick Count:",null,null,null,null,null,null,"# Comp:"]
[null,"KC/T #3","Time:",null,"Kick Count:",null,null,null,null,null,null,"# Comp:"]

{"sheet":"Team21","index":25,"n_rows":25,"n_cols":13,"rows_kept":25,"cut":false,"hidden":false,"merged":[[0,0,0,12],[1,0,1,12],[3,2,3,6],[3,7,3,9],[3,10,3,12],[15,0,16,0],[15,1,15,2],[16,1,16,2],[6,8,7,9],[8,0,9,0],[4,10,4,12],[6,10,7,10],[6,11,7,12],[7,0,7,2],[20,1,20,2],[13,1,13,2],[14,1,14,2],[6,7,7,7],[12,1,12,2],[17,1,17,2],[12,0,14,0],[6,0,6,2],[22,4,22,6],[22,7,22,8],[4,2,4,6],[4,7,4,9],[19,1,19,2],[8,1,8,2],[9,1,9,2],[10,0,11,0],[23,4,23,6],[23,7,23,8],[24,4,24,6],[24,7,24,8],[10,1,10,2],[11,1,11,2]]}
["Minnesota State High School League Dance Team Competition"]
["High Kick Judges Recap Sheet"]
[]
[null,"School:",{"$f":"IF('Ranking Sheet'!B32=0, \"\", 'Ranking Sheet'!B32)","v":""},null,null,null,null,"Class:",null,null,{"$f":"IF(Class=0, \"\", Class)","v":""}]
[null,"Meet Site:",{"$f":"IF(Site=0, \"\", Site)","v":""},null,null,null,null,"Meet Date:",null,null,{"$f":"IF(DATE=0, \"\", DATE)","v":""}]
[]
["Judge's Initials → ",null,null,{"$f":"IF('Ranking Sheet'!E10=0, \"\", 'Ranking Sheet'!E10)","v":""},{"$f":"IF('Ranking Sheet'!G10=0, \"\", 'Ranking Sheet'!G10)","v":""},{"$f":"IF('Ranking Sheet'!I10=0, \"\", 'Ranking Sheet'!I10)","v":""},{"$f":"IF('Ranking Sheet'!K10=0, \"\", 'Ranking Sheet'!K10)","v":""},"Category Total Points","Total Points Possible",null,"Subtotal Points","Subtotal Points Possible"]
["Category",null,null,1,2,3,4]
["KICKS","Technique of Kicks",null,null,null,null,null,{"$f":"IF(D9=0, \"\", SUM(D9:G9))","v":""},"/",{"$f":"IF(D9=\"\", \"\", IF(G9<>0, 40, IF(F9<>0, 30, 20)))","v":""}]
[null,"Kick Height",null,null,null,null,null,{"$f":"IF(D10=0, \"\", SUM(D10:G10))","v":""},"/","",{"$f":"IF(D9=0, \"\", SUM(D9:G10))","v":""},"/",{"$f":"IF(D9=\"\", \"\", IF(G9<>0, 80, IF(F9<>0, 60, 40)))","v":""}]
["CHOREOGRAPHY","Creativity",null,null,null,null,null,{"$f":"IF(D11=0, \"\", SUM(D11:G11))","v":""},"/",""]
[null,"Visual Effectiveness",null,null,null,null,null,{"$f":"IF(D12=0, \"\", SUM(D12:G12))","v":""},"/","",{"$f":"IF(D11=0, \"\", SUM(D11:G12))","v":""},"/",{"$f":"IF(D11=\"\", \"\", IF(G11<>0, 80, IF(F11<>0, 60, 40)))","v":""}]
["DIFFICULTY","Diffuculty of Routine Choreography",null,null,null,null,null,{"$f":"IF(D13=0, \"\", SUM(D13:G13))","v":""},"/",""]
[null,"Difficulty of Formations and Transitions",null,null,null,null,null,{"$f":"IF(D14=0, \"\", SUM(D14:G14))","v":""},"/",""]
[null,"Difficulty of Kicks",null,null,null,null,null,{"$f":"IF(D15=0, \"\", SUM(D15:G15))","v":""},"/","",{"$f":"IF(D13=0, \"\", SUM(D13:G15))","v":""},"/",{"$f":"IF(D13=\"\", \"\", IF(G13<>0, 120, IF(F13<>0, 90, 60)))","v":""}]
["EXECUTION","Placement & Control",null,null,null,null,null,"","/",""]
[null,"Degree of Accuracy",null,null,null,null,null,"","/","",{"$f":"IF(D16=0, \"\", SUM(D16:G17))","v":""},"/",{"$f":"IF(D17=\"\", \"\", IF(G17<>0, 80, IF(F17<>0, 60, 40)))","v":""}]
["R.E.","Routine Effectiveness",null,null,null,null,null,"","/","",{"$f":"IF(D18=0, \"\", SUM(D18:G18))","v":""},"/",{"$f":"IF(D18=\"\", \"\", IF(G18<>0, 40, IF(F18<>0, 30, 20)))","v":""}]
[null,"SUB TOTALS",null,{"$f":"D9+D10+D11+D12+D13+D14+D15+D16+D17+D18","v":0},{"$f":"E9+E10+E11+E12+E13+E14+E15+E16+E17+E18","v":0},{"$f":"F9+F10+F11+F12+F13+F14+F15+F16+F17+F18","v":0},{"$f":"G9+G10+G11+G12+G13+G14+G15+G16+G17+G18","v":0},{"$f":"IF(D9=0, \"\", SUM(D19:G19))","v":""},"/",{"$f":"IF(D9=\"\", \"\", SUM(J9:J18))","v":""},{"$f":"IF(D9=0, \"\", SUM(K9:K18))","v":""},"/",{"$f":"IF(D9=\"\", \"\", SUM(M9:M18))","v":""}]
[null,"DEDUCTIONS \nEnter as a negative number i.e. -3 or DQ",null,null,null,null,null,{"$f":"IF(D20=\"\", \"\", IF(D20=\"DQ\",\"DQ\",SUM(D20:G20)))","v":""},null,null,{"$f":"IF(D20=\"\", \"\", IF(D20=\"DQ\",\"DQ\",SUM(D20:G20)))","v":""}]
[null,"TOTALS",null,{"$f":"IF(D20=\"DQ\", \"DQ\",SUM(D19+D20))","v":0},{"$f":"IF(E20=\"DQ\", \"DQ\",SUM(E19+E20))","v":0},{"$f":"IF(F20=\"DQ\", \"DQ\",SUM(F19+F20))","v":0},{"$f":"IF(G20=\"DQ\", \"DQ\",SUM(G19+G20))","v":0},{"$f":"IF(D9=0, \"\", IF(D20=\"DQ\",\"DQ\",SUM(D21:G21)))","v":""},"/",{"$f":"IF(D9=\"\", \"\", SUM(J9:J18))","v":""},{"$f":"IF(D9=0, \"\", IF(D20=\"DQ\",\"DQ\",SUM(K19:K20)))","v":""},"/",{"$f":"IF(D9=\"\", \"\", SUM(M9:M18))","v":""}]
[]
[null,"KC/T #1","Time:",null,"Kick Count:",null,null,null,null,null,null,"# Comp:"]
[null,"KC/T #2","Time:",null,"Kick Count:",null,null,null,null,null,null,"# Comp:"]
[null,"KC/T #3","Time:",null,"Kick Count:",null,null,null,null,null,null,"# Comp:"]

{"sheet":"Team22","index":26,"n_rows":25,"n_cols":13,"rows_kept":25,"cut":false,"hidden":false,"merged":[[0,0,0,12],[1,0,1,12],[3,2,3,6],[3,7,3,9],[3,10,3,12],[15,0,16,0],[15,1,15,2],[16,1,16,2],[6,8,7,9],[8,0,9,0],[4,10,4,12],[6,10,7,10],[6,11,7,12],[7,0,7,2],[20,1,20,2],[13,1,13,2],[14,1,14,2],[6,7,7,7],[12,1,12,2],[17,1,17,2],[12,0,14,0],[6,0,6,2],[22,4,22,6],[22,7,22,8],[4,2,4,6],[4,7,4,9],[19,1,19,2],[8,1,8,2],[9,1,9,2],[10,0,11,0],[23,4,23,6],[23,7,23,8],[24,4,24,6],[24,7,24,8],[10,1,10,2],[11,1,11,2]]}
["Minnesota State High School League Dance Team Competition"]
["High Kick Judges Recap Sheet"]
[]
[null,"School:",{"$f":"IF('Ranking Sheet'!B33=0, \"\", 'Ranking Sheet'!B33)","v":""},null,null,null,null,"Class:",null,null,{"$f":"IF(Class=0, \"\", Class)","v":""}]
[null,"Meet Site:",{"$f":"IF(Site=0, \"\", Site)","v":""},null,null,null,null,"Meet Date:",null,null,{"$f":"IF(DATE=0, \"\", DATE)","v":""}]
[]
["Judge's Initials → ",null,null,{"$f":"IF('Ranking Sheet'!E10=0, \"\", 'Ranking Sheet'!E10)","v":""},{"$f":"IF('Ranking Sheet'!G10=0, \"\", 'Ranking Sheet'!G10)","v":""},{"$f":"IF('Ranking Sheet'!I10=0, \"\", 'Ranking Sheet'!I10)","v":""},{"$f":"IF('Ranking Sheet'!K10=0, \"\", 'Ranking Sheet'!K10)","v":""},"Category Total Points","Total Points Possible",null,"Subtotal Points","Subtotal Points Possible"]
["Category",null,null,1,2,3,4]
["KICKS","Technique of Kicks",null,null,null,null,null,{"$f":"IF(D9=0, \"\", SUM(D9:G9))","v":""},"/",{"$f":"IF(D9=\"\", \"\", IF(G9<>0, 40, IF(F9<>0, 30, 20)))","v":""}]
[null,"Kick Height",null,null,null,null,null,{"$f":"IF(D10=0, \"\", SUM(D10:G10))","v":""},"/","",{"$f":"IF(D9=0, \"\", SUM(D9:G10))","v":""},"/",{"$f":"IF(D9=\"\", \"\", IF(G9<>0, 80, IF(F9<>0, 60, 40)))","v":""}]
["CHOREOGRAPHY","Creativity",null,null,null,null,null,{"$f":"IF(D11=0, \"\", SUM(D11:G11))","v":""},"/",""]
[null,"Visual Effectiveness",null,null,null,null,null,{"$f":"IF(D12=0, \"\", SUM(D12:G12))","v":""},"/","",{"$f":"IF(D11=0, \"\", SUM(D11:G12))","v":""},"/",{"$f":"IF(D11=\"\", \"\", IF(G11<>0, 80, IF(F11<>0, 60, 40)))","v":""}]
["DIFFICULTY","Diffuculty of Routine Choreography",null,null,null,null,null,{"$f":"IF(D13=0, \"\", SUM(D13:G13))","v":""},"/",""]
[null,"Difficulty of Formations and Transitions",null,null,null,null,null,{"$f":"IF(D14=0, \"\", SUM(D14:G14))","v":""},"/",""]
[null,"Difficulty of Kicks",null,null,null,null,null,{"$f":"IF(D15=0, \"\", SUM(D15:G15))","v":""},"/","",{"$f":"IF(D13=0, \"\", SUM(D13:G15))","v":""},"/",{"$f":"IF(D13=\"\", \"\", IF(G13<>0, 120, IF(F13<>0, 90, 60)))","v":""}]
["EXECUTION","Placement & Control",null,null,null,null,null,"","/",""]
[null,"Degree of Accuracy",null,null,null,null,null,"","/","",{"$f":"IF(D16=0, \"\", SUM(D16:G17))","v":""},"/",{"$f":"IF(D17=\"\", \"\", IF(G17<>0, 80, IF(F17<>0, 60, 40)))","v":""}]
["R.E.","Routine Effectiveness",null,null,null,null,null,"","/","",{"$f":"IF(D18=0, \"\", SUM(D18:G18))","v":""},"/",{"$f":"IF(D18=\"\", \"\", IF(G18<>0, 40, IF(F18<>0, 30, 20)))","v":""}]
[null,"SUB TOTALS",null,{"$f":"D9+D10+D11+D12+D13+D14+D15+D16+D17+D18","v":0},{"$f":"E9+E10+E11+E12+E13+E14+E15+E16+E17+E18","v":0},{"$f":"F9+F10+F11+F12+F13+F14+F15+F16+F17+F18","v":0},{"$f":"G9+G10+G11+G12+G13+G14+G15+G16+G17+G18","v":0},{"$f":"IF(D9=0, \"\", SUM(D19:G19))","v":""},"/",{"$f":"IF(D9=\"\", \"\", SUM(J9:J18))","v":""},{"$f":"IF(D9=0, \"\", SUM(K9:K18))","v":""},"/",{"$f":"IF(D9=\"\", \"\", SUM(M9:M18))","v":""}]
[null,"DEDUCTIONS \nEnter as a negative number i.e. -3 or DQ",null,null,null,null,null,{"$f":"IF(D20=\"\", \"\", IF(D20=\"DQ\",\"DQ\",SUM(D20:G20)))","v":""},null,null,{"$f":"IF(D20=\"\", \"\", IF(D20=\"DQ\",\"DQ\",SUM(D20:G20)))","v":""}]
[null,"TOTALS",null,{"$f":"IF(D20=\"DQ\", \"DQ\",SUM(D19+D20))","v":0},{"$f":"IF(E20=\"DQ\", \"DQ\",SUM(E19+E20))","v":0},{"$f":"IF(F20=\"DQ\", \"DQ\",SUM(F19+F20))","v":0},{"$f":"IF(G20=\"DQ\", \"DQ\",SUM(G19+G20))","v":0},{"$f":"IF(D9=0, \"\", IF(D20=\"DQ\",\"DQ\",SUM(D21:G21)))","v":""},"/",{"$f":"IF(D9=\"\", \"\", SUM(J9:J18))","v":""},{"$f":"IF(D9=0, \"\", IF(D20=\"DQ\",\"DQ\",SUM(K19:K20)))","v":""},"/",{"$f":"IF(D9=\"\", \"\", SUM(M9:M18))","v":""}]
[]
[null,"KC/T #1","Time:",null,"Kick Count:",null,null,null,null,null,null,"# Comp:"]
[null,"KC/T #2","Time:",null,"Kick Count:",null,null,null,null,null,null,"# Comp:"]
[null,"KC/T #3","Time:",null,"Kick Count:",null,null,null,null,null,null,"# Comp:"]

{"sheet":"Team23","index":27,"n_rows":25,"n_cols":13,"rows_kept":25,"cut":false,"hidden":false,"merged":[[0,0,0,12],[1,0,1,12],[3,2,3,6],[3,7,3,9],[3,10,3,12],[15,0,16,0],[15,1,15,2],[16,1,16,2],[6,8,7,9],[8,0,9,0],[4,10,4,12],[6,10,7,10],[6,11,7,12],[7,0,7,2],[20,1,20,2],[13,1,13,2],[14,1,14,2],[6,7,7,7],[12,1,12,2],[17,1,17,2],[12,0,14,0],[6,0,6,2],[22,4,22,6],[22,7,22,8],[4,2,4,6],[4,7,4,9],[19,1,19,2],[8,1,8,2],[9,1,9,2],[10,0,11,0],[23,4,23,6],[23,7,23,8],[24,4,24,6],[24,7,24,8],[10,1,10,2],[11,1,11,2]]}
["Minnesota State High School League Dance Team Competition"]
["High Kick Judges Recap Sheet"]
[]
[null,"School:",{"$f":"IF('Ranking Sheet'!B24=0, \"\", 'Ranking Sheet'!B24)","v":""},null,null,null,null,"Class:",null,null,{"$f":"IF(Class=0, \"\", Class)","v":""}]
[null,"Meet Site:",{"$f":"IF(Site=0, \"\", Site)","v":""},null,null,null,null,"Meet Date:",null,null,{"$f":"IF(DATE=0, \"\", DATE)","v":""}]
[]
["Judge's Initials → ",null,null,{"$f":"IF('Ranking Sheet'!E10=0, \"\", 'Ranking Sheet'!E10)","v":""},{"$f":"IF('Ranking Sheet'!G10=0, \"\", 'Ranking Sheet'!G10)","v":""},{"$f":"IF('Ranking Sheet'!I10=0, \"\", 'Ranking Sheet'!I10)","v":""},{"$f":"IF('Ranking Sheet'!K10=0, \"\", 'Ranking Sheet'!K10)","v":""},"Category Total Points","Total Points Possible",null,"Subtotal Points","Subtotal Points Possible"]
["Category",null,null,1,2,3,4]
["KICKS","Technique of Kicks",null,null,null,null,null,{"$f":"IF(D9=0, \"\", SUM(D9:G9))","v":""},"/",{"$f":"IF(D9=\"\", \"\", IF(G9<>0, 40, IF(F9<>0, 30, 20)))","v":""}]
[null,"Kick Height",null,null,null,null,null,{"$f":"IF(D10=0, \"\", SUM(D10:G10))","v":""},"/","",{"$f":"IF(D9=0, \"\", SUM(D9:G10))","v":""},"/",{"$f":"IF(D9=\"\", \"\", IF(G9<>0, 80, IF(F9<>0, 60, 40)))","v":""}]
["CHOREOGRAPHY","Creativity",null,null,null,null,null,{"$f":"IF(D11=0, \"\", SUM(D11:G11))","v":""},"/",""]
[null,"Visual Effectiveness",null,null,null,null,null,{"$f":"IF(D12=0, \"\", SUM(D12:G12))","v":""},"/","",{"$f":"IF(D11=0, \"\", SUM(D11:G12))","v":""},"/",{"$f":"IF(D11=\"\", \"\", IF(G11<>0, 80, IF(F11<>0, 60, 40)))","v":""}]
["DIFFICULTY","Diffuculty of Routine Choreography",null,null,null,null,null,{"$f":"IF(D13=0, \"\", SUM(D13:G13))","v":""},"/",""]
[null,"Difficulty of Formations and Transitions",null,null,null,null,null,{"$f":"IF(D14=0, \"\", SUM(D14:G14))","v":""},"/",""]
[null,"Difficulty of Kicks",null,null,null,null,null,{"$f":"IF(D15=0, \"\", SUM(D15:G15))","v":""},"/","",{"$f":"IF(D13=0, \"\", SUM(D13:G15))","v":""},"/",{"$f":"IF(D13=\"\", \"\", IF(G13<>0, 120, IF(F13<>0, 90, 60)))","v":""}]
["EXECUTION","Placement & Control",null,null,null,null,null,"","/",""]
[null,"Degree of Accuracy",null,null,null,null,null,"","/","",{"$f":"IF(D16=0, \"\", SUM(D16:G17))","v":""},"/",{"$f":"IF(D17=\"\", \"\", IF(G17<>0, 80, IF(F17<>0, 60, 40)))","v":""}]
["R.E.","Routine Effectiveness",null,null,null,null,null,"","/","",{"$f":"IF(D18=0, \"\", SUM(D18:G18))","v":""},"/",{"$f":"IF(D18=\"\", \"\", IF(G18<>0, 40, IF(F18<>0, 30, 20)))","v":""}]
[null,"SUB TOTALS",null,{"$f":"D9+D10+D11+D12+D13+D14+D15+D16+D17+D18","v":0},{"$f":"E9+E10+E11+E12+E13+E14+E15+E16+E17+E18","v":0},{"$f":"F9+F10+F11+F12+F13+F14+F15+F16+F17+F18","v":0},{"$f":"G9+G10+G11+G12+G13+G14+G15+G16+G17+G18","v":0},{"$f":"IF(D9=0, \"\", SUM(D19:G19))","v":""},"/",{"$f":"IF(D9=\"\", \"\", SUM(J9:J18))","v":""},{"$f":"IF(D9=0, \"\", SUM(K9:K18))","v":""},"/",{"$f":"IF(D9=\"\", \"\", SUM(M9:M18))","v":""}]
[null,"DEDUCTIONS \nEnter as a negative number i.e. -3 or DQ",null,null,null,null,null,{"$f":"IF(D20=\"\", \"\", IF(D20=\"DQ\",\"DQ\",SUM(D20:G20)))","v":""},null,null,{"$f":"IF(D20=\"\", \"\", IF(D20=\"DQ\",\"DQ\",SUM(D20:G20)))","v":""}]
[null,"TOTALS",null,{"$f":"IF(D20=\"DQ\", \"DQ\",SUM(D19+D20))","v":0},{"$f":"IF(E20=\"DQ\", \"DQ\",SUM(E19+E20))","v":0},{"$f":"IF(F20=\"DQ\", \"DQ\",SUM(F19+F20))","v":0},{"$f":"IF(G20=\"DQ\", \"DQ\",SUM(G19+G20))","v":0},{"$f":"IF(D9=0, \"\", IF(D20=\"DQ\",\"DQ\",SUM(D21:G21)))","v":""},"/",{"$f":"IF(D9=\"\", \"\", SUM(J9:J18))","v":""},{"$f":"IF(D9=0, \"\", IF(D20=\"DQ\",\"DQ\",SUM(K19:K20)))","v":""},"/",{"$f":"IF(D9=\"\", \"\", SUM(M9:M18))","v":""}]
[]
[null,"KC/T #1","Time:",null,"Kick Count:",null,null,null,null,null,null,"# Comp:"]
[null,"KC/T #2","Time:",null,"Kick Count:",null,null,null,null,null,null,"# Comp:"]
[null,"KC/T #3","Time:",null,"Kick Count:",null,null,null,null,null,null,"# Comp:"]

{"sheet":"Team24","index":28,"n_rows":25,"n_cols":13,"rows_kept":25,"cut":false,"hidden":false,"merged":[[19,1,19,2],[8,0,9,0],[8,1,8,2],[9,1,9,2],[10,0,11,0],[0,0,0,12],[1,0,1,12],[3,2,3,6],[3,7,3,9],[3,10,3,12],[15,1,15,2],[16,1,16,2],[6,8,7,9],[4,10,4,12],[6,10,7,10],[6,11,7,12],[7,0,7,2],[12,0,14,0],[4,2,4,6],[20,1,20,2],[13,1,13,2],[14,1,14,2],[6,7,7,7],[12,1,12,2],[17,1,17,2],[10,1,10,2],[11,1,11,2],[6,0,6,2],[15,0,16,0],[4,7,4,9],[22,4,22,6],[22,7,22,8],[23,4,23,6],[23,7,23,8],[24,4,24,6],[24,7,24,8]]}
["Minnesota State High School League Dance Team Competition"]
["High Kick Judges Recap Sheet"]
[]
[null,"School:",{"$f":"IF('Ranking Sheet'!B25=0, \"\", 'Ranking Sheet'!B25)","v":""},null,null,null,null,"Class:",null,null,{"$f":"IF(Class=0, \"\", Class)","v":""}]
[null,"Meet Site:",{"$f":"IF(Site=0, \"\", Site)","v":""},null,null,null,null,"Meet Date:",null,null,{"$f":"IF(DATE=0, \"\", DATE)","v":""}]
[]
["Judge's Initials → ",null,null,{"$f":"IF('Ranking Sheet'!E10=0, \"\", 'Ranking Sheet'!E10)","v":""},{"$f":"IF('Ranking Sheet'!G10=0, \"\", 'Ranking Sheet'!G10)","v":""},{"$f":"IF('Ranking Sheet'!I10=0, \"\", 'Ranking Sheet'!I10)","v":""},{"$f":"IF('Ranking Sheet'!K10=0, \"\", 'Ranking Sheet'!K10)","v":""},"Category Total Points","Total Points Possible",null,"Subtotal Points","Subtotal Points Possible"]
["Category",null,null,1,2,3,4]
["KICKS","Technique of Kicks",null,null,null,null,null,{"$f":"IF(D9=0, \"\", SUM(D9:G9))","v":""},"/",{"$f":"IF(D9=\"\", \"\", IF(G9<>0, 40, IF(F9<>0, 30, 20)))","v":""}]
[null,"Kick Height",null,null,null,null,null,{"$f":"IF(D10=0, \"\", SUM(D10:G10))","v":""},"/","",{"$f":"IF(D9=0, \"\", SUM(D9:G10))","v":""},"/",{"$f":"IF(D9=\"\", \"\", IF(G9<>0, 80, IF(F9<>0, 60, 40)))","v":""}]
["CHOREOGRAPHY","Creativity",null,null,null,null,null,{"$f":"IF(D11=0, \"\", SUM(D11:G11))","v":""},"/",""]
[null,"Visual Effectiveness",null,null,null,null,null,{"$f":"IF(D12=0, \"\", SUM(D12:G12))","v":""},"/","",{"$f":"IF(D11=0, \"\", SUM(D11:G12))","v":""},"/",{"$f":"IF(D11=\"\", \"\", IF(G11<>0, 80, IF(F11<>0, 60, 40)))","v":""}]
["DIFFICULTY","Diffuculty of Routine Choreography",null,null,null,null,null,{"$f":"IF(D13=0, \"\", SUM(D13:G13))","v":""},"/",""]
[null,"Difficulty of Formations and Transitions",null,null,null,null,null,{"$f":"IF(D14=0, \"\", SUM(D14:G14))","v":""},"/",""]
[null,"Difficulty of Kicks",null,null,null,null,null,{"$f":"IF(D15=0, \"\", SUM(D15:G15))","v":""},"/","",{"$f":"IF(D13=0, \"\", SUM(D13:G15))","v":""},"/",{"$f":"IF(D13=\"\", \"\", IF(G13<>0, 120, IF(F13<>0, 90, 60)))","v":""}]
["EXECUTION","Placement & Control",null,null,null,null,null,"","/",""]
[null,"Degree of Accuracy",null,null,null,null,null,"","/","",{"$f":"IF(D16=0, \"\", SUM(D16:G17))","v":""},"/",{"$f":"IF(D17=\"\", \"\", IF(G17<>0, 80, IF(F17<>0, 60, 40)))","v":""}]
["R.E.","Routine Effectiveness",null,null,null,null,null,"","/","",{"$f":"IF(D18=0, \"\", SUM(D18:G18))","v":""},"/",{"$f":"IF(D18=\"\", \"\", IF(G18<>0, 40, IF(F18<>0, 30, 20)))","v":""}]
[null,"SUB TOTALS",null,{"$f":"D9+D10+D11+D12+D13+D14+D15+D16+D17+D18","v":0},{"$f":"E9+E10+E11+E12+E13+E14+E15+E16+E17+E18","v":0},{"$f":"F9+F10+F11+F12+F13+F14+F15+F16+F17+F18","v":0},{"$f":"G9+G10+G11+G12+G13+G14+G15+G16+G17+G18","v":0},{"$f":"IF(D9=0, \"\", SUM(D19:G19))","v":""},"/",{"$f":"IF(D9=\"\", \"\", SUM(J9:J18))","v":""},{"$f":"IF(D9=0, \"\", SUM(K9:K18))","v":""},"/",{"$f":"IF(D9=\"\", \"\", SUM(M9:M18))","v":""}]
[null,"DEDUCTIONS \nEnter as a negative number i.e. -3 or DQ",null,null,null,null,null,{"$f":"IF(D20=\"\", \"\", IF(D20=\"DQ\",\"DQ\",SUM(D20:G20)))","v":""},null,null,{"$f":"IF(D20=\"\", \"\", IF(D20=\"DQ\",\"DQ\",SUM(D20:G20)))","v":""}]
[null,"TOTALS",null,{"$f":"IF(D20=\"DQ\", \"DQ\",SUM(D19+D20))","v":0},{"$f":"IF(E20=\"DQ\", \"DQ\",SUM(E19+E20))","v":0},{"$f":"IF(F20=\"DQ\", \"DQ\",SUM(F19+F20))","v":0},{"$f":"IF(G20=\"DQ\", \"DQ\",SUM(G19+G20))","v":0},{"$f":"IF(D9=0, \"\", IF(D20=\"DQ\",\"DQ\",SUM(D21:G21)))","v":""},"/",{"$f":"IF(D9=\"\", \"\", SUM(J9:J18))","v":""},{"$f":"IF(D9=0, \"\", IF(D20=\"DQ\",\"DQ\",SUM(K19:K20)))","v":""},"/",{"$f":"IF(D9=\"\", \"\", SUM(M9:M18))","v":""}]
[]
[null,"KC/T #1","Time:",null,"Kick Count:",null,null,null,null,null,null,"# Comp:"]
[null,"KC/T #2","Time:",null,"Kick Count:",null,null,null,null,null,null,"# Comp:"]
[null,"KC/T #3","Time:",null,"Kick Count:",null,null,null,null,null,null,"# Comp:"]

{"sheet":"Superior Judge Recap","index":29,"n_rows":35,"n_cols":18,"rows_kept":35,"cut":false,"hidden":false,"merged":[[34,1,34,2],[4,5,4,17],[6,5,6,17],[8,3,8,9],[8,10,8,16],[9,6,9,7],[9,8,9,9],[9,13,9,14],[9,15,9,16],[31,1,31,2],[23,1,23,2],[24,1,24,2],[32,1,32,2],[33,1,33,2],[25,1,25,2],[26,1,26,2],[27,1,27,2],[28,1,28,2],[29,1,29,2],[30,1,30,2],[18,1,18,2],[19,1,19,2],[20,1,20,2],[21,1,21,2],[22,1,22,2],[13,1,13,2],[14,1,14,2],[15,1,15,2],[16,1,16,2],[17,1,17,2],[1,0,1,17],[2,0,2,17],[10,1,10,2],[11,1,11,2],[12,1,12,2],[4,0,4,1],[6,0,6,1],[4,3,4,4],[6,3,6,4]]}
[]
["Minnesota State High School League Dance Team Competition"]
["Superior Judge Recap Sheet"]
[]
["MEET DATE:",null,{"$f":"IF(DATE=0, \"\", DATE)","v":""},"MEET SITE:",null,{"$f":"IF(Site=0, \"\", Site)","v":""}]
[]
["CLASS:",null,{"$f":"IF(Class=0, \"\", Class)","v":""},"CATEGORY:",null,{"$f":"CATEGORY","v":"High Kick Category"}]
[]
[null,null,null,"Judges Rank",null,null,null,null,null,null,"Judges Points"]
[null,null,null,null,null,null,"Drop Best Rank",null,"Drop Worst Rank",null,null,null,null,"Drop Lowest Points",null,"Drop Highest Points"]
[null,"School",null,"Best Rank","Worst Rank","Rank Spread","2nd Best Rank","Rank Spread with 2nd Best Rank","2nd Worst Rank","Rank Spread with 2nd Worst Rank","Low Points","High Points","Point Spread","2nd Low Points","Point Spread with 2nd Low Points","2nd High Points","Point Spread with 2nd High Points","Final Rank"]
[1,{"$f":"'Rank Wkst'!B8","v":""},null,{"$f":"IF('Rank Wkst'!DL8=\"\", \"\", 'Rank Wkst'!DP8)","v":""},{"$f":"IF('Rank Wkst'!DL8=\"\", \"\", 'Rank Wkst'!DQ8)","v":""},{"$f":"IF('Rank Wkst'!DL8=\"\", \"\", 'Rank Wkst'!DR8)","v":""},{"$f":"IF('Rank Wkst'!DL8=\"\", \"\", 'Rank Wkst'!DS8)","v":""},{"$f":"IF('Rank Wkst'!DL8=\"\", \"\", 'Rank Wkst'!DT8)","v":""},{"$f":"IF('Rank Wkst'!DL8=\"\", \"\", 'Rank Wkst'!DU8)","v":""},{"$f":"IF('Rank Wkst'!DL8=\"\", \"\", 'Rank Wkst'!DV8)","v":""},{"$f":"IF('Rank Wkst'!DL8=\"\", \"\", 'Rank Wkst'!EA8)","v":""},{"$f":"IF('Rank Wkst'!DL8=\"\", \"\", 'Rank Wkst'!EB8)","v":""},{"$f":"IF('Rank Wkst'!DL8=\"\", \"\", 'Rank Wkst'!EC8)","v":""},{"$f":"IF('Rank Wkst'!DL8=\"\", \"\", 'Rank Wkst'!ED8)","v":""},{"$f":"IF('Rank Wkst'!DL8=\"\", \"\", 'Rank Wkst'!EE8)","v":""},{"$f":"IF('Rank Wkst'!DL8=\"\", \"\", 'Rank Wkst'!EF8)","v":""},{"$f":"IF('Rank Wkst'!DL8=\"\", \"\", 'Rank Wkst'!EG8)","v":""},{"$f":"IF(D12=\"\",\"\",'Ranking Sheet'!Q12)","v":""}]
[2,{"$f":"'Rank Wkst'!B9","v":""},null,{"$f":"IF('Rank Wkst'!DL9=\"\", \"\", 'Rank Wkst'!DP9)","v":""},{"$f":"IF('Rank Wkst'!DL9=\"\", \"\", 'Rank Wkst'!DQ9)","v":""},{"$f":"IF('Rank Wkst'!DL9=\"\", \"\", 'Rank Wkst'!DR9)","v":""},{"$f":"IF('Rank Wkst'!DL9=\"\", \"\", 'Rank Wkst'!DS9)","v":""},{"$f":"IF('Rank Wkst'!DL9=\"\", \"\", 'Rank Wkst'!DT9)","v":""},{"$f":"IF('Rank Wkst'!DL9=\"\", \"\", 'Rank Wkst'!DU9)","v":""},{"$f":"IF('Rank Wkst'!DL9=\"\", \"\", 'Rank Wkst'!DV9)","v":""},{"$f":"IF('Rank Wkst'!DL9=\"\", \"\", 'Rank Wkst'!EA9)","v":""},{"$f":"IF('Rank Wkst'!DL9=\"\", \"\", 'Rank Wkst'!EB9)","v":""},{"$f":"IF('Rank Wkst'!DL9=\"\", \"\", 'Rank Wkst'!EC9)","v":""},{"$f":"IF('Rank Wkst'!DL9=\"\", \"\", 'Rank Wkst'!ED9)","v":""},{"$f":"IF('Rank Wkst'!DL9=\"\", \"\", 'Rank Wkst'!EE9)","v":""},{"$f":"IF('Rank Wkst'!DL9=\"\", \"\", 'Rank Wkst'!EF9)","v":""},{"$f":"IF('Rank Wkst'!DL9=\"\", \"\", 'Rank Wkst'!EG9)","v":""},{"$f":"IF(D13=\"\",\"\",'Ranking Sheet'!Q13)","v":""}]
[3,{"$f":"'Rank Wkst'!B10","v":""},null,{"$f":"IF('Rank Wkst'!DL10=\"\", \"\", 'Rank Wkst'!DP10)","v":""},{"$f":"IF('Rank Wkst'!DL10=\"\", \"\", 'Rank Wkst'!DQ10)","v":""},{"$f":"IF('Rank Wkst'!DL10=\"\", \"\", 'Rank Wkst'!DR10)","v":""},{"$f":"IF('Rank Wkst'!DL10=\"\", \"\", 'Rank Wkst'!DS10)","v":""},{"$f":"IF('Rank Wkst'!DL10=\"\", \"\", 'Rank Wkst'!DT10)","v":""},{"$f":"IF('Rank Wkst'!DL10=\"\", \"\", 'Rank Wkst'!DU10)","v":""},{"$f":"IF('Rank Wkst'!DL10=\"\", \"\", 'Rank Wkst'!DV10)","v":""},{"$f":"IF('Rank Wkst'!DL10=\"\", \"\", 'Rank Wkst'!EA10)","v":""},{"$f":"IF('Rank Wkst'!DL10=\"\", \"\", 'Rank Wkst'!EB10)","v":""},{"$f":"IF('Rank Wkst'!DL10=\"\", \"\", 'Rank Wkst'!EC10)","v":""},{"$f":"IF('Rank Wkst'!DL10=\"\", \"\", 'Rank Wkst'!ED10)","v":""},{"$f":"IF('Rank Wkst'!DL10=\"\", \"\", 'Rank Wkst'!EE10)","v":""},{"$f":"IF('Rank Wkst'!DL10=\"\", \"\", 'Rank Wkst'!EF10)","v":""},{"$f":"IF('Rank Wkst'!DL10=\"\", \"\", 'Rank Wkst'!EG10)","v":""},{"$f":"IF(D14=\"\",\"\",'Ranking Sheet'!Q14)","v":""}]
[4,{"$f":"'Rank Wkst'!B11","v":""},null,{"$f":"IF('Rank Wkst'!DL11=\"\", \"\", 'Rank Wkst'!DP11)","v":""},{"$f":"IF('Rank Wkst'!DL11=\"\", \"\", 'Rank Wkst'!DQ11)","v":""},{"$f":"IF('Rank Wkst'!DL11=\"\", \"\", 'Rank Wkst'!DR11)","v":""},{"$f":"IF('Rank Wkst'!DL11=\"\", \"\", 'Rank Wkst'!DS11)","v":""},{"$f":"IF('Rank Wkst'!DL11=\"\", \"\", 'Rank Wkst'!DT11)","v":""},{"$f":"IF('Rank Wkst'!DL11=\"\", \"\", 'Rank Wkst'!DU11)","v":""},{"$f":"IF('Rank Wkst'!DL11=\"\", \"\", 'Rank Wkst'!DV11)","v":""},{"$f":"IF('Rank Wkst'!DL11=\"\", \"\", 'Rank Wkst'!EA11)","v":""},{"$f":"IF('Rank Wkst'!DL11=\"\", \"\", 'Rank Wkst'!EB11)","v":""},{"$f":"IF('Rank Wkst'!DL11=\"\", \"\", 'Rank Wkst'!EC11)","v":""},{"$f":"IF('Rank Wkst'!DL11=\"\", \"\", 'Rank Wkst'!ED11)","v":""},{"$f":"IF('Rank Wkst'!DL11=\"\", \"\", 'Rank Wkst'!EE11)","v":""},{"$f":"IF('Rank Wkst'!DL11=\"\", \"\", 'Rank Wkst'!EF11)","v":""},{"$f":"IF('Rank Wkst'!DL11=\"\", \"\", 'Rank Wkst'!EG11)","v":""},{"$f":"IF(D15=\"\",\"\",'Ranking Sheet'!Q15)","v":""}]
[5,{"$f":"'Rank Wkst'!B12","v":""},null,{"$f":"IF('Rank Wkst'!DL12=\"\", \"\", 'Rank Wkst'!DP12)","v":""},{"$f":"IF('Rank Wkst'!DL12=\"\", \"\", 'Rank Wkst'!DQ12)","v":""},{"$f":"IF('Rank Wkst'!DL12=\"\", \"\", 'Rank Wkst'!DR12)","v":""},{"$f":"IF('Rank Wkst'!DL12=\"\", \"\", 'Rank Wkst'!DS12)","v":""},{"$f":"IF('Rank Wkst'!DL12=\"\", \"\", 'Rank Wkst'!DT12)","v":""},{"$f":"IF('Rank Wkst'!DL12=\"\", \"\", 'Rank Wkst'!DU12)","v":""},{"$f":"IF('Rank Wkst'!DL12=\"\", \"\", 'Rank Wkst'!DV12)","v":""},{"$f":"IF('Rank Wkst'!DL12=\"\", \"\", 'Rank Wkst'!EA12)","v":""},{"$f":"IF('Rank Wkst'!DL12=\"\", \"\", 'Rank Wkst'!EB12)","v":""},{"$f":"IF('Rank Wkst'!DL12=\"\", \"\", 'Rank Wkst'!EC12)","v":""},{"$f":"IF('Rank Wkst'!DL12=\"\", \"\", 'Rank Wkst'!ED12)","v":""},{"$f":"IF('Rank Wkst'!DL12=\"\", \"\", 'Rank Wkst'!EE12)","v":""},{"$f":"IF('Rank Wkst'!DL12=\"\", \"\", 'Rank Wkst'!EF12)","v":""},{"$f":"IF('Rank Wkst'!DL12=\"\", \"\", 'Rank Wkst'!EG12)","v":""},{"$f":"IF(D16=\"\",\"\",'Ranking Sheet'!Q16)","v":""}]
[6,{"$f":"'Rank Wkst'!B13","v":""},null,{"$f":"IF('Rank Wkst'!DL13=\"\", \"\", 'Rank Wkst'!DP13)","v":""},{"$f":"IF('Rank Wkst'!DL13=\"\", \"\", 'Rank Wkst'!DQ13)","v":""},{"$f":"IF('Rank Wkst'!DL13=\"\", \"\", 'Rank Wkst'!DR13)","v":""},{"$f":"IF('Rank Wkst'!DL13=\"\", \"\", 'Rank Wkst'!DS13)","v":""},{"$f":"IF('Rank Wkst'!DL13=\"\", \"\", 'Rank Wkst'!DT13)","v":""},{"$f":"IF('Rank Wkst'!DL13=\"\", \"\", 'Rank Wkst'!DU13)","v":""},{"$f":"IF('Rank Wkst'!DL13=\"\", \"\", 'Rank Wkst'!DV13)","v":""},{"$f":"IF('Rank Wkst'!DL13=\"\", \"\", 'Rank Wkst'!EA13)","v":""},{"$f":"IF('Rank Wkst'!DL13=\"\", \"\", 'Rank Wkst'!EB13)","v":""},{"$f":"IF('Rank Wkst'!DL13=\"\", \"\", 'Rank Wkst'!EC13)","v":""},{"$f":"IF('Rank Wkst'!DL13=\"\", \"\", 'Rank Wkst'!ED13)","v":""},{"$f":"IF('Rank Wkst'!DL13=\"\", \"\", 'Rank Wkst'!EE13)","v":""},{"$f":"IF('Rank Wkst'!DL13=\"\", \"\", 'Rank Wkst'!EF13)","v":""},{"$f":"IF('Rank Wkst'!DL13=\"\", \"\", 'Rank Wkst'!EG13)","v":""},{"$f":"IF(D17=\"\",\"\",'Ranking Sheet'!Q17)","v":""}]
[7,{"$f":"'Rank Wkst'!B14","v":""},null,{"$f":"IF('Rank Wkst'!DL14=\"\", \"\", 'Rank Wkst'!DP14)","v":""},{"$f":"IF('Rank Wkst'!DL14=\"\", \"\", 'Rank Wkst'!DQ14)","v":""},{"$f":"IF('Rank Wkst'!DL14=\"\", \"\", 'Rank Wkst'!DR14)","v":""},{"$f":"IF('Rank Wkst'!DL14=\"\", \"\", 'Rank Wkst'!DS14)","v":""},{"$f":"IF('Rank Wkst'!DL14=\"\", \"\", 'Rank Wkst'!DT14)","v":""},{"$f":"IF('Rank Wkst'!DL14=\"\", \"\", 'Rank Wkst'!DU14)","v":""},{"$f":"IF('Rank Wkst'!DL14=\"\", \"\", 'Rank Wkst'!DV14)","v":""},{"$f":"IF('Rank Wkst'!DL14=\"\", \"\", 'Rank Wkst'!EA14)","v":""},{"$f":"IF('Rank Wkst'!DL14=\"\", \"\", 'Rank Wkst'!EB14)","v":""},{"$f":"IF('Rank Wkst'!DL14=\"\", \"\", 'Rank Wkst'!EC14)","v":""},{"$f":"IF('Rank Wkst'!DL14=\"\", \"\", 'Rank Wkst'!ED14)","v":""},{"$f":"IF('Rank Wkst'!DL14=\"\", \"\", 'Rank Wkst'!EE14)","v":""},{"$f":"IF('Rank Wkst'!DL14=\"\", \"\", 'Rank Wkst'!EF14)","v":""},{"$f":"IF('Rank Wkst'!DL14=\"\", \"\", 'Rank Wkst'!EG14)","v":""},{"$f":"IF(D18=\"\",\"\",'Ranking Sheet'!Q18)","v":""}]
[8,{"$f":"'Rank Wkst'!B15","v":""},null,{"$f":"IF('Rank Wkst'!DL15=\"\", \"\", 'Rank Wkst'!DP15)","v":""},{"$f":"IF('Rank Wkst'!DL15=\"\", \"\", 'Rank Wkst'!DQ15)","v":""},{"$f":"IF('Rank Wkst'!DL15=\"\", \"\", 'Rank Wkst'!DR15)","v":""},{"$f":"IF('Rank Wkst'!DL15=\"\", \"\", 'Rank Wkst'!DS15)","v":""},{"$f":"IF('Rank Wkst'!DL15=\"\", \"\", 'Rank Wkst'!DT15)","v":""},{"$f":"IF('Rank Wkst'!DL15=\"\", \"\", 'Rank Wkst'!DU15)","v":""},{"$f":"IF('Rank Wkst'!DL15=\"\", \"\", 'Rank Wkst'!DV15)","v":""},{"$f":"IF('Rank Wkst'!DL15=\"\", \"\", 'Rank Wkst'!EA15)","v":""},{"$f":"IF('Rank Wkst'!DL15=\"\", \"\", 'Rank Wkst'!EB15)","v":""},{"$f":"IF('Rank Wkst'!DL15=\"\", \"\", 'Rank Wkst'!EC15)","v":""},{"$f":"IF('Rank Wkst'!DL15=\"\", \"\", 'Rank Wkst'!ED15)","v":""},{"$f":"IF('Rank Wkst'!DL15=\"\", \"\", 'Rank Wkst'!EE15)","v":""},{"$f":"IF('Rank Wkst'!DL15=\"\", \"\", 'Rank Wkst'!EF15)","v":""},{"$f":"IF('Rank Wkst'!DL15=\"\", \"\", 'Rank Wkst'!EG15)","v":""},{"$f":"IF(D19=\"\",\"\",'Ranking Sheet'!Q19)","v":""}]
[9,{"$f":"'Rank Wkst'!B16","v":""},null,{"$f":"IF('Rank Wkst'!DL16=\"\", \"\", 'Rank Wkst'!DP16)","v":""},{"$f":"IF('Rank Wkst'!DL16=\"\", \"\", 'Rank Wkst'!DQ16)","v":""},{"$f":"IF('Rank Wkst'!DL16=\"\", \"\", 'Rank Wkst'!DR16)","v":""},{"$f":"IF('Rank Wkst'!DL16=\"\", \"\", 'Rank Wkst'!DS16)","v":""},{"$f":"IF('Rank Wkst'!DL16=\"\", \"\", 'Rank Wkst'!DT16)","v":""},{"$f":"IF('Rank Wkst'!DL16=\"\", \"\", 'Rank Wkst'!DU16)","v":""},{"$f":"IF('Rank Wkst'!DL16=\"\", \"\", 'Rank Wkst'!DV16)","v":""},{"$f":"IF('Rank Wkst'!DL16=\"\", \"\", 'Rank Wkst'!EA16)","v":""},{"$f":"IF('Rank Wkst'!DL16=\"\", \"\", 'Rank Wkst'!EB16)","v":""},{"$f":"IF('Rank Wkst'!DL16=\"\", \"\", 'Rank Wkst'!EC16)","v":""},{"$f":"IF('Rank Wkst'!DL16=\"\", \"\", 'Rank Wkst'!ED16)","v":""},{"$f":"IF('Rank Wkst'!DL16=\"\", \"\", 'Rank Wkst'!EE16)","v":""},{"$f":"IF('Rank Wkst'!DL16=\"\", \"\", 'Rank Wkst'!EF16)","v":""},{"$f":"IF('Rank Wkst'!DL16=\"\", \"\", 'Rank Wkst'!EG16)","v":""},{"$f":"IF(D20=\"\",\"\",'Ranking Sheet'!Q20)","v":""}]
[10,{"$f":"'Rank Wkst'!B17","v":""},null,{"$f":"IF('Rank Wkst'!DL17=\"\", \"\", 'Rank Wkst'!DP17)","v":""},{"$f":"IF('Rank Wkst'!DL17=\"\", \"\", 'Rank Wkst'!DQ17)","v":""},{"$f":"IF('Rank Wkst'!DL17=\"\", \"\", 'Rank Wkst'!DR17)","v":""},{"$f":"IF('Rank Wkst'!DL17=\"\", \"\", 'Rank Wkst'!DS17)","v":""},{"$f":"IF('Rank Wkst'!DL17=\"\", \"\", 'Rank Wkst'!DT17)","v":""},{"$f":"IF('Rank Wkst'!DL17=\"\", \"\", 'Rank Wkst'!DU17)","v":""},{"$f":"IF('Rank Wkst'!DL17=\"\", \"\", 'Rank Wkst'!DV17)","v":""},{"$f":"IF('Rank Wkst'!DL17=\"\", \"\", 'Rank Wkst'!EA17)","v":""},{"$f":"IF('Rank Wkst'!DL17=\"\", \"\", 'Rank Wkst'!EB17)","v":""},{"$f":"IF('Rank Wkst'!DL17=\"\", \"\", 'Rank Wkst'!EC17)","v":""},{"$f":"IF('Rank Wkst'!DL17=\"\", \"\", 'Rank Wkst'!ED17)","v":""},{"$f":"IF('Rank Wkst'!DL17=\"\", \"\", 'Rank Wkst'!EE17)","v":""},{"$f":"IF('Rank Wkst'!DL17=\"\", \"\", 'Rank Wkst'!EF17)","v":""},{"$f":"IF('Rank Wkst'!DL17=\"\", \"\", 'Rank Wkst'!EG17)","v":""},{"$f":"IF(D21=\"\",\"\",'Ranking Sheet'!Q21)","v":""}]
[11,{"$f":"'Rank Wkst'!B18","v":""},null,{"$f":"IF('Rank Wkst'!DL18=\"\", \"\", 'Rank Wkst'!DP18)","v":""},{"$f":"IF('Rank Wkst'!DL18=\"\", \"\", 'Rank Wkst'!DQ18)","v":""},{"$f":"IF('Rank Wkst'!DL18=\"\", \"\", 'Rank Wkst'!DR18)","v":""},{"$f":"IF('Rank Wkst'!DL18=\"\", \"\", 'Rank Wkst'!DS18)","v":""},{"$f":"IF('Rank Wkst'!DL18=\"\", \"\", 'Rank Wkst'!DT18)","v":""},{"$f":"IF('Rank Wkst'!DL18=\"\", \"\", 'Rank Wkst'!DU18)","v":""},{"$f":"IF('Rank Wkst'!DL18=\"\", \"\", 'Rank Wkst'!DV18)","v":""},{"$f":"IF('Rank Wkst'!DL18=\"\", \"\", 'Rank Wkst'!EA18)","v":""},{"$f":"IF('Rank Wkst'!DL18=\"\", \"\", 'Rank Wkst'!EB18)","v":""},{"$f":"IF('Rank Wkst'!DL18=\"\", \"\", 'Rank Wkst'!EC18)","v":""},{"$f":"IF('Rank Wkst'!DL18=\"\", \"\", 'Rank Wkst'!ED18)","v":""},{"$f":"IF('Rank Wkst'!DL18=\"\", \"\", 'Rank Wkst'!EE18)","v":""},{"$f":"IF('Rank Wkst'!DL18=\"\", \"\", 'Rank Wkst'!EF18)","v":""},{"$f":"IF('Rank Wkst'!DL18=\"\", \"\", 'Rank Wkst'!EG18)","v":""},{"$f":"IF(D22=\"\",\"\",'Ranking Sheet'!Q22)","v":""}]
[12,{"$f":"'Rank Wkst'!B19","v":""},null,{"$f":"IF('Rank Wkst'!DL19=\"\", \"\", 'Rank Wkst'!DP19)","v":""},{"$f":"IF('Rank Wkst'!DL19=\"\", \"\", 'Rank Wkst'!DQ19)","v":""},{"$f":"IF('Rank Wkst'!DL19=\"\", \"\", 'Rank Wkst'!DR19)","v":""},{"$f":"IF('Rank Wkst'!DL19=\"\", \"\", 'Rank Wkst'!DS19)","v":""},{"$f":"IF('Rank Wkst'!DL19=\"\", \"\", 'Rank Wkst'!DT19)","v":""},{"$f":"IF('Rank Wkst'!DL19=\"\", \"\", 'Rank Wkst'!DU19)","v":""},{"$f":"IF('Rank Wkst'!DL19=\"\", \"\", 'Rank Wkst'!DV19)","v":""},{"$f":"IF('Rank Wkst'!DL19=\"\", \"\", 'Rank Wkst'!EA19)","v":""},{"$f":"IF('Rank Wkst'!DL19=\"\", \"\", 'Rank Wkst'!EB19)","v":""},{"$f":"IF('Rank Wkst'!DL19=\"\", \"\", 'Rank Wkst'!EC19)","v":""},{"$f":"IF('Rank Wkst'!DL19=\"\", \"\", 'Rank Wkst'!ED19)","v":""},{"$f":"IF('Rank Wkst'!DL19=\"\", \"\", 'Rank Wkst'!EE19)","v":""},{"$f":"IF('Rank Wkst'!DL19=\"\", \"\", 'Rank Wkst'!EF19)","v":""},{"$f":"IF('Rank Wkst'!DL19=\"\", \"\", 'Rank Wkst'!EG19)","v":""},{"$f":"IF(D23=\"\",\"\",'Ranking Sheet'!Q23)","v":""}]
[13,{"$f":"'Rank Wkst'!B20","v":""},null,{"$f":"IF('Rank Wkst'!DL20=\"\", \"\", 'Rank Wkst'!DP20)","v":""},{"$f":"IF('Rank Wkst'!DL20=\"\", \"\", 'Rank Wkst'!DQ20)","v":""},{"$f":"IF('Rank Wkst'!DL20=\"\", \"\", 'Rank Wkst'!DR20)","v":""},{"$f":"IF('Rank Wkst'!DL20=\"\", \"\", 'Rank Wkst'!DS20)","v":""},{"$f":"IF('Rank Wkst'!DL20=\"\", \"\", 'Rank Wkst'!DT20)","v":""},{"$f":"IF('Rank Wkst'!DL20=\"\", \"\", 'Rank Wkst'!DU20)","v":""},{"$f":"IF('Rank Wkst'!DL20=\"\", \"\", 'Rank Wkst'!DV20)","v":""},{"$f":"IF('Rank Wkst'!DL20=\"\", \"\", 'Rank Wkst'!EA20)","v":""},{"$f":"IF('Rank Wkst'!DL20=\"\", \"\", 'Rank Wkst'!EB20)","v":""},{"$f":"IF('Rank Wkst'!DL20=\"\", \"\", 'Rank Wkst'!EC20)","v":""},{"$f":"IF('Rank Wkst'!DL20=\"\", \"\", 'Rank Wkst'!ED20)","v":""},{"$f":"IF('Rank Wkst'!DL20=\"\", \"\", 'Rank Wkst'!EE20)","v":""},{"$f":"IF('Rank Wkst'!DL20=\"\", \"\", 'Rank Wkst'!EF20)","v":""},{"$f":"IF('Rank Wkst'!DL20=\"\", \"\", 'Rank Wkst'!EG20)","v":""},{"$f":"IF(D24=\"\",\"\",'Ranking Sheet'!Q24)","v":""}]
[14,{"$f":"'Rank Wkst'!B21","v":""},null,{"$f":"IF('Rank Wkst'!DL21=\"\", \"\", 'Rank Wkst'!DP21)","v":""},{"$f":"IF('Rank Wkst'!DL21=\"\", \"\", 'Rank Wkst'!DQ21)","v":""},{"$f":"IF('Rank Wkst'!DL21=\"\", \"\", 'Rank Wkst'!DR21)","v":""},{"$f":"IF('Rank Wkst'!DL21=\"\", \"\", 'Rank Wkst'!DS21)","v":""},{"$f":"IF('Rank Wkst'!DL21=\"\", \"\", 'Rank Wkst'!DT21)","v":""},{"$f":"IF('Rank Wkst'!DL21=\"\", \"\", 'Rank Wkst'!DU21)","v":""},{"$f":"IF('Rank Wkst'!DL21=\"\", \"\", 'Rank Wkst'!DV21)","v":""},{"$f":"IF('Rank Wkst'!DL21=\"\", \"\", 'Rank Wkst'!EA21)","v":""},{"$f":"IF('Rank Wkst'!DL21=\"\", \"\", 'Rank Wkst'!EB21)","v":""},{"$f":"IF('Rank Wkst'!DL21=\"\", \"\", 'Rank Wkst'!EC21)","v":""},{"$f":"IF('Rank Wkst'!DL21=\"\", \"\", 'Rank Wkst'!ED21)","v":""},{"$f":"IF('Rank Wkst'!DL21=\"\", \"\", 'Rank Wkst'!EE21)","v":""},{"$f":"IF('Rank Wkst'!DL21=\"\", \"\", 'Rank Wkst'!EF21)","v":""},{"$f":"IF('Rank Wkst'!DL21=\"\", \"\", 'Rank Wkst'!EG21)","v":""},{"$f":"IF(D25=\"\",\"\",'Ranking Sheet'!Q25)","v":""}]
[15,{"$f":"'Rank Wkst'!B22","v":""},null,{"$f":"IF('Rank Wkst'!DL22=\"\", \"\", 'Rank Wkst'!DP22)","v":""},{"$f":"IF('Rank Wkst'!DL22=\"\", \"\", 'Rank Wkst'!DQ22)","v":""},{"$f":"IF('Rank Wkst'!DL22=\"\", \"\", 'Rank Wkst'!DR22)","v":""},{"$f":"IF('Rank Wkst'!DL22=\"\", \"\", 'Rank Wkst'!DS22)","v":""},{"$f":"IF('Rank Wkst'!DL22=\"\", \"\", 'Rank Wkst'!DT22)","v":""},{"$f":"IF('Rank Wkst'!DL22=\"\", \"\", 'Rank Wkst'!DU22)","v":""},{"$f":"IF('Rank Wkst'!DL22=\"\", \"\", 'Rank Wkst'!DV22)","v":""},{"$f":"IF('Rank Wkst'!DL22=\"\", \"\", 'Rank Wkst'!EA22)","v":""},{"$f":"IF('Rank Wkst'!DL22=\"\", \"\", 'Rank Wkst'!EB22)","v":""},{"$f":"IF('Rank Wkst'!DL22=\"\", \"\", 'Rank Wkst'!EC22)","v":""},{"$f":"IF('Rank Wkst'!DL22=\"\", \"\", 'Rank Wkst'!ED22)","v":""},{"$f":"IF('Rank Wkst'!DL22=\"\", \"\", 'Rank Wkst'!EE22)","v":""},{"$f":"IF('Rank Wkst'!DL22=\"\", \"\", 'Rank Wkst'!EF22)","v":""},{"$f":"IF('Rank Wkst'!DL22=\"\", \"\", 'Rank Wkst'!EG22)","v":""},{"$f":"IF(D26=\"\",\"\",'Ranking Sheet'!Q26)","v":""}]
[16,{"$f":"'Rank Wkst'!B23","v":""},null,{"$f":"IF('Rank Wkst'!DL23=\"\", \"\", 'Rank Wkst'!DP23)","v":""},{"$f":"IF('Rank Wkst'!DL23=\"\", \"\", 'Rank Wkst'!DQ23)","v":""},{"$f":"IF('Rank Wkst'!DL23=\"\", \"\", 'Rank Wkst'!DR23)","v":""},{"$f":"IF('Rank Wkst'!DL23=\"\", \"\", 'Rank Wkst'!DS23)","v":""},{"$f":"IF('Rank Wkst'!DL23=\"\", \"\", 'Rank Wkst'!DT23)","v":""},{"$f":"IF('Rank Wkst'!DL23=\"\", \"\", 'Rank Wkst'!DU23)","v":""},{"$f":"IF('Rank Wkst'!DL23=\"\", \"\", 'Rank Wkst'!DV23)","v":""},{"$f":"IF('Rank Wkst'!DL23=\"\", \"\", 'Rank Wkst'!EA23)","v":""},{"$f":"IF('Rank Wkst'!DL23=\"\", \"\", 'Rank Wkst'!EB23)","v":""},{"$f":"IF('Rank Wkst'!DL23=\"\", \"\", 'Rank Wkst'!EC23)","v":""},{"$f":"IF('Rank Wkst'!DL23=\"\", \"\", 'Rank Wkst'!ED23)","v":""},{"$f":"IF('Rank Wkst'!DL23=\"\", \"\", 'Rank Wkst'!EE23)","v":""},{"$f":"IF('Rank Wkst'!DL23=\"\", \"\", 'Rank Wkst'!EF23)","v":""},{"$f":"IF('Rank Wkst'!DL23=\"\", \"\", 'Rank Wkst'!EG23)","v":""},{"$f":"IF(D27=\"\",\"\",'Ranking Sheet'!Q27)","v":""}]
[17,{"$f":"'Rank Wkst'!B24","v":""},null,{"$f":"IF('Rank Wkst'!DL24=\"\", \"\", 'Rank Wkst'!DP24)","v":""},{"$f":"IF('Rank Wkst'!DL24=\"\", \"\", 'Rank Wkst'!DQ24)","v":""},{"$f":"IF('Rank Wkst'!DL24=\"\", \"\", 'Rank Wkst'!DR24)","v":""},{"$f":"IF('Rank Wkst'!DL24=\"\", \"\", 'Rank Wkst'!DS24)","v":""},{"$f":"IF('Rank Wkst'!DL24=\"\", \"\", 'Rank Wkst'!DT24)","v":""},{"$f":"IF('Rank Wkst'!DL24=\"\", \"\", 'Rank Wkst'!DU24)","v":""},{"$f":"IF('Rank Wkst'!DL24=\"\", \"\", 'Rank Wkst'!DV24)","v":""},{"$f":"IF('Rank Wkst'!DL24=\"\", \"\", 'Rank Wkst'!EA24)","v":""},{"$f":"IF('Rank Wkst'!DL24=\"\", \"\", 'Rank Wkst'!EB24)","v":""},{"$f":"IF('Rank Wkst'!DL24=\"\", \"\", 'Rank Wkst'!EC24)","v":""},{"$f":"IF('Rank Wkst'!DL24=\"\", \"\", 'Rank Wkst'!ED24)","v":""},{"$f":"IF('Rank Wkst'!DL24=\"\", \"\", 'Rank Wkst'!EE24)","v":""},{"$f":"IF('Rank Wkst'!DL24=\"\", \"\", 'Rank Wkst'!EF24)","v":""},{"$f":"IF('Rank Wkst'!DL24=\"\", \"\", 'Rank Wkst'!EG24)","v":""},{"$f":"IF(D28=\"\",\"\",'Ranking Sheet'!Q28)","v":""}]
[18,{"$f":"'Rank Wkst'!B25","v":""},null,{"$f":"IF('Rank Wkst'!DL25=\"\", \"\", 'Rank Wkst'!DP25)","v":""},{"$f":"IF('Rank Wkst'!DL25=\"\", \"\", 'Rank Wkst'!DQ25)","v":""},{"$f":"IF('Rank Wkst'!DL25=\"\", \"\", 'Rank Wkst'!DR25)","v":""},{"$f":"IF('Rank Wkst'!DL25=\"\", \"\", 'Rank Wkst'!DS25)","v":""},{"$f":"IF('Rank Wkst'!DL25=\"\", \"\", 'Rank Wkst'!DT25)","v":""},{"$f":"IF('Rank Wkst'!DL25=\"\", \"\", 'Rank Wkst'!DU25)","v":""},{"$f":"IF('Rank Wkst'!DL25=\"\", \"\", 'Rank Wkst'!DV25)","v":""},{"$f":"IF('Rank Wkst'!DL25=\"\", \"\", 'Rank Wkst'!EA25)","v":""},{"$f":"IF('Rank Wkst'!DL25=\"\", \"\", 'Rank Wkst'!EB25)","v":""},{"$f":"IF('Rank Wkst'!DL25=\"\", \"\", 'Rank Wkst'!EC25)","v":""},{"$f":"IF('Rank Wkst'!DL25=\"\", \"\", 'Rank Wkst'!ED25)","v":""},{"$f":"IF('Rank Wkst'!DL25=\"\", \"\", 'Rank Wkst'!EE25)","v":""},{"$f":"IF('Rank Wkst'!DL25=\"\", \"\", 'Rank Wkst'!EF25)","v":""},{"$f":"IF('Rank Wkst'!DL25=\"\", \"\", 'Rank Wkst'!EG25)","v":""},{"$f":"IF(D29=\"\",\"\",'Ranking Sheet'!Q29)","v":""}]
[19,{"$f":"'Rank Wkst'!B26","v":""},null,{"$f":"IF('Rank Wkst'!DL26=\"\", \"\", 'Rank Wkst'!DP26)","v":""},{"$f":"IF('Rank Wkst'!DL26=\"\", \"\", 'Rank Wkst'!DQ26)","v":""},{"$f":"IF('Rank Wkst'!DL26=\"\", \"\", 'Rank Wkst'!DR26)","v":""},{"$f":"IF('Rank Wkst'!DL26=\"\", \"\", 'Rank Wkst'!DS26)","v":""},{"$f":"IF('Rank Wkst'!DL26=\"\", \"\", 'Rank Wkst'!DT26)","v":""},{"$f":"IF('Rank Wkst'!DL26=\"\", \"\", 'Rank Wkst'!DU26)","v":""},{"$f":"IF('Rank Wkst'!DL26=\"\", \"\", 'Rank Wkst'!DV26)","v":""},{"$f":"IF('Rank Wkst'!DL26=\"\", \"\", 'Rank Wkst'!EA26)","v":""},{"$f":"IF('Rank Wkst'!DL26=\"\", \"\", 'Rank Wkst'!EB26)","v":""},{"$f":"IF('Rank Wkst'!DL26=\"\", \"\", 'Rank Wkst'!EC26)","v":""},{"$f":"IF('Rank Wkst'!DL26=\"\", \"\", 'Rank Wkst'!ED26)","v":""},{"$f":"IF('Rank Wkst'!DL26=\"\", \"\", 'Rank Wkst'!EE26)","v":""},{"$f":"IF('Rank Wkst'!DL26=\"\", \"\", 'Rank Wkst'!EF26)","v":""},{"$f":"IF('Rank Wkst'!DL26=\"\", \"\", 'Rank Wkst'!EG26)","v":""},{"$f":"IF(D30=\"\",\"\",'Ranking Sheet'!Q30)","v":""}]
[20,{"$f":"'Rank Wkst'!B27","v":""},null,{"$f":"IF('Rank Wkst'!DL27=\"\", \"\", 'Rank Wkst'!DP27)","v":""},{"$f":"IF('Rank Wkst'!DL27=\"\", \"\", 'Rank Wkst'!DQ27)","v":""},{"$f":"IF('Rank Wkst'!DL27=\"\", \"\", 'Rank Wkst'!DR27)","v":""},{"$f":"IF('Rank Wkst'!DL27=\"\", \"\", 'Rank Wkst'!DS27)","v":""},{"$f":"IF('Rank Wkst'!DL27=\"\", \"\", 'Rank Wkst'!DT27)","v":""},{"$f":"IF('Rank Wkst'!DL27=\"\", \"\", 'Rank Wkst'!DU27)","v":""},{"$f":"IF('Rank Wkst'!DL27=\"\", \"\", 'Rank Wkst'!DV27)","v":""},{"$f":"IF('Rank Wkst'!DL27=\"\", \"\", 'Rank Wkst'!EA27)","v":""},{"$f":"IF('Rank Wkst'!DL27=\"\", \"\", 'Rank Wkst'!EB27)","v":""},{"$f":"IF('Rank Wkst'!DL27=\"\", \"\", 'Rank Wkst'!EC27)","v":""},{"$f":"IF('Rank Wkst'!DL27=\"\", \"\", 'Rank Wkst'!ED27)","v":""},{"$f":"IF('Rank Wkst'!DL27=\"\", \"\", 'Rank Wkst'!EE27)","v":""},{"$f":"IF('Rank Wkst'!DL27=\"\", \"\", 'Rank Wkst'!EF27)","v":""},{"$f":"IF('Rank Wkst'!DL27=\"\", \"\", 'Rank Wkst'!EG27)","v":""},{"$f":"IF(D31=\"\",\"\",'Ranking Sheet'!Q31)","v":""}]
[21,{"$f":"'Rank Wkst'!B28","v":""},null,{"$f":"IF('Rank Wkst'!DL28=\"\", \"\", 'Rank Wkst'!DP28)","v":""},{"$f":"IF('Rank Wkst'!DL28=\"\", \"\", 'Rank Wkst'!DQ28)","v":""},{"$f":"IF('Rank Wkst'!DL28=\"\", \"\", 'Rank Wkst'!DR28)","v":""},{"$f":"IF('Rank Wkst'!DL28=\"\", \"\", 'Rank Wkst'!DS28)","v":""},{"$f":"IF('Rank Wkst'!DL28=\"\", \"\", 'Rank Wkst'!DT28)","v":""},{"$f":"IF('Rank Wkst'!DL28=\"\", \"\", 'Rank Wkst'!DU28)","v":""},{"$f":"IF('Rank Wkst'!DL28=\"\", \"\", 'Rank Wkst'!DV28)","v":""},{"$f":"IF('Rank Wkst'!DL28=\"\", \"\", 'Rank Wkst'!EA28)","v":""},{"$f":"IF('Rank Wkst'!DL28=\"\", \"\", 'Rank Wkst'!EB28)","v":""},{"$f":"IF('Rank Wkst'!DL28=\"\", \"\", 'Rank Wkst'!EC28)","v":""},{"$f":"IF('Rank Wkst'!DL28=\"\", \"\", 'Rank Wkst'!ED28)","v":""},{"$f":"IF('Rank Wkst'!DL28=\"\", \"\", 'Rank Wkst'!EE28)","v":""},{"$f":"IF('Rank Wkst'!DL28=\"\", \"\", 'Rank Wkst'!EF28)","v":""},{"$f":"IF('Rank Wkst'!DL28=\"\", \"\", 'Rank Wkst'!EG28)","v":""},{"$f":"IF(D32=\"\",\"\",'Ranking Sheet'!Q32)","v":""}]
[22,{"$f":"'Rank Wkst'!B29","v":""},null,{"$f":"IF('Rank Wkst'!DL29=\"\", \"\", 'Rank Wkst'!DP29)","v":""},{"$f":"IF('Rank Wkst'!DL29=\"\", \"\", 'Rank Wkst'!DQ29)","v":""},{"$f":"IF('Rank Wkst'!DL29=\"\", \"\", 'Rank Wkst'!DR29)","v":""},{"$f":"IF('Rank Wkst'!DL29=\"\", \"\", 'Rank Wkst'!DS29)","v":""},{"$f":"IF('Rank Wkst'!DL29=\"\", \"\", 'Rank Wkst'!DT29)","v":""},{"$f":"IF('Rank Wkst'!DL29=\"\", \"\", 'Rank Wkst'!DU29)","v":""},{"$f":"IF('Rank Wkst'!DL29=\"\", \"\", 'Rank Wkst'!DV29)","v":""},{"$f":"IF('Rank Wkst'!DL29=\"\", \"\", 'Rank Wkst'!EA29)","v":""},{"$f":"IF('Rank Wkst'!DL29=\"\", \"\", 'Rank Wkst'!EB29)","v":""},{"$f":"IF('Rank Wkst'!DL29=\"\", \"\", 'Rank Wkst'!EC29)","v":""},{"$f":"IF('Rank Wkst'!DL29=\"\", \"\", 'Rank Wkst'!ED29)","v":""},{"$f":"IF('Rank Wkst'!DL29=\"\", \"\", 'Rank Wkst'!EE29)","v":""},{"$f":"IF('Rank Wkst'!DL29=\"\", \"\", 'Rank Wkst'!EF29)","v":""},{"$f":"IF('Rank Wkst'!DL29=\"\", \"\", 'Rank Wkst'!EG29)","v":""},{"$f":"IF(D33=\"\",\"\",'Ranking Sheet'!Q33)","v":""}]
[23,{"$f":"'Rank Wkst'!B30","v":""},null,{"$f":"IF('Rank Wkst'!DL30=\"\", \"\", 'Rank Wkst'!DP30)","v":""},{"$f":"IF('Rank Wkst'!DL30=\"\", \"\", 'Rank Wkst'!DQ30)","v":""},{"$f":"IF('Rank Wkst'!DL30=\"\", \"\", 'Rank Wkst'!DR30)","v":""},{"$f":"IF('Rank Wkst'!DL30=\"\", \"\", 'Rank Wkst'!DS30)","v":""},{"$f":"IF('Rank Wkst'!DL30=\"\", \"\", 'Rank Wkst'!DT30)","v":""},{"$f":"IF('Rank Wkst'!DL30=\"\", \"\", 'Rank Wkst'!DU30)","v":""},{"$f":"IF('Rank Wkst'!DL30=\"\", \"\", 'Rank Wkst'!DV30)","v":""},{"$f":"IF('Rank Wkst'!DL30=\"\", \"\", 'Rank Wkst'!EA30)","v":""},{"$f":"IF('Rank Wkst'!DL30=\"\", \"\", 'Rank Wkst'!EB30)","v":""},{"$f":"IF('Rank Wkst'!DL30=\"\", \"\", 'Rank Wkst'!EC30)","v":""},{"$f":"IF('Rank Wkst'!DL30=\"\", \"\", 'Rank Wkst'!ED30)","v":""},{"$f":"IF('Rank Wkst'!DL30=\"\", \"\", 'Rank Wkst'!EE30)","v":""},{"$f":"IF('Rank Wkst'!DL30=\"\", \"\", 'Rank Wkst'!EF30)","v":""},{"$f":"IF('Rank Wkst'!DL30=\"\", \"\", 'Rank Wkst'!EG30)","v":""},{"$f":"IF(D34=\"\",\"\",'Ranking Sheet'!Q34)","v":""}]
[24,{"$f":"'Rank Wkst'!B31","v":""},null,{"$f":"IF('Rank Wkst'!DL31=\"\", \"\", 'Rank Wkst'!DP31)","v":""},{"$f":"IF('Rank Wkst'!DL31=\"\", \"\", 'Rank Wkst'!DQ31)","v":""},{"$f":"IF('Rank Wkst'!DL31=\"\", \"\", 'Rank Wkst'!DR31)","v":""},{"$f":"IF('Rank Wkst'!DL31=\"\", \"\", 'Rank Wkst'!DS31)","v":""},{"$f":"IF('Rank Wkst'!DL31=\"\", \"\", 'Rank Wkst'!DT31)","v":""},{"$f":"IF('Rank Wkst'!DL31=\"\", \"\", 'Rank Wkst'!DU31)","v":""},{"$f":"IF('Rank Wkst'!DL31=\"\", \"\", 'Rank Wkst'!DV31)","v":""},{"$f":"IF('Rank Wkst'!DL31=\"\", \"\", 'Rank Wkst'!EA31)","v":""},{"$f":"IF('Rank Wkst'!DL31=\"\", \"\", 'Rank Wkst'!EB31)","v":""},{"$f":"IF('Rank Wkst'!DL31=\"\", \"\", 'Rank Wkst'!EC31)","v":""},{"$f":"IF('Rank Wkst'!DL31=\"\", \"\", 'Rank Wkst'!ED31)","v":""},{"$f":"IF('Rank Wkst'!DL31=\"\", \"\", 'Rank Wkst'!EE31)","v":""},{"$f":"IF('Rank Wkst'!DL31=\"\", \"\", 'Rank Wkst'!EF31)","v":""},{"$f":"IF('Rank Wkst'!DL31=\"\", \"\", 'Rank Wkst'!EG31)","v":""},{"$f":"IF(D35=\"\",\"\",'Ranking Sheet'!Q35)","v":""}]

{"sheet":"Score Summary","index":30,"n_rows":47,"n_cols":8,"rows_kept":47,"cut":false,"hidden":false,"merged":[[46,1,46,2],[38,1,38,2],[39,1,39,2],[40,1,40,2],[41,1,41,2],[13,0,13,7],[15,0,15,7],[17,0,17,7],[44,1,44,2],[45,1,45,2],[31,1,31,2],[42,1,42,2],[43,1,43,2],[32,1,32,2],[33,1,33,2],[34,1,34,2],[35,1,35,2],[36,1,36,2],[37,1,37,2],[26,1,26,2],[27,1,27,2],[28,1,28,2],[29,1,29,2],[30,1,30,2],[21,0,21,3],[21,4,21,7],[23,1,23,2],[24,1,24,2],[25,1,25,2],[22,1,22,3],[11,0,11,7],[1,0,1,7],[2,0,2,7],[4,0,4,1],[4,5,4,7],[6,0,6,1],[6,5,6,7]]}
[]
["Minnesota State High School League Dance Team Competition"]
["Team Scoring Summary"]
[]
["MEET DATE:",null,{"$f":"IF(DATE=0, \"\", DATE)","v":""},null,"MEET SITE:",{"$f":"IF(Site=0, \"\", Site)","v":""}]
[]
["CLASS:",null,{"$f":"IF(Class=0, \"\", Class)","v":""},null,"CATEGORY:",{"$f":"CATEGORY","v":"High Kick Category"}]
[]
["Announcers - Please read the following:"]
["May I please have your attention: "]
[]
["At today/tonight’s competition we are piloting a system, which will allow us to periodically share results during this event."]
[]
["Judges scores are used to determine ranked placements and, in final tabulation, ranks are used to determine the final placements."]
[]
["The scores announced during the competition are the total points scored by each official and will be read from the lowest score to the highest score for each performance.  Teams have not yet been ranked.  The final results will be based on rank, not on these point totals."]
[]
["This is informational only and our way of sharing how each team is scoring as the meet progresses."]
[]
[]
[]
[null,null,null,null,"Team Scores (Lowest to Highest)"]
["Team","School",null,null,"Score 1","Score 2","Score 3","Score 4"]
[1,{"$f":"'Rank Wkst'!CR8","v":""},null,null,{"$f":"'Rank Wkst'!CW8","v":""},{"$f":"'Rank Wkst'!CX8","v":""},{"$f":"'Rank Wkst'!CY8","v":""},{"$f":"'Rank Wkst'!CZ8","v":""}]
[2,{"$f":"'Rank Wkst'!CR9","v":""},null,null,{"$f":"'Rank Wkst'!CW9","v":""},{"$f":"'Rank Wkst'!CX9","v":""},{"$f":"'Rank Wkst'!CY9","v":""},{"$f":"'Rank Wkst'!CZ9","v":""}]
[3,{"$f":"'Rank Wkst'!CR10","v":""},null,null,{"$f":"'Rank Wkst'!CW10","v":""},{"$f":"'Rank Wkst'!CX10","v":""},{"$f":"'Rank Wkst'!CY10","v":""},{"$f":"'Rank Wkst'!CZ10","v":""}]
[4,{"$f":"'Rank Wkst'!CR11","v":""},null,null,{"$f":"'Rank Wkst'!CW11","v":""},{"$f":"'Rank Wkst'!CX11","v":""},{"$f":"'Rank Wkst'!CY11","v":""},{"$f":"'Rank Wkst'!CZ11","v":""}]
[5,{"$f":"'Rank Wkst'!CR12","v":""},null,null,{"$f":"'Rank Wkst'!CW12","v":""},{"$f":"'Rank Wkst'!CX12","v":""},{"$f":"'Rank Wkst'!CY12","v":""},{"$f":"'Rank Wkst'!CZ12","v":""}]
[6,{"$f":"'Rank Wkst'!CR13","v":""},null,null,{"$f":"'Rank Wkst'!CW13","v":""},{"$f":"'Rank Wkst'!CX13","v":""},{"$f":"'Rank Wkst'!CY13","v":""},{"$f":"'Rank Wkst'!CZ13","v":""}]
[7,{"$f":"'Rank Wkst'!CR14","v":""},null,null,{"$f":"'Rank Wkst'!CW14","v":""},{"$f":"'Rank Wkst'!CX14","v":""},{"$f":"'Rank Wkst'!CY14","v":""},{"$f":"'Rank Wkst'!CZ14","v":""}]
[8,{"$f":"'Rank Wkst'!CR15","v":""},null,null,{"$f":"'Rank Wkst'!CW15","v":""},{"$f":"'Rank Wkst'!CX15","v":""},{"$f":"'Rank Wkst'!CY15","v":""},{"$f":"'Rank Wkst'!CZ15","v":""}]
[9,{"$f":"'Rank Wkst'!CR16","v":""},null,null,{"$f":"'Rank Wkst'!CW16","v":""},{"$f":"'Rank Wkst'!CX16","v":""},{"$f":"'Rank Wkst'!CY16","v":""},{"$f":"'Rank Wkst'!CZ16","v":""}]
[10,{"$f":"'Rank Wkst'!CR17","v":""},null,null,{"$f":"'Rank Wkst'!CW17","v":""},{"$f":"'Rank Wkst'!CX17","v":""},{"$f":"'Rank Wkst'!CY17","v":""},{"$f":"'Rank Wkst'!CZ17","v":""}]
[11,{"$f":"'Rank Wkst'!CR18","v":""},null,null,{"$f":"'Rank Wkst'!CW18","v":""},{"$f":"'Rank Wkst'!CX18","v":""},{"$f":"'Rank Wkst'!CY18","v":""},{"$f":"'Rank Wkst'!CZ18","v":""}]
[12,{"$f":"'Rank Wkst'!CR19","v":""},null,null,{"$f":"'Rank Wkst'!CW19","v":""},{"$f":"'Rank Wkst'!CX19","v":""},{"$f":"'Rank Wkst'!CY19","v":""},{"$f":"'Rank Wkst'!CZ19","v":""}]
[13,{"$f":"'Rank Wkst'!CR20","v":""},null,null,{"$f":"'Rank Wkst'!CW20","v":""},{"$f":"'Rank Wkst'!CX20","v":""},{"$f":"'Rank Wkst'!CY20","v":""},{"$f":"'Rank Wkst'!CZ20","v":""}]
[14,{"$f":"'Rank Wkst'!CR21","v":""},null,null,{"$f":"'Rank Wkst'!CW21","v":""},{"$f":"'Rank Wkst'!CX21","v":""},{"$f":"'Rank Wkst'!CY21","v":""},{"$f":"'Rank Wkst'!CZ21","v":""}]
[15,{"$f":"'Rank Wkst'!CR22","v":""},null,null,{"$f":"'Rank Wkst'!CW22","v":""},{"$f":"'Rank Wkst'!CX22","v":""},{"$f":"'Rank Wkst'!CY22","v":""},{"$f":"'Rank Wkst'!CZ22","v":""}]
[16,{"$f":"'Rank Wkst'!CR23","v":""},null,null,{"$f":"'Rank Wkst'!CW23","v":""},{"$f":"'Rank Wkst'!CX23","v":""},{"$f":"'Rank Wkst'!CY23","v":""},{"$f":"'Rank Wkst'!CZ23","v":""}]
[17,{"$f":"'Rank Wkst'!CR24","v":""},null,null,{"$f":"'Rank Wkst'!CW24","v":""},{"$f":"'Rank Wkst'!CX24","v":""},{"$f":"'Rank Wkst'!CY24","v":""},{"$f":"'Rank Wkst'!CZ24","v":""}]
[18,{"$f":"'Rank Wkst'!CR25","v":""},null,null,{"$f":"'Rank Wkst'!CW25","v":""},{"$f":"'Rank Wkst'!CX25","v":""},{"$f":"'Rank Wkst'!CY25","v":""},{"$f":"'Rank Wkst'!CZ25","v":""}]
[19,{"$f":"'Rank Wkst'!CR26","v":""},null,null,{"$f":"'Rank Wkst'!CW26","v":""},{"$f":"'Rank Wkst'!CX26","v":""},{"$f":"'Rank Wkst'!CY26","v":""},{"$f":"'Rank Wkst'!CZ26","v":""}]
[20,{"$f":"'Rank Wkst'!CR27","v":""},null,null,{"$f":"'Rank Wkst'!CW27","v":""},{"$f":"'Rank Wkst'!CX27","v":""},{"$f":"'Rank Wkst'!CY27","v":""},{"$f":"'Rank Wkst'!CZ27","v":""}]
[21,{"$f":"'Rank Wkst'!CR28","v":""},null,null,{"$f":"'Rank Wkst'!CW28","v":""},{"$f":"'Rank Wkst'!CX28","v":""},{"$f":"'Rank Wkst'!CY28","v":""},{"$f":"'Rank Wkst'!CZ28","v":""}]
[22,{"$f":"'Rank Wkst'!CR29","v":""},null,null,{"$f":"'Rank Wkst'!CW29","v":""},{"$f":"'Rank Wkst'!CX29","v":""},{"$f":"'Rank Wkst'!CY29","v":""},{"$f":"'Rank Wkst'!CZ29","v":""}]
[23,{"$f":"'Rank Wkst'!CR30","v":""},null,null,{"$f":"'Rank Wkst'!CW30","v":""},{"$f":"'Rank Wkst'!CX30","v":""},{"$f":"'Rank Wkst'!CY30","v":""},{"$f":"'Rank Wkst'!CZ30","v":""}]
[24,{"$f":"'Rank Wkst'!CR31","v":""},null,null,{"$f":"'Rank Wkst'!CW31","v":""},{"$f":"'Rank Wkst'!CX31","v":""},{"$f":"'Rank Wkst'!CY31","v":""},{"$f":"'Rank Wkst'!CZ31","v":""}]

{"sheet":"Judges Names","index":31,"n_rows":12,"n_cols":4,"rows_kept":12,"cut":false,"hidden":false,"merged":[[1,1,1,3],[2,1,2,3],[5,2,5,3]]}
[]
[null,"Minnesota State High School League Dance Team Competition"]
[null,"Judges Initials and Names"]
[]
[null,"Meet Date:"]
[null,"Meet Site:"]
[]
[null,"Judge #","Judges Initials","Judge Name"]
[null,1]
[null,2]
[null,3]
[null,4]